Workbook

Sheet 操作說明
A1: TACD 家醫2.0 個案獎勵追蹤 Excel試算表 本試算表僅供參考，實際獎勵金額仍以官方公告為準。
A2: #VALUE! | B2: 【病人一覽表】 1. 將 8 月 2 日上傳至大家醫平台的「委派」與「自收」病患清單複製，貼入「病患一覽表」的 A 欄至 P 欄（欄位順序與原始下載表格相同）。 2. 貼上後，Q 欄會自動判斷病患的疾病組合及應達標項目（不需檢驗的項目會自動顯示「不適用」）。
A3: #VALUE! | B3: 【檢驗原始資料取得】 1. 登入「健保資訊網服務系統」，點擊右下角的「大家醫平台」進行院所登入。
A5: #VALUE! | B5: 1. 進入「個案健康管理列表」，勾選「全部」收案名單（包含各疾病樣態與非 P4P 個案）。
A7: #VALUE! | B7: 1. 點選「下載表格」，取得最新的檢驗數據。為確保每一次檢驗資料都可以被包含在下載資料中，請診所每個月固定日期下載檔案。
A9: #VALUE! | B9: 【檢驗原始資料輸入】 1. 以「累加」方式貼入：平台每月僅顯示最新一次檢驗，因此每月下載後請直接往下累加貼上，切勿覆蓋舊資料，以利計算全年檢驗次數與間隔。 2. 欄位保留：姓名欄可留白或刪除，但「身分證字號」務必保留以供系統比對。
A11: #VALUE! | B11: 【檢驗原始資料輸入】 1. 補充「匯入月份」：在資料最後一欄填寫匯入年月（格式為 西元年-月份，例如：2026-01）。 2. 補充「血壓 (BP)」（選填）：若系統未自動帶出，院所可評估人力手動填寫（填寫格式如 2026-01）；未填寫僅影響血壓次數判定，不影響其他檢驗項目
A13: #VALUE! | B13: 【診所總覽】 可確認目前診所內所有病患達標狀況以及點數取得進度。
A15: #VALUE! | B15: 【達標一覽表】 追蹤檢驗明細：可分別查看 HbA1c、LDL、UACR 的數值區間；橘色區塊為「檢驗次數達標」判定（需完成所有規定次數才算達標；若次數達標但數值未達標，整體仍判定為未達標）。
A17: 資料格式FAQ
A18: Q1: 目前檔案中的資料是否可以刪除？ | B18: A1： 可以，目前資料表中的資料皆為假擬使用者資料（Mock User Data），使用前可以先行刪除
A20: Q2: 如果我現在手邊的資料格式跟示範案例不同的話可以使用嗎？ | B20: A2：不行。請務必確保輸入資料格式與樣本格式相同，常見不同資料格式的處理方法可參考下方說明
B21: 常見狀況一：資料格式內有其他符號。 處理方式：請按下「Ctrl + H」，在尋找(Find what)欄位輸入該符號，並保持取代(Replace with)留白後按下取代全部(Replace All)。 | C21: #VALUE!
B22: 常見狀況二：資料格式有其他呈現方式，例如日期或是時間 處理方式：請按下「Ctrl + 1」，點選數字(Number)後選擇符合本資料表可以判讀的格式，或是在樣本(Sample)的地方填上本表的格式 (MM/DD/YYYY) | C22: #VALUE!

Sheet 病人一覽表
A1: 院所ID | B1: 身分證號 | C1: 生日 | D1: 個案類別 | E1: 論質名單 | F1: 65歲以上多重慢性病註記 | G1: 高診次註記 | H1: 慢性病註記 | I1: 非慢性病註記 | J1: 與前一年家醫收案診所相同 | K1: 疾病樣態 | L1: ASCVD | M1: 三高 | N1: 高血壓 | O1: 高血脂 | P1: 高血糖 | Q1: 疾病組合 | R1: LDL達標標準 | S1: HbA1c達標標準 | T1: UACR達標標準 | U1: BP檢驗次數達標標準
A2: 25030042 | B2: A24104**** | C2: 030/03/11 | D2: 2b | E2: 0 | F2: 0 | G2: 0 | H2: 0 | I2: 0 | J2: 2 | K2: 3 | L2: a | M2: 1 | N2: 1 | O2: 1 | P2: 1 | Q2: =IF(COUNTA(PatientCriteria[[#This Row],[院所ID]:[高血糖]])=0,"",IF(PatientCriteria[[#This Row],[疾病樣態]]=1,IF(OR(PatientCriteria[[#This Row],[ASCVD]]="a",PatientCriteria[[#This Row],[ASCVD]]="b"),"DM+ASCVD","DM only"),IF(PatientCriteria[[#This Row],[疾病樣態]]=2,IF(OR(PatientCriteria[[#This Row],[ASCVD]]="a",PatientCriteria[[#This Row],[ASCVD]]="b"),"CKD+ASCVD","CKD only"),IF(PatientCriteria[[#This Row],[疾病樣態]]=3,IF(OR(PatientCriteria[[#This Row],[ASCVD]]="a",PatientCriteria[[#This Row],[ASCVD]]="b"),"DM+CKD+ASCVD","DM+CKD"),IF(PatientCriteria[[#This Row],[疾病樣態]]=4,IF(OR(PatientCriteria[[#This Row],[ASCVD]]="a",PatientCriteria[[#This Row],[ASCVD]]="b"),"ASCVD only","無特定分類"),"未知"))))) -> DM+CKD+ASCVD | R2: =IF(COUNTA(PatientCriteria[[#This Row],[院所ID]:[高血糖]])=0,"",IF(PatientCriteria[[#This Row],[疾病組合]]="無特定分類","不適用",IF(PatientCriteria[[#This Row],[疾病組合]]="DM only","<100",IF(PatientCriteria[[#This Row],[疾病組合]]="CKD only","<130",IF(PatientCriteria[[#This Row],[疾病組合]]="DM+CKD","<100",IF(OR(PatientCriteria[[#This Row],[疾病組合]]="ASCVD only",PatientCriteria[[#This Row],[疾病組合]]="CKD+ASCVD",PatientCriteria[[#This Row],[疾病組合]]="DM+ASCVD",PatientCriteria[[#This Row],[疾病組合]]="DM+CKD+ASCVD"),IF(PatientCriteria[[#This Row],[ASCVD]]="b","<55",IF(PatientCriteria[[#This Row],[ASCVD]]="a","<70","不適用")),"不適用")))))) -> <70 | S2: =IF(COUNTA(PatientCriteria[[#This Row],[院所ID]:[高血糖]])=0,"",IF(OR(PatientCriteria[[#This Row],[疾病組合]]="DM only",PatientCriteria[[#This Row],[疾病組合]]="DM+CKD",PatientCriteria[[#This Row],[疾病組合]]="DM+ASCVD",PatientCriteria[[#This Row],[疾病組合]]="DM+CKD+ASCVD"),IF(DATEDIF(DATE(1911+VALUE(LEFT(PatientCriteria[[#This Row],[生日]],3)),VALUE(MID(PatientCriteria[[#This Row],[生日]],5,2)),VALUE(RIGHT(PatientCriteria[[#This Row],[生日]],2))),TODAY(),"Y")>=80,"<8%","<7%"),"不適用")) -> <8% | T2: =IF(COUNTA(PatientCriteria[[#This Row],[院所ID]:[高血糖]])=0,"",IF(OR(PatientCriteria[[#This Row],[疾病組合]]="CKD only",PatientCriteria[[#This Row],[疾病組合]]="DM+CKD",PatientCriteria[[#This Row],[疾病組合]]="CKD+ASCVD",PatientCriteria[[#This Row],[疾病組合]]="DM+CKD+ASCVD"),"<30 mg/g","不適用")) -> <30 mg/g | U2: =IF(COUNTA(PatientCriteria[[#This Row],[院所ID]:[高血糖]])=0,"",IF(PatientCriteria[[#This Row],[高血壓]]=1,"3次","不適用")) -> 3次
A3: 25030042 | B3: C22666**** | C3: 031/04/01 | D3: 2b | E3: 1 | F3: 0 | G3: 1 | H3: 0 | I3: 0 | J3: 1 | K3: 3 | L3: b | M3: 1 | N3: 1 | O3: 1 | P3: 1 | Q3: =IF(COUNTA(PatientCriteria[[#This Row],[院所ID]:[高血糖]])=0,"",IF(PatientCriteria[[#This Row],[疾病樣態]]=1,IF(OR(PatientCriteria[[#This Row],[ASCVD]]="a",PatientCriteria[[#This Row],[ASCVD]]="b"),"DM+ASCVD","DM only"),IF(PatientCriteria[[#This Row],[疾病樣態]]=2,IF(OR(PatientCriteria[[#This Row],[ASCVD]]="a",PatientCriteria[[#This Row],[ASCVD]]="b"),"CKD+ASCVD","CKD only"),IF(PatientCriteria[[#This Row],[疾病樣態]]=3,IF(OR(PatientCriteria[[#This Row],[ASCVD]]="a",PatientCriteria[[#This Row],[ASCVD]]="b"),"DM+CKD+ASCVD","DM+CKD"),IF(PatientCriteria[[#This Row],[疾病樣態]]=4,IF(OR(PatientCriteria[[#This Row],[ASCVD]]="a",PatientCriteria[[#This Row],[ASCVD]]="b"),"ASCVD only","無特定分類"),"未知"))))) -> DM+CKD+ASCVD | R3: =IF(COUNTA(PatientCriteria[[#This Row],[院所ID]:[高血糖]])=0,"",IF(PatientCriteria[[#This Row],[疾病組合]]="無特定分類","不適用",IF(PatientCriteria[[#This Row],[疾病組合]]="DM only","<100",IF(PatientCriteria[[#This Row],[疾病組合]]="CKD only","<130",IF(PatientCriteria[[#This Row],[疾病組合]]="DM+CKD","<100",IF(OR(PatientCriteria[[#This Row],[疾病組合]]="ASCVD only",PatientCriteria[[#This Row],[疾病組合]]="CKD+ASCVD",PatientCriteria[[#This Row],[疾病組合]]="DM+ASCVD",PatientCriteria[[#This Row],[疾病組合]]="DM+CKD+ASCVD"),IF(PatientCriteria[[#This Row],[ASCVD]]="b","<55",IF(PatientCriteria[[#This Row],[ASCVD]]="a","<70","不適用")),"不適用")))))) -> <55 | S3: =IF(COUNTA(PatientCriteria[[#This Row],[院所ID]:[高血糖]])=0,"",IF(OR(PatientCriteria[[#This Row],[疾病組合]]="DM only",PatientCriteria[[#This Row],[疾病組合]]="DM+CKD",PatientCriteria[[#This Row],[疾病組合]]="DM+ASCVD",PatientCriteria[[#This Row],[疾病組合]]="DM+CKD+ASCVD"),IF(DATEDIF(DATE(1911+VALUE(LEFT(PatientCriteria[[#This Row],[生日]],3)),VALUE(MID(PatientCriteria[[#This Row],[生日]],5,2)),VALUE(RIGHT(PatientCriteria[[#This Row],[生日]],2))),TODAY(),"Y")>=80,"<8%","<7%"),"不適用")) -> <8% | T3: =IF(COUNTA(PatientCriteria[[#This Row],[院所ID]:[高血糖]])=0,"",IF(OR(PatientCriteria[[#This Row],[疾病組合]]="CKD only",PatientCriteria[[#This Row],[疾病組合]]="DM+CKD",PatientCriteria[[#This Row],[疾病組合]]="CKD+ASCVD",PatientCriteria[[#This Row],[疾病組合]]="DM+CKD+ASCVD"),"<30 mg/g","不適用")) -> <30 mg/g | U3: =IF(COUNTA(PatientCriteria[[#This Row],[院所ID]:[高血糖]])=0,"",IF(PatientCriteria[[#This Row],[高血壓]]=1,"3次","不適用")) -> 3次
Q4: =IF(COUNTA(PatientCriteria[[#This Row],[院所ID]:[高血糖]])=0,"",IF(PatientCriteria[[#This Row],[疾病樣態]]=1,IF(OR(PatientCriteria[[#This Row],[ASCVD]]="a",PatientCriteria[[#This Row],[ASCVD]]="b"),"DM+ASCVD","DM only"),IF(PatientCriteria[[#This Row],[疾病樣態]]=2,IF(OR(PatientCriteria[[#This Row],[ASCVD]]="a",PatientCriteria[[#This Row],[ASCVD]]="b"),"CKD+ASCVD","CKD only"),IF(PatientCriteria[[#This Row],[疾病樣態]]=3,IF(OR(PatientCriteria[[#This Row],[ASCVD]]="a",PatientCriteria[[#This Row],[ASCVD]]="b"),"DM+CKD+ASCVD","DM+CKD"),IF(PatientCriteria[[#This Row],[疾病樣態]]=4,IF(OR(PatientCriteria[[#This Row],[ASCVD]]="a",PatientCriteria[[#This Row],[ASCVD]]="b"),"ASCVD only","無特定分類"),"未知"))))) | R4: =IF(COUNTA(PatientCriteria[[#This Row],[院所ID]:[高血糖]])=0,"",IF(PatientCriteria[[#This Row],[疾病組合]]="無特定分類","不適用",IF(PatientCriteria[[#This Row],[疾病組合]]="DM only","<100",IF(PatientCriteria[[#This Row],[疾病組合]]="CKD only","<130",IF(PatientCriteria[[#This Row],[疾病組合]]="DM+CKD","<100",IF(OR(PatientCriteria[[#This Row],[疾病組合]]="ASCVD only",PatientCriteria[[#This Row],[疾病組合]]="CKD+ASCVD",PatientCriteria[[#This Row],[疾病組合]]="DM+ASCVD",PatientCriteria[[#This Row],[疾病組合]]="DM+CKD+ASCVD"),IF(PatientCriteria[[#This Row],[ASCVD]]="b","<55",IF(PatientCriteria[[#This Row],[ASCVD]]="a","<70","不適用")),"不適用")))))) | S4: =IF(COUNTA(PatientCriteria[[#This Row],[院所ID]:[高血糖]])=0,"",IF(OR(PatientCriteria[[#This Row],[疾病組合]]="DM only",PatientCriteria[[#This Row],[疾病組合]]="DM+CKD",PatientCriteria[[#This Row],[疾病組合]]="DM+ASCVD",PatientCriteria[[#This Row],[疾病組合]]="DM+CKD+ASCVD"),IF(DATEDIF(DATE(1911+VALUE(LEFT(PatientCriteria[[#This Row],[生日]],3)),VALUE(MID(PatientCriteria[[#This Row],[生日]],5,2)),VALUE(RIGHT(PatientCriteria[[#This Row],[生日]],2))),TODAY(),"Y")>=80,"<8%","<7%"),"不適用")) | T4: =IF(COUNTA(PatientCriteria[[#This Row],[院所ID]:[高血糖]])=0,"",IF(OR(PatientCriteria[[#This Row],[疾病組合]]="CKD only",PatientCriteria[[#This Row],[疾病組合]]="DM+CKD",PatientCriteria[[#This Row],[疾病組合]]="CKD+ASCVD",PatientCriteria[[#This Row],[疾病組合]]="DM+CKD+ASCVD"),"<30 mg/g","不適用")) | U4: =IF(COUNTA(PatientCriteria[[#This Row],[院所ID]:[高血糖]])=0,"",IF(PatientCriteria[[#This Row],[高血壓]]=1,"3次","不適用"))
Q5: =IF(COUNTA(PatientCriteria[[#This Row],[院所ID]:[高血糖]])=0,"",IF(PatientCriteria[[#This Row],[疾病樣態]]=1,IF(OR(PatientCriteria[[#This Row],[ASCVD]]="a",PatientCriteria[[#This Row],[ASCVD]]="b"),"DM+ASCVD","DM only"),IF(PatientCriteria[[#This Row],[疾病樣態]]=2,IF(OR(PatientCriteria[[#This Row],[ASCVD]]="a",PatientCriteria[[#This Row],[ASCVD]]="b"),"CKD+ASCVD","CKD only"),IF(PatientCriteria[[#This Row],[疾病樣態]]=3,IF(OR(PatientCriteria[[#This Row],[ASCVD]]="a",PatientCriteria[[#This Row],[ASCVD]]="b"),"DM+CKD+ASCVD","DM+CKD"),IF(PatientCriteria[[#This Row],[疾病樣態]]=4,IF(OR(PatientCriteria[[#This Row],[ASCVD]]="a",PatientCriteria[[#This Row],[ASCVD]]="b"),"ASCVD only","無特定分類"),"未知"))))) | R5: =IF(COUNTA(PatientCriteria[[#This Row],[院所ID]:[高血糖]])=0,"",IF(PatientCriteria[[#This Row],[疾病組合]]="無特定分類","不適用",IF(PatientCriteria[[#This Row],[疾病組合]]="DM only","<100",IF(PatientCriteria[[#This Row],[疾病組合]]="CKD only","<130",IF(PatientCriteria[[#This Row],[疾病組合]]="DM+CKD","<100",IF(OR(PatientCriteria[[#This Row],[疾病組合]]="ASCVD only",PatientCriteria[[#This Row],[疾病組合]]="CKD+ASCVD",PatientCriteria[[#This Row],[疾病組合]]="DM+ASCVD",PatientCriteria[[#This Row],[疾病組合]]="DM+CKD+ASCVD"),IF(PatientCriteria[[#This Row],[ASCVD]]="b","<55",IF(PatientCriteria[[#This Row],[ASCVD]]="a","<70","不適用")),"不適用")))))) | S5: =IF(COUNTA(PatientCriteria[[#This Row],[院所ID]:[高血糖]])=0,"",IF(OR(PatientCriteria[[#This Row],[疾病組合]]="DM only",PatientCriteria[[#This Row],[疾病組合]]="DM+CKD",PatientCriteria[[#This Row],[疾病組合]]="DM+ASCVD",PatientCriteria[[#This Row],[疾病組合]]="DM+CKD+ASCVD"),IF(DATEDIF(DATE(1911+VALUE(LEFT(PatientCriteria[[#This Row],[生日]],3)),VALUE(MID(PatientCriteria[[#This Row],[生日]],5,2)),VALUE(RIGHT(PatientCriteria[[#This Row],[生日]],2))),TODAY(),"Y")>=80,"<8%","<7%"),"不適用")) | T5: =IF(COUNTA(PatientCriteria[[#This Row],[院所ID]:[高血糖]])=0,"",IF(OR(PatientCriteria[[#This Row],[疾病組合]]="CKD only",PatientCriteria[[#This Row],[疾病組合]]="DM+CKD",PatientCriteria[[#This Row],[疾病組合]]="CKD+ASCVD",PatientCriteria[[#This Row],[疾病組合]]="DM+CKD+ASCVD"),"<30 mg/g","不適用")) | U5: =IF(COUNTA(PatientCriteria[[#This Row],[院所ID]:[高血糖]])=0,"",IF(PatientCriteria[[#This Row],[高血壓]]=1,"3次","不適用"))
Q6: =IF(COUNTA(PatientCriteria[[#This Row],[院所ID]:[高血糖]])=0,"",IF(PatientCriteria[[#This Row],[疾病樣態]]=1,IF(OR(PatientCriteria[[#This Row],[ASCVD]]="a",PatientCriteria[[#This Row],[ASCVD]]="b"),"DM+ASCVD","DM only"),IF(PatientCriteria[[#This Row],[疾病樣態]]=2,IF(OR(PatientCriteria[[#This Row],[ASCVD]]="a",PatientCriteria[[#This Row],[ASCVD]]="b"),"CKD+ASCVD","CKD only"),IF(PatientCriteria[[#This Row],[疾病樣態]]=3,IF(OR(PatientCriteria[[#This Row],[ASCVD]]="a",PatientCriteria[[#This Row],[ASCVD]]="b"),"DM+CKD+ASCVD","DM+CKD"),IF(PatientCriteria[[#This Row],[疾病樣態]]=4,IF(OR(PatientCriteria[[#This Row],[ASCVD]]="a",PatientCriteria[[#This Row],[ASCVD]]="b"),"ASCVD only","無特定分類"),"未知"))))) | R6: =IF(COUNTA(PatientCriteria[[#This Row],[院所ID]:[高血糖]])=0,"",IF(PatientCriteria[[#This Row],[疾病組合]]="無特定分類","不適用",IF(PatientCriteria[[#This Row],[疾病組合]]="DM only","<100",IF(PatientCriteria[[#This Row],[疾病組合]]="CKD only","<130",IF(PatientCriteria[[#This Row],[疾病組合]]="DM+CKD","<100",IF(OR(PatientCriteria[[#This Row],[疾病組合]]="ASCVD only",PatientCriteria[[#This Row],[疾病組合]]="CKD+ASCVD",PatientCriteria[[#This Row],[疾病組合]]="DM+ASCVD",PatientCriteria[[#This Row],[疾病組合]]="DM+CKD+ASCVD"),IF(PatientCriteria[[#This Row],[ASCVD]]="b","<55",IF(PatientCriteria[[#This Row],[ASCVD]]="a","<70","不適用")),"不適用")))))) | S6: =IF(COUNTA(PatientCriteria[[#This Row],[院所ID]:[高血糖]])=0,"",IF(OR(PatientCriteria[[#This Row],[疾病組合]]="DM only",PatientCriteria[[#This Row],[疾病組合]]="DM+CKD",PatientCriteria[[#This Row],[疾病組合]]="DM+ASCVD",PatientCriteria[[#This Row],[疾病組合]]="DM+CKD+ASCVD"),IF(DATEDIF(DATE(1911+VALUE(LEFT(PatientCriteria[[#This Row],[生日]],3)),VALUE(MID(PatientCriteria[[#This Row],[生日]],5,2)),VALUE(RIGHT(PatientCriteria[[#This Row],[生日]],2))),TODAY(),"Y")>=80,"<8%","<7%"),"不適用")) | T6: =IF(COUNTA(PatientCriteria[[#This Row],[院所ID]:[高血糖]])=0,"",IF(OR(PatientCriteria[[#This Row],[疾病組合]]="CKD only",PatientCriteria[[#This Row],[疾病組合]]="DM+CKD",PatientCriteria[[#This Row],[疾病組合]]="CKD+ASCVD",PatientCriteria[[#This Row],[疾病組合]]="DM+CKD+ASCVD"),"<30 mg/g","不適用")) | U6: =IF(COUNTA(PatientCriteria[[#This Row],[院所ID]:[高血糖]])=0,"",IF(PatientCriteria[[#This Row],[高血壓]]=1,"3次","不適用"))
Q7: =IF(COUNTA(PatientCriteria[[#This Row],[院所ID]:[高血糖]])=0,"",IF(PatientCriteria[[#This Row],[疾病樣態]]=1,IF(OR(PatientCriteria[[#This Row],[ASCVD]]="a",PatientCriteria[[#This Row],[ASCVD]]="b"),"DM+ASCVD","DM only"),IF(PatientCriteria[[#This Row],[疾病樣態]]=2,IF(OR(PatientCriteria[[#This Row],[ASCVD]]="a",PatientCriteria[[#This Row],[ASCVD]]="b"),"CKD+ASCVD","CKD only"),IF(PatientCriteria[[#This Row],[疾病樣態]]=3,IF(OR(PatientCriteria[[#This Row],[ASCVD]]="a",PatientCriteria[[#This Row],[ASCVD]]="b"),"DM+CKD+ASCVD","DM+CKD"),IF(PatientCriteria[[#This Row],[疾病樣態]]=4,IF(OR(PatientCriteria[[#This Row],[ASCVD]]="a",PatientCriteria[[#This Row],[ASCVD]]="b"),"ASCVD only","無特定分類"),"未知"))))) | R7: =IF(COUNTA(PatientCriteria[[#This Row],[院所ID]:[高血糖]])=0,"",IF(PatientCriteria[[#This Row],[疾病組合]]="無特定分類","不適用",IF(PatientCriteria[[#This Row],[疾病組合]]="DM only","<100",IF(PatientCriteria[[#This Row],[疾病組合]]="CKD only","<130",IF(PatientCriteria[[#This Row],[疾病組合]]="DM+CKD","<100",IF(OR(PatientCriteria[[#This Row],[疾病組合]]="ASCVD only",PatientCriteria[[#This Row],[疾病組合]]="CKD+ASCVD",PatientCriteria[[#This Row],[疾病組合]]="DM+ASCVD",PatientCriteria[[#This Row],[疾病組合]]="DM+CKD+ASCVD"),IF(PatientCriteria[[#This Row],[ASCVD]]="b","<55",IF(PatientCriteria[[#This Row],[ASCVD]]="a","<70","不適用")),"不適用")))))) | S7: =IF(COUNTA(PatientCriteria[[#This Row],[院所ID]:[高血糖]])=0,"",IF(OR(PatientCriteria[[#This Row],[疾病組合]]="DM only",PatientCriteria[[#This Row],[疾病組合]]="DM+CKD",PatientCriteria[[#This Row],[疾病組合]]="DM+ASCVD",PatientCriteria[[#This Row],[疾病組合]]="DM+CKD+ASCVD"),IF(DATEDIF(DATE(1911+VALUE(LEFT(PatientCriteria[[#This Row],[生日]],3)),VALUE(MID(PatientCriteria[[#This Row],[生日]],5,2)),VALUE(RIGHT(PatientCriteria[[#This Row],[生日]],2))),TODAY(),"Y")>=80,"<8%","<7%"),"不適用")) | T7: =IF(COUNTA(PatientCriteria[[#This Row],[院所ID]:[高血糖]])=0,"",IF(OR(PatientCriteria[[#This Row],[疾病組合]]="CKD only",PatientCriteria[[#This Row],[疾病組合]]="DM+CKD",PatientCriteria[[#This Row],[疾病組合]]="CKD+ASCVD",PatientCriteria[[#This Row],[疾病組合]]="DM+CKD+ASCVD"),"<30 mg/g","不適用")) | U7: =IF(COUNTA(PatientCriteria[[#This Row],[院所ID]:[高血糖]])=0,"",IF(PatientCriteria[[#This Row],[高血壓]]=1,"3次","不適用"))
Q8: =IF(COUNTA(PatientCriteria[[#This Row],[院所ID]:[高血糖]])=0,"",IF(PatientCriteria[[#This Row],[疾病樣態]]=1,IF(OR(PatientCriteria[[#This Row],[ASCVD]]="a",PatientCriteria[[#This Row],[ASCVD]]="b"),"DM+ASCVD","DM only"),IF(PatientCriteria[[#This Row],[疾病樣態]]=2,IF(OR(PatientCriteria[[#This Row],[ASCVD]]="a",PatientCriteria[[#This Row],[ASCVD]]="b"),"CKD+ASCVD","CKD only"),IF(PatientCriteria[[#This Row],[疾病樣態]]=3,IF(OR(PatientCriteria[[#This Row],[ASCVD]]="a",PatientCriteria[[#This Row],[ASCVD]]="b"),"DM+CKD+ASCVD","DM+CKD"),IF(PatientCriteria[[#This Row],[疾病樣態]]=4,IF(OR(PatientCriteria[[#This Row],[ASCVD]]="a",PatientCriteria[[#This Row],[ASCVD]]="b"),"ASCVD only","無特定分類"),"未知"))))) | R8: =IF(COUNTA(PatientCriteria[[#This Row],[院所ID]:[高血糖]])=0,"",IF(PatientCriteria[[#This Row],[疾病組合]]="無特定分類","不適用",IF(PatientCriteria[[#This Row],[疾病組合]]="DM only","<100",IF(PatientCriteria[[#This Row],[疾病組合]]="CKD only","<130",IF(PatientCriteria[[#This Row],[疾病組合]]="DM+CKD","<100",IF(OR(PatientCriteria[[#This Row],[疾病組合]]="ASCVD only",PatientCriteria[[#This Row],[疾病組合]]="CKD+ASCVD",PatientCriteria[[#This Row],[疾病組合]]="DM+ASCVD",PatientCriteria[[#This Row],[疾病組合]]="DM+CKD+ASCVD"),IF(PatientCriteria[[#This Row],[ASCVD]]="b","<55",IF(PatientCriteria[[#This Row],[ASCVD]]="a","<70","不適用")),"不適用")))))) | S8: =IF(COUNTA(PatientCriteria[[#This Row],[院所ID]:[高血糖]])=0,"",IF(OR(PatientCriteria[[#This Row],[疾病組合]]="DM only",PatientCriteria[[#This Row],[疾病組合]]="DM+CKD",PatientCriteria[[#This Row],[疾病組合]]="DM+ASCVD",PatientCriteria[[#This Row],[疾病組合]]="DM+CKD+ASCVD"),IF(DATEDIF(DATE(1911+VALUE(LEFT(PatientCriteria[[#This Row],[生日]],3)),VALUE(MID(PatientCriteria[[#This Row],[生日]],5,2)),VALUE(RIGHT(PatientCriteria[[#This Row],[生日]],2))),TODAY(),"Y")>=80,"<8%","<7%"),"不適用")) | T8: =IF(COUNTA(PatientCriteria[[#This Row],[院所ID]:[高血糖]])=0,"",IF(OR(PatientCriteria[[#This Row],[疾病組合]]="CKD only",PatientCriteria[[#This Row],[疾病組合]]="DM+CKD",PatientCriteria[[#This Row],[疾病組合]]="CKD+ASCVD",PatientCriteria[[#This Row],[疾病組合]]="DM+CKD+ASCVD"),"<30 mg/g","不適用")) | U8: =IF(COUNTA(PatientCriteria[[#This Row],[院所ID]:[高血糖]])=0,"",IF(PatientCriteria[[#This Row],[高血壓]]=1,"3次","不適用"))
Q9: =IF(COUNTA(PatientCriteria[[#This Row],[院所ID]:[高血糖]])=0,"",IF(PatientCriteria[[#This Row],[疾病樣態]]=1,IF(OR(PatientCriteria[[#This Row],[ASCVD]]="a",PatientCriteria[[#This Row],[ASCVD]]="b"),"DM+ASCVD","DM only"),IF(PatientCriteria[[#This Row],[疾病樣態]]=2,IF(OR(PatientCriteria[[#This Row],[ASCVD]]="a",PatientCriteria[[#This Row],[ASCVD]]="b"),"CKD+ASCVD","CKD only"),IF(PatientCriteria[[#This Row],[疾病樣態]]=3,IF(OR(PatientCriteria[[#This Row],[ASCVD]]="a",PatientCriteria[[#This Row],[ASCVD]]="b"),"DM+CKD+ASCVD","DM+CKD"),IF(PatientCriteria[[#This Row],[疾病樣態]]=4,IF(OR(PatientCriteria[[#This Row],[ASCVD]]="a",PatientCriteria[[#This Row],[ASCVD]]="b"),"ASCVD only","無特定分類"),"未知"))))) | R9: =IF(COUNTA(PatientCriteria[[#This Row],[院所ID]:[高血糖]])=0,"",IF(PatientCriteria[[#This Row],[疾病組合]]="無特定分類","不適用",IF(PatientCriteria[[#This Row],[疾病組合]]="DM only","<100",IF(PatientCriteria[[#This Row],[疾病組合]]="CKD only","<130",IF(PatientCriteria[[#This Row],[疾病組合]]="DM+CKD","<100",IF(OR(PatientCriteria[[#This Row],[疾病組合]]="ASCVD only",PatientCriteria[[#This Row],[疾病組合]]="CKD+ASCVD",PatientCriteria[[#This Row],[疾病組合]]="DM+ASCVD",PatientCriteria[[#This Row],[疾病組合]]="DM+CKD+ASCVD"),IF(PatientCriteria[[#This Row],[ASCVD]]="b","<55",IF(PatientCriteria[[#This Row],[ASCVD]]="a","<70","不適用")),"不適用")))))) | S9: =IF(COUNTA(PatientCriteria[[#This Row],[院所ID]:[高血糖]])=0,"",IF(OR(PatientCriteria[[#This Row],[疾病組合]]="DM only",PatientCriteria[[#This Row],[疾病組合]]="DM+CKD",PatientCriteria[[#This Row],[疾病組合]]="DM+ASCVD",PatientCriteria[[#This Row],[疾病組合]]="DM+CKD+ASCVD"),IF(DATEDIF(DATE(1911+VALUE(LEFT(PatientCriteria[[#This Row],[生日]],3)),VALUE(MID(PatientCriteria[[#This Row],[生日]],5,2)),VALUE(RIGHT(PatientCriteria[[#This Row],[生日]],2))),TODAY(),"Y")>=80,"<8%","<7%"),"不適用")) | T9: =IF(COUNTA(PatientCriteria[[#This Row],[院所ID]:[高血糖]])=0,"",IF(OR(PatientCriteria[[#This Row],[疾病組合]]="CKD only",PatientCriteria[[#This Row],[疾病組合]]="DM+CKD",PatientCriteria[[#This Row],[疾病組合]]="CKD+ASCVD",PatientCriteria[[#This Row],[疾病組合]]="DM+CKD+ASCVD"),"<30 mg/g","不適用")) | U9: =IF(COUNTA(PatientCriteria[[#This Row],[院所ID]:[高血糖]])=0,"",IF(PatientCriteria[[#This Row],[高血壓]]=1,"3次","不適用"))
Q10: =IF(COUNTA(PatientCriteria[[#This Row],[院所ID]:[高血糖]])=0,"",IF(PatientCriteria[[#This Row],[疾病樣態]]=1,IF(OR(PatientCriteria[[#This Row],[ASCVD]]="a",PatientCriteria[[#This Row],[ASCVD]]="b"),"DM+ASCVD","DM only"),IF(PatientCriteria[[#This Row],[疾病樣態]]=2,IF(OR(PatientCriteria[[#This Row],[ASCVD]]="a",PatientCriteria[[#This Row],[ASCVD]]="b"),"CKD+ASCVD","CKD only"),IF(PatientCriteria[[#This Row],[疾病樣態]]=3,IF(OR(PatientCriteria[[#This Row],[ASCVD]]="a",PatientCriteria[[#This Row],[ASCVD]]="b"),"DM+CKD+ASCVD","DM+CKD"),IF(PatientCriteria[[#This Row],[疾病樣態]]=4,IF(OR(PatientCriteria[[#This Row],[ASCVD]]="a",PatientCriteria[[#This Row],[ASCVD]]="b"),"ASCVD only","無特定分類"),"未知"))))) | R10: =IF(COUNTA(PatientCriteria[[#This Row],[院所ID]:[高血糖]])=0,"",IF(PatientCriteria[[#This Row],[疾病組合]]="無特定分類","不適用",IF(PatientCriteria[[#This Row],[疾病組合]]="DM only","<100",IF(PatientCriteria[[#This Row],[疾病組合]]="CKD only","<130",IF(PatientCriteria[[#This Row],[疾病組合]]="DM+CKD","<100",IF(OR(PatientCriteria[[#This Row],[疾病組合]]="ASCVD only",PatientCriteria[[#This Row],[疾病組合]]="CKD+ASCVD",PatientCriteria[[#This Row],[疾病組合]]="DM+ASCVD",PatientCriteria[[#This Row],[疾病組合]]="DM+CKD+ASCVD"),IF(PatientCriteria[[#This Row],[ASCVD]]="b","<55",IF(PatientCriteria[[#This Row],[ASCVD]]="a","<70","不適用")),"不適用")))))) | S10: =IF(COUNTA(PatientCriteria[[#This Row],[院所ID]:[高血糖]])=0,"",IF(OR(PatientCriteria[[#This Row],[疾病組合]]="DM only",PatientCriteria[[#This Row],[疾病組合]]="DM+CKD",PatientCriteria[[#This Row],[疾病組合]]="DM+ASCVD",PatientCriteria[[#This Row],[疾病組合]]="DM+CKD+ASCVD"),IF(DATEDIF(DATE(1911+VALUE(LEFT(PatientCriteria[[#This Row],[生日]],3)),VALUE(MID(PatientCriteria[[#This Row],[生日]],5,2)),VALUE(RIGHT(PatientCriteria[[#This Row],[生日]],2))),TODAY(),"Y")>=80,"<8%","<7%"),"不適用")) | T10: =IF(COUNTA(PatientCriteria[[#This Row],[院所ID]:[高血糖]])=0,"",IF(OR(PatientCriteria[[#This Row],[疾病組合]]="CKD only",PatientCriteria[[#This Row],[疾病組合]]="DM+CKD",PatientCriteria[[#This Row],[疾病組合]]="CKD+ASCVD",PatientCriteria[[#This Row],[疾病組合]]="DM+CKD+ASCVD"),"<30 mg/g","不適用")) | U10: =IF(COUNTA(PatientCriteria[[#This Row],[院所ID]:[高血糖]])=0,"",IF(PatientCriteria[[#This Row],[高血壓]]=1,"3次","不適用"))
Q11: =IF(COUNTA(PatientCriteria[[#This Row],[院所ID]:[高血糖]])=0,"",IF(PatientCriteria[[#This Row],[疾病樣態]]=1,IF(OR(PatientCriteria[[#This Row],[ASCVD]]="a",PatientCriteria[[#This Row],[ASCVD]]="b"),"DM+ASCVD","DM only"),IF(PatientCriteria[[#This Row],[疾病樣態]]=2,IF(OR(PatientCriteria[[#This Row],[ASCVD]]="a",PatientCriteria[[#This Row],[ASCVD]]="b"),"CKD+ASCVD","CKD only"),IF(PatientCriteria[[#This Row],[疾病樣態]]=3,IF(OR(PatientCriteria[[#This Row],[ASCVD]]="a",PatientCriteria[[#This Row],[ASCVD]]="b"),"DM+CKD+ASCVD","DM+CKD"),IF(PatientCriteria[[#This Row],[疾病樣態]]=4,IF(OR(PatientCriteria[[#This Row],[ASCVD]]="a",PatientCriteria[[#This Row],[ASCVD]]="b"),"ASCVD only","無特定分類"),"未知"))))) | R11: =IF(COUNTA(PatientCriteria[[#This Row],[院所ID]:[高血糖]])=0,"",IF(PatientCriteria[[#This Row],[疾病組合]]="無特定分類","不適用",IF(PatientCriteria[[#This Row],[疾病組合]]="DM only","<100",IF(PatientCriteria[[#This Row],[疾病組合]]="CKD only","<130",IF(PatientCriteria[[#This Row],[疾病組合]]="DM+CKD","<100",IF(OR(PatientCriteria[[#This Row],[疾病組合]]="ASCVD only",PatientCriteria[[#This Row],[疾病組合]]="CKD+ASCVD",PatientCriteria[[#This Row],[疾病組合]]="DM+ASCVD",PatientCriteria[[#This Row],[疾病組合]]="DM+CKD+ASCVD"),IF(PatientCriteria[[#This Row],[ASCVD]]="b","<55",IF(PatientCriteria[[#This Row],[ASCVD]]="a","<70","不適用")),"不適用")))))) | S11: =IF(COUNTA(PatientCriteria[[#This Row],[院所ID]:[高血糖]])=0,"",IF(OR(PatientCriteria[[#This Row],[疾病組合]]="DM only",PatientCriteria[[#This Row],[疾病組合]]="DM+CKD",PatientCriteria[[#This Row],[疾病組合]]="DM+ASCVD",PatientCriteria[[#This Row],[疾病組合]]="DM+CKD+ASCVD"),IF(DATEDIF(DATE(1911+VALUE(LEFT(PatientCriteria[[#This Row],[生日]],3)),VALUE(MID(PatientCriteria[[#This Row],[生日]],5,2)),VALUE(RIGHT(PatientCriteria[[#This Row],[生日]],2))),TODAY(),"Y")>=80,"<8%","<7%"),"不適用")) | T11: =IF(COUNTA(PatientCriteria[[#This Row],[院所ID]:[高血糖]])=0,"",IF(OR(PatientCriteria[[#This Row],[疾病組合]]="CKD only",PatientCriteria[[#This Row],[疾病組合]]="DM+CKD",PatientCriteria[[#This Row],[疾病組合]]="CKD+ASCVD",PatientCriteria[[#This Row],[疾病組合]]="DM+CKD+ASCVD"),"<30 mg/g","不適用")) | U11: =IF(COUNTA(PatientCriteria[[#This Row],[院所ID]:[高血糖]])=0,"",IF(PatientCriteria[[#This Row],[高血壓]]=1,"3次","不適用"))
Q12: =IF(COUNTA(PatientCriteria[[#This Row],[院所ID]:[高血糖]])=0,"",IF(PatientCriteria[[#This Row],[疾病樣態]]=1,IF(OR(PatientCriteria[[#This Row],[ASCVD]]="a",PatientCriteria[[#This Row],[ASCVD]]="b"),"DM+ASCVD","DM only"),IF(PatientCriteria[[#This Row],[疾病樣態]]=2,IF(OR(PatientCriteria[[#This Row],[ASCVD]]="a",PatientCriteria[[#This Row],[ASCVD]]="b"),"CKD+ASCVD","CKD only"),IF(PatientCriteria[[#This Row],[疾病樣態]]=3,IF(OR(PatientCriteria[[#This Row],[ASCVD]]="a",PatientCriteria[[#This Row],[ASCVD]]="b"),"DM+CKD+ASCVD","DM+CKD"),IF(PatientCriteria[[#This Row],[疾病樣態]]=4,IF(OR(PatientCriteria[[#This Row],[ASCVD]]="a",PatientCriteria[[#This Row],[ASCVD]]="b"),"ASCVD only","無特定分類"),"未知"))))) | R12: =IF(COUNTA(PatientCriteria[[#This Row],[院所ID]:[高血糖]])=0,"",IF(PatientCriteria[[#This Row],[疾病組合]]="無特定分類","不適用",IF(PatientCriteria[[#This Row],[疾病組合]]="DM only","<100",IF(PatientCriteria[[#This Row],[疾病組合]]="CKD only","<130",IF(PatientCriteria[[#This Row],[疾病組合]]="DM+CKD","<100",IF(OR(PatientCriteria[[#This Row],[疾病組合]]="ASCVD only",PatientCriteria[[#This Row],[疾病組合]]="CKD+ASCVD",PatientCriteria[[#This Row],[疾病組合]]="DM+ASCVD",PatientCriteria[[#This Row],[疾病組合]]="DM+CKD+ASCVD"),IF(PatientCriteria[[#This Row],[ASCVD]]="b","<55",IF(PatientCriteria[[#This Row],[ASCVD]]="a","<70","不適用")),"不適用")))))) | S12: =IF(COUNTA(PatientCriteria[[#This Row],[院所ID]:[高血糖]])=0,"",IF(OR(PatientCriteria[[#This Row],[疾病組合]]="DM only",PatientCriteria[[#This Row],[疾病組合]]="DM+CKD",PatientCriteria[[#This Row],[疾病組合]]="DM+ASCVD",PatientCriteria[[#This Row],[疾病組合]]="DM+CKD+ASCVD"),IF(DATEDIF(DATE(1911+VALUE(LEFT(PatientCriteria[[#This Row],[生日]],3)),VALUE(MID(PatientCriteria[[#This Row],[生日]],5,2)),VALUE(RIGHT(PatientCriteria[[#This Row],[生日]],2))),TODAY(),"Y")>=80,"<8%","<7%"),"不適用")) | T12: =IF(COUNTA(PatientCriteria[[#This Row],[院所ID]:[高血糖]])=0,"",IF(OR(PatientCriteria[[#This Row],[疾病組合]]="CKD only",PatientCriteria[[#This Row],[疾病組合]]="DM+CKD",PatientCriteria[[#This Row],[疾病組合]]="CKD+ASCVD",PatientCriteria[[#This Row],[疾病組合]]="DM+CKD+ASCVD"),"<30 mg/g","不適用")) | U12: =IF(COUNTA(PatientCriteria[[#This Row],[院所ID]:[高血糖]])=0,"",IF(PatientCriteria[[#This Row],[高血壓]]=1,"3次","不適用"))
Q13: =IF(COUNTA(PatientCriteria[[#This Row],[院所ID]:[高血糖]])=0,"",IF(PatientCriteria[[#This Row],[疾病樣態]]=1,IF(OR(PatientCriteria[[#This Row],[ASCVD]]="a",PatientCriteria[[#This Row],[ASCVD]]="b"),"DM+ASCVD","DM only"),IF(PatientCriteria[[#This Row],[疾病樣態]]=2,IF(OR(PatientCriteria[[#This Row],[ASCVD]]="a",PatientCriteria[[#This Row],[ASCVD]]="b"),"CKD+ASCVD","CKD only"),IF(PatientCriteria[[#This Row],[疾病樣態]]=3,IF(OR(PatientCriteria[[#This Row],[ASCVD]]="a",PatientCriteria[[#This Row],[ASCVD]]="b"),"DM+CKD+ASCVD","DM+CKD"),IF(PatientCriteria[[#This Row],[疾病樣態]]=4,IF(OR(PatientCriteria[[#This Row],[ASCVD]]="a",PatientCriteria[[#This Row],[ASCVD]]="b"),"ASCVD only","無特定分類"),"未知"))))) | R13: =IF(COUNTA(PatientCriteria[[#This Row],[院所ID]:[高血糖]])=0,"",IF(PatientCriteria[[#This Row],[疾病組合]]="無特定分類","不適用",IF(PatientCriteria[[#This Row],[疾病組合]]="DM only","<100",IF(PatientCriteria[[#This Row],[疾病組合]]="CKD only","<130",IF(PatientCriteria[[#This Row],[疾病組合]]="DM+CKD","<100",IF(OR(PatientCriteria[[#This Row],[疾病組合]]="ASCVD only",PatientCriteria[[#This Row],[疾病組合]]="CKD+ASCVD",PatientCriteria[[#This Row],[疾病組合]]="DM+ASCVD",PatientCriteria[[#This Row],[疾病組合]]="DM+CKD+ASCVD"),IF(PatientCriteria[[#This Row],[ASCVD]]="b","<55",IF(PatientCriteria[[#This Row],[ASCVD]]="a","<70","不適用")),"不適用")))))) | S13: =IF(COUNTA(PatientCriteria[[#This Row],[院所ID]:[高血糖]])=0,"",IF(OR(PatientCriteria[[#This Row],[疾病組合]]="DM only",PatientCriteria[[#This Row],[疾病組合]]="DM+CKD",PatientCriteria[[#This Row],[疾病組合]]="DM+ASCVD",PatientCriteria[[#This Row],[疾病組合]]="DM+CKD+ASCVD"),IF(DATEDIF(DATE(1911+VALUE(LEFT(PatientCriteria[[#This Row],[生日]],3)),VALUE(MID(PatientCriteria[[#This Row],[生日]],5,2)),VALUE(RIGHT(PatientCriteria[[#This Row],[生日]],2))),TODAY(),"Y")>=80,"<8%","<7%"),"不適用")) | T13: =IF(COUNTA(PatientCriteria[[#This Row],[院所ID]:[高血糖]])=0,"",IF(OR(PatientCriteria[[#This Row],[疾病組合]]="CKD only",PatientCriteria[[#This Row],[疾病組合]]="DM+CKD",PatientCriteria[[#This Row],[疾病組合]]="CKD+ASCVD",PatientCriteria[[#This Row],[疾病組合]]="DM+CKD+ASCVD"),"<30 mg/g","不適用")) | U13: =IF(COUNTA(PatientCriteria[[#This Row],[院所ID]:[高血糖]])=0,"",IF(PatientCriteria[[#This Row],[高血壓]]=1,"3次","不適用"))
Q14: =IF(COUNTA(PatientCriteria[[#This Row],[院所ID]:[高血糖]])=0,"",IF(PatientCriteria[[#This Row],[疾病樣態]]=1,IF(OR(PatientCriteria[[#This Row],[ASCVD]]="a",PatientCriteria[[#This Row],[ASCVD]]="b"),"DM+ASCVD","DM only"),IF(PatientCriteria[[#This Row],[疾病樣態]]=2,IF(OR(PatientCriteria[[#This Row],[ASCVD]]="a",PatientCriteria[[#This Row],[ASCVD]]="b"),"CKD+ASCVD","CKD only"),IF(PatientCriteria[[#This Row],[疾病樣態]]=3,IF(OR(PatientCriteria[[#This Row],[ASCVD]]="a",PatientCriteria[[#This Row],[ASCVD]]="b"),"DM+CKD+ASCVD","DM+CKD"),IF(PatientCriteria[[#This Row],[疾病樣態]]=4,IF(OR(PatientCriteria[[#This Row],[ASCVD]]="a",PatientCriteria[[#This Row],[ASCVD]]="b"),"ASCVD only","無特定分類"),"未知"))))) | R14: =IF(COUNTA(PatientCriteria[[#This Row],[院所ID]:[高血糖]])=0,"",IF(PatientCriteria[[#This Row],[疾病組合]]="無特定分類","不適用",IF(PatientCriteria[[#This Row],[疾病組合]]="DM only","<100",IF(PatientCriteria[[#This Row],[疾病組合]]="CKD only","<130",IF(PatientCriteria[[#This Row],[疾病組合]]="DM+CKD","<100",IF(OR(PatientCriteria[[#This Row],[疾病組合]]="ASCVD only",PatientCriteria[[#This Row],[疾病組合]]="CKD+ASCVD",PatientCriteria[[#This Row],[疾病組合]]="DM+ASCVD",PatientCriteria[[#This Row],[疾病組合]]="DM+CKD+ASCVD"),IF(PatientCriteria[[#This Row],[ASCVD]]="b","<55",IF(PatientCriteria[[#This Row],[ASCVD]]="a","<70","不適用")),"不適用")))))) | S14: =IF(COUNTA(PatientCriteria[[#This Row],[院所ID]:[高血糖]])=0,"",IF(OR(PatientCriteria[[#This Row],[疾病組合]]="DM only",PatientCriteria[[#This Row],[疾病組合]]="DM+CKD",PatientCriteria[[#This Row],[疾病組合]]="DM+ASCVD",PatientCriteria[[#This Row],[疾病組合]]="DM+CKD+ASCVD"),IF(DATEDIF(DATE(1911+VALUE(LEFT(PatientCriteria[[#This Row],[生日]],3)),VALUE(MID(PatientCriteria[[#This Row],[生日]],5,2)),VALUE(RIGHT(PatientCriteria[[#This Row],[生日]],2))),TODAY(),"Y")>=80,"<8%","<7%"),"不適用")) | T14: =IF(COUNTA(PatientCriteria[[#This Row],[院所ID]:[高血糖]])=0,"",IF(OR(PatientCriteria[[#This Row],[疾病組合]]="CKD only",PatientCriteria[[#This Row],[疾病組合]]="DM+CKD",PatientCriteria[[#This Row],[疾病組合]]="CKD+ASCVD",PatientCriteria[[#This Row],[疾病組合]]="DM+CKD+ASCVD"),"<30 mg/g","不適用")) | U14: =IF(COUNTA(PatientCriteria[[#This Row],[院所ID]:[高血糖]])=0,"",IF(PatientCriteria[[#This Row],[高血壓]]=1,"3次","不適用"))
Q15: =IF(COUNTA(PatientCriteria[[#This Row],[院所ID]:[高血糖]])=0,"",IF(PatientCriteria[[#This Row],[疾病樣態]]=1,IF(OR(PatientCriteria[[#This Row],[ASCVD]]="a",PatientCriteria[[#This Row],[ASCVD]]="b"),"DM+ASCVD","DM only"),IF(PatientCriteria[[#This Row],[疾病樣態]]=2,IF(OR(PatientCriteria[[#This Row],[ASCVD]]="a",PatientCriteria[[#This Row],[ASCVD]]="b"),"CKD+ASCVD","CKD only"),IF(PatientCriteria[[#This Row],[疾病樣態]]=3,IF(OR(PatientCriteria[[#This Row],[ASCVD]]="a",PatientCriteria[[#This Row],[ASCVD]]="b"),"DM+CKD+ASCVD","DM+CKD"),IF(PatientCriteria[[#This Row],[疾病樣態]]=4,IF(OR(PatientCriteria[[#This Row],[ASCVD]]="a",PatientCriteria[[#This Row],[ASCVD]]="b"),"ASCVD only","無特定分類"),"未知"))))) | R15: =IF(COUNTA(PatientCriteria[[#This Row],[院所ID]:[高血糖]])=0,"",IF(PatientCriteria[[#This Row],[疾病組合]]="無特定分類","不適用",IF(PatientCriteria[[#This Row],[疾病組合]]="DM only","<100",IF(PatientCriteria[[#This Row],[疾病組合]]="CKD only","<130",IF(PatientCriteria[[#This Row],[疾病組合]]="DM+CKD","<100",IF(OR(PatientCriteria[[#This Row],[疾病組合]]="ASCVD only",PatientCriteria[[#This Row],[疾病組合]]="CKD+ASCVD",PatientCriteria[[#This Row],[疾病組合]]="DM+ASCVD",PatientCriteria[[#This Row],[疾病組合]]="DM+CKD+ASCVD"),IF(PatientCriteria[[#This Row],[ASCVD]]="b","<55",IF(PatientCriteria[[#This Row],[ASCVD]]="a","<70","不適用")),"不適用")))))) | S15: =IF(COUNTA(PatientCriteria[[#This Row],[院所ID]:[高血糖]])=0,"",IF(OR(PatientCriteria[[#This Row],[疾病組合]]="DM only",PatientCriteria[[#This Row],[疾病組合]]="DM+CKD",PatientCriteria[[#This Row],[疾病組合]]="DM+ASCVD",PatientCriteria[[#This Row],[疾病組合]]="DM+CKD+ASCVD"),IF(DATEDIF(DATE(1911+VALUE(LEFT(PatientCriteria[[#This Row],[生日]],3)),VALUE(MID(PatientCriteria[[#This Row],[生日]],5,2)),VALUE(RIGHT(PatientCriteria[[#This Row],[生日]],2))),TODAY(),"Y")>=80,"<8%","<7%"),"不適用")) | T15: =IF(COUNTA(PatientCriteria[[#This Row],[院所ID]:[高血糖]])=0,"",IF(OR(PatientCriteria[[#This Row],[疾病組合]]="CKD only",PatientCriteria[[#This Row],[疾病組合]]="DM+CKD",PatientCriteria[[#This Row],[疾病組合]]="CKD+ASCVD",PatientCriteria[[#This Row],[疾病組合]]="DM+CKD+ASCVD"),"<30 mg/g","不適用")) | U15: =IF(COUNTA(PatientCriteria[[#This Row],[院所ID]:[高血糖]])=0,"",IF(PatientCriteria[[#This Row],[高血壓]]=1,"3次","不適用"))
... Q1190: =IF(COUNTA(PatientCriteria[[#This Row],[院所ID]:[高血糖]])=0,"",IF(PatientCriteria[[#This Row],[疾病樣態]]=1,IF(OR(PatientCriteria[[#This Row],[ASCVD]]="a",PatientCriteria[[#This Row],[ASCVD]]="b"),"DM+ASCVD","DM only"),IF(PatientCriteria[[#This Row],[疾病樣態]]=2,IF(OR(PatientCriteria[[#This Row],[ASCVD]]="a",PatientCriteria[[#This Row],[ASCVD]]="b"),"CKD+ASCVD","CKD only"),IF(PatientCriteria[[#This Row],[疾病樣態]]=3,IF(OR(PatientCriteria[[#This Row],[ASCVD]]="a",PatientCriteria[[#This Row],[ASCVD]]="b"),"DM+CKD+ASCVD","DM+CKD"),IF(PatientCriteria[[#This Row],[疾病樣態]]=4,IF(OR(PatientCriteria[[#This Row],[ASCVD]]="a",PatientCriteria[[#This Row],[ASCVD]]="b"),"ASCVD only","無特定分類"),"未知"))))) | R1190: =IF(COUNTA(PatientCriteria[[#This Row],[院所ID]:[高血糖]])=0,"",IF(PatientCriteria[[#This Row],[疾病組合]]="無特定分類","不適用",IF(PatientCriteria[[#This Row],[疾病組合]]="DM only","<100",IF(PatientCriteria[[#This Row],[疾病組合]]="CKD only","<130",IF(PatientCriteria[[#This Row],[疾病組合]]="DM+CKD","<100",IF(OR(PatientCriteria[[#This Row],[疾病組合]]="ASCVD only",PatientCriteria[[#This Row],[疾病組合]]="CKD+ASCVD",PatientCriteria[[#This Row],[疾病組合]]="DM+ASCVD",PatientCriteria[[#This Row],[疾病組合]]="DM+CKD+ASCVD"),IF(PatientCriteria[[#This Row],[ASCVD]]="b","<55",IF(PatientCriteria[[#This Row],[ASCVD]]="a","<70","不適用")),"不適用")))))) | S1190: =IF(COUNTA(PatientCriteria[[#This Row],[院所ID]:[高血糖]])=0,"",IF(OR(PatientCriteria[[#This Row],[疾病組合]]="DM only",PatientCriteria[[#This Row],[疾病組合]]="DM+CKD",PatientCriteria[[#This Row],[疾病組合]]="DM+ASCVD",PatientCriteria[[#This Row],[疾病組合]]="DM+CKD+ASCVD"),IF(DATEDIF(DATE(1911+VALUE(LEFT(PatientCriteria[[#This Row],[生日]],3)),VALUE(MID(PatientCriteria[[#This Row],[生日]],5,2)),VALUE(RIGHT(PatientCriteria[[#This Row],[生日]],2))),TODAY(),"Y")>=80,"<8%","<7%"),"不適用")) | T1190: =IF(COUNTA(PatientCriteria[[#This Row],[院所ID]:[高血糖]])=0,"",IF(OR(PatientCriteria[[#This Row],[疾病組合]]="CKD only",PatientCriteria[[#This Row],[疾病組合]]="DM+CKD",PatientCriteria[[#This Row],[疾病組合]]="CKD+ASCVD",PatientCriteria[[#This Row],[疾病組合]]="DM+CKD+ASCVD"),"<30 mg/g","不適用")) | U1190: =IF(COUNTA(PatientCriteria[[#This Row],[院所ID]:[高血糖]])=0,"",IF(PatientCriteria[[#This Row],[高血壓]]=1,"3次","不適用"))

Sheet 檢驗原始資料
A1: 身分證字號 | B1: 姓名 | C1: 生日 | D1: 最近一次HbA1c檢查結果(%) | E1: 最近一次HbA1c檢查日期 | F1: 最近一次LDL檢查結果(mg/dL) | G1: 最近一次LDL檢查日期 | H1: 最近一次UACR檢查結果(mg/gm) | I1: 最近一次UACR檢查日期 | J1: 最近一次BP檢查日期 | K1: 匯入月份 | L1: HbA1c唯一 | M1: LDL唯一 | N1: UACR唯一 | O1: BP唯一 | P1: 比對身分證前六碼 | Q1: 比對生日西元
A2: A241045264 | C2: 15046 | D2: 6.6 | E2: 45996 | F2: 91 | G2: 46034 | H2: 27 | I2: 45986 | K2: 2026-01 | L2: =IF(AND(D2<>"",E2<>"",P2<>""),--(COUNTIFS($P$2:P2,P2,$E$2:E2,E2)=1),0) -> 1 | M2: =IF(AND(F2<>"",G2<>"",P2<>""),--(COUNTIFS($P$2:P2,P2,$G$2:G2,G2)=1),0) -> 1 | N2: =IF(AND(H2<>"",I2<>"",P2<>""),--(COUNTIFS($P$2:P2,P2,$I$2:I2,I2)=1),0) -> 1 | O2: =IF(AND(J2<>"",P2<>""),--(COUNTIFS($P$2:P2,P2,$J$2:J2,J2)=1),0) -> 0 | P2: =IF(A2="","",LEFT(A2,6)) -> A24104 | Q2: =IF(C2="","",IF(ISNUMBER(C2),TEXT(C2,"yyyy-mm-dd"),IFERROR(TEXT(DATEVALUE(C2),"yyyy-mm-dd"),C2))) -> 1941-03-11
A3: C226662396 | C3: 15432 | D3: 7.3 | E3: 45848 | F3: 69 | G3: 45945 | H3: 13 | I3: 45843 | J3: 2026-01 | K3: 2026-01 | L3: =IF(AND(D3<>"",E3<>"",P3<>""),--(COUNTIFS($P$2:P3,P3,$E$2:E3,E3)=1),0) -> 1 | M3: =IF(AND(F3<>"",G3<>"",P3<>""),--(COUNTIFS($P$2:P3,P3,$G$2:G3,G3)=1),0) -> 1 | N3: =IF(AND(H3<>"",I3<>"",P3<>""),--(COUNTIFS($P$2:P3,P3,$I$2:I3,I3)=1),0) -> 1 | O3: =IF(AND(J3<>"",P3<>""),--(COUNTIFS($P$2:P3,P3,$J$2:J3,J3)=1),0) -> 1 | P3: =IF(A3="","",LEFT(A3,6)) -> C22666 | Q3: =IF(C3="","",IF(ISNUMBER(C3),TEXT(C3,"yyyy-mm-dd"),IFERROR(TEXT(DATEVALUE(C3),"yyyy-mm-dd"),C3))) -> 1942-04-01
A4: A241045264 | C4: 15046 | D4: 6.6 | E4: 45996 | F4: 91 | G4: 46034 | H4: 27 | I4: 45986 | K4: 2026-02 | L4: =IF(AND(D4<>"",E4<>"",P4<>""),--(COUNTIFS($P$2:P4,P4,$E$2:E4,E4)=1),0) -> 0 | M4: =IF(AND(F4<>"",G4<>"",P4<>""),--(COUNTIFS($P$2:P4,P4,$G$2:G4,G4)=1),0) -> 0 | N4: =IF(AND(H4<>"",I4<>"",P4<>""),--(COUNTIFS($P$2:P4,P4,$I$2:I4,I4)=1),0) -> 0 | O4: =IF(AND(J4<>"",P4<>""),--(COUNTIFS($P$2:P4,P4,$J$2:J4,J4)=1),0) -> 0 | P4: =IF(A4="","",LEFT(A4,6)) -> A24104 | Q4: =IF(C4="","",IF(ISNUMBER(C4),TEXT(C4,"yyyy-mm-dd"),IFERROR(TEXT(DATEVALUE(C4),"yyyy-mm-dd"),C4))) -> 1941-03-11
A5: C226662396 | C5: 15432 | D5: 7.3 | E5: 45848 | F5: 66 | G5: 46070 | H5: 13 | I5: 45843 | J5: 2026-01 | K5: 2026-02 | L5: =IF(AND(D5<>"",E5<>"",P5<>""),--(COUNTIFS($P$2:P5,P5,$E$2:E5,E5)=1),0) -> 0 | M5: =IF(AND(F5<>"",G5<>"",P5<>""),--(COUNTIFS($P$2:P5,P5,$G$2:G5,G5)=1),0) -> 1 | N5: =IF(AND(H5<>"",I5<>"",P5<>""),--(COUNTIFS($P$2:P5,P5,$I$2:I5,I5)=1),0) -> 0 | O5: =IF(AND(J5<>"",P5<>""),--(COUNTIFS($P$2:P5,P5,$J$2:J5,J5)=1),0) -> 0 | P5: =IF(A5="","",LEFT(A5,6)) -> C22666 | Q5: =IF(C5="","",IF(ISNUMBER(C5),TEXT(C5,"yyyy-mm-dd"),IFERROR(TEXT(DATEVALUE(C5),"yyyy-mm-dd"),C5))) -> 1942-04-01
A6: A241045264 | C6: 15046 | D6: 6.4 | E6: 46090 | F6: 91 | G6: 46034 | H6: 27 | I6: 45986 | K6: 2026-03 | L6: =IF(AND(D6<>"",E6<>"",P6<>""),--(COUNTIFS($P$2:P6,P6,$E$2:E6,E6)=1),0) -> 1 | M6: =IF(AND(F6<>"",G6<>"",P6<>""),--(COUNTIFS($P$2:P6,P6,$G$2:G6,G6)=1),0) -> 0 | N6: =IF(AND(H6<>"",I6<>"",P6<>""),--(COUNTIFS($P$2:P6,P6,$I$2:I6,I6)=1),0) -> 0 | O6: =IF(AND(J6<>"",P6<>""),--(COUNTIFS($P$2:P6,P6,$J$2:J6,J6)=1),0) -> 0 | P6: =IF(A6="","",LEFT(A6,6)) -> A24104 | Q6: =IF(C6="","",IF(ISNUMBER(C6),TEXT(C6,"yyyy-mm-dd"),IFERROR(TEXT(DATEVALUE(C6),"yyyy-mm-dd"),C6))) -> 1941-03-11
A7: C226662396 | C7: 15432 | D7: 7.3 | E7: 45848 | F7: 66 | G7: 46070 | H7: 16 | I7: 46093 | K7: 2026-03 | L7: =IF(AND(D7<>"",E7<>"",P7<>""),--(COUNTIFS($P$2:P7,P7,$E$2:E7,E7)=1),0) -> 0 | M7: =IF(AND(F7<>"",G7<>"",P7<>""),--(COUNTIFS($P$2:P7,P7,$G$2:G7,G7)=1),0) -> 0 | N7: =IF(AND(H7<>"",I7<>"",P7<>""),--(COUNTIFS($P$2:P7,P7,$I$2:I7,I7)=1),0) -> 1 | O7: =IF(AND(J7<>"",P7<>""),--(COUNTIFS($P$2:P7,P7,$J$2:J7,J7)=1),0) -> 0 | P7: =IF(A7="","",LEFT(A7,6)) -> C22666 | Q7: =IF(C7="","",IF(ISNUMBER(C7),TEXT(C7,"yyyy-mm-dd"),IFERROR(TEXT(DATEVALUE(C7),"yyyy-mm-dd"),C7))) -> 1942-04-01
A8: A241045264 | C8: 15046 | D8: 6.4 | E8: 46090 | F8: 91 | G8: 46034 | H8: 19 | I8: 46135 | J8: 2026-04 | K8: 2026-04 | L8: =IF(AND(D8<>"",E8<>"",P8<>""),--(COUNTIFS($P$2:P8,P8,$E$2:E8,E8)=1),0) -> 0 | M8: =IF(AND(F8<>"",G8<>"",P8<>""),--(COUNTIFS($P$2:P8,P8,$G$2:G8,G8)=1),0) -> 0 | N8: =IF(AND(H8<>"",I8<>"",P8<>""),--(COUNTIFS($P$2:P8,P8,$I$2:I8,I8)=1),0) -> 1 | O8: =IF(AND(J8<>"",P8<>""),--(COUNTIFS($P$2:P8,P8,$J$2:J8,J8)=1),0) -> 1 | P8: =IF(A8="","",LEFT(A8,6)) -> A24104 | Q8: =IF(C8="","",IF(ISNUMBER(C8),TEXT(C8,"yyyy-mm-dd"),IFERROR(TEXT(DATEVALUE(C8),"yyyy-mm-dd"),C8))) -> 1941-03-11
A9: C226662396 | C9: 15432 | D9: 7.3 | E9: 45848 | F9: 66 | G9: 46070 | H9: 16 | I9: 46093 | J9: 2026-04 | K9: 2026-04 | L9: =IF(AND(D9<>"",E9<>"",P9<>""),--(COUNTIFS($P$2:P9,P9,$E$2:E9,E9)=1),0) -> 0 | M9: =IF(AND(F9<>"",G9<>"",P9<>""),--(COUNTIFS($P$2:P9,P9,$G$2:G9,G9)=1),0) -> 0 | N9: =IF(AND(H9<>"",I9<>"",P9<>""),--(COUNTIFS($P$2:P9,P9,$I$2:I9,I9)=1),0) -> 0 | O9: =IF(AND(J9<>"",P9<>""),--(COUNTIFS($P$2:P9,P9,$J$2:J9,J9)=1),0) -> 1 | P9: =IF(A9="","",LEFT(A9,6)) -> C22666 | Q9: =IF(C9="","",IF(ISNUMBER(C9),TEXT(C9,"yyyy-mm-dd"),IFERROR(TEXT(DATEVALUE(C9),"yyyy-mm-dd"),C9))) -> 1942-04-01
A10: A241045264 | C10: 15046 | D10: 6.4 | E10: 46090 | F10: 91 | G10: 46034 | H10: 8 | I10: 46150 | J10: 2026-05 | K10: 2026-05 | L10: =IF(AND(D10<>"",E10<>"",P10<>""),--(COUNTIFS($P$2:P10,P10,$E$2:E10,E10)=1),0) -> 0 | M10: =IF(AND(F10<>"",G10<>"",P10<>""),--(COUNTIFS($P$2:P10,P10,$G$2:G10,G10)=1),0) -> 0 | N10: =IF(AND(H10<>"",I10<>"",P10<>""),--(COUNTIFS($P$2:P10,P10,$I$2:I10,I10)=1),0) -> 1 | O10: =IF(AND(J10<>"",P10<>""),--(COUNTIFS($P$2:P10,P10,$J$2:J10,J10)=1),0) -> 1 | P10: =IF(A10="","",LEFT(A10,6)) -> A24104 | Q10: =IF(C10="","",IF(ISNUMBER(C10),TEXT(C10,"yyyy-mm-dd"),IFERROR(TEXT(DATEVALUE(C10),"yyyy-mm-dd"),C10))) -> 1941-03-11
A11: C226662396 | C11: 15432 | D11: 7.3 | E11: 45848 | F11: 66 | G11: 46070 | H11: 16 | I11: 46093 | K11: 2026-05 | L11: =IF(AND(D11<>"",E11<>"",P11<>""),--(COUNTIFS($P$2:P11,P11,$E$2:E11,E11)=1),0) -> 0 | M11: =IF(AND(F11<>"",G11<>"",P11<>""),--(COUNTIFS($P$2:P11,P11,$G$2:G11,G11)=1),0) -> 0 | N11: =IF(AND(H11<>"",I11<>"",P11<>""),--(COUNTIFS($P$2:P11,P11,$I$2:I11,I11)=1),0) -> 0 | O11: =IF(AND(J11<>"",P11<>""),--(COUNTIFS($P$2:P11,P11,$J$2:J11,J11)=1),0) -> 0 | P11: =IF(A11="","",LEFT(A11,6)) -> C22666 | Q11: =IF(C11="","",IF(ISNUMBER(C11),TEXT(C11,"yyyy-mm-dd"),IFERROR(TEXT(DATEVALUE(C11),"yyyy-mm-dd"),C11))) -> 1942-04-01
A12: A241045264 | C12: 15046 | D12: 6.4 | E12: 46090 | F12: 91 | G12: 46034 | H12: 22 | I12: 46199 | J12: 2026-06 | K12: 2026-06 | L12: =IF(AND(D12<>"",E12<>"",P12<>""),--(COUNTIFS($P$2:P12,P12,$E$2:E12,E12)=1),0) -> 0 | M12: =IF(AND(F12<>"",G12<>"",P12<>""),--(COUNTIFS($P$2:P12,P12,$G$2:G12,G12)=1),0) -> 0 | N12: =IF(AND(H12<>"",I12<>"",P12<>""),--(COUNTIFS($P$2:P12,P12,$I$2:I12,I12)=1),0) -> 1 | O12: =IF(AND(J12<>"",P12<>""),--(COUNTIFS($P$2:P12,P12,$J$2:J12,J12)=1),0) -> 1 | P12: =IF(A12="","",LEFT(A12,6)) -> A24104 | Q12: =IF(C12="","",IF(ISNUMBER(C12),TEXT(C12,"yyyy-mm-dd"),IFERROR(TEXT(DATEVALUE(C12),"yyyy-mm-dd"),C12))) -> 1941-03-11
A13: C226662396 | C13: 15432 | D13: 7.3 | E13: 45848 | F13: 89 | G13: 46193 | H13: 16 | I13: 46093 | K13: 2026-06 | L13: =IF(AND(D13<>"",E13<>"",P13<>""),--(COUNTIFS($P$2:P13,P13,$E$2:E13,E13)=1),0) -> 0 | M13: =IF(AND(F13<>"",G13<>"",P13<>""),--(COUNTIFS($P$2:P13,P13,$G$2:G13,G13)=1),0) -> 1 | N13: =IF(AND(H13<>"",I13<>"",P13<>""),--(COUNTIFS($P$2:P13,P13,$I$2:I13,I13)=1),0) -> 0 | O13: =IF(AND(J13<>"",P13<>""),--(COUNTIFS($P$2:P13,P13,$J$2:J13,J13)=1),0) -> 0 | P13: =IF(A13="","",LEFT(A13,6)) -> C22666 | Q13: =IF(C13="","",IF(ISNUMBER(C13),TEXT(C13,"yyyy-mm-dd"),IFERROR(TEXT(DATEVALUE(C13),"yyyy-mm-dd"),C13))) -> 1942-04-01
A14: A241045264 | C14: 15046 | D14: 6.4 | E14: 46090 | F14: 73 | G14: 46208 | H14: 11 | I14: 46221 | J14: 2026-06 | K14: 2026-07 | L14: =IF(AND(D14<>"",E14<>"",P14<>""),--(COUNTIFS($P$2:P14,P14,$E$2:E14,E14)=1),0) -> 0 | M14: =IF(AND(F14<>"",G14<>"",P14<>""),--(COUNTIFS($P$2:P14,P14,$G$2:G14,G14)=1),0) -> 1 | N14: =IF(AND(H14<>"",I14<>"",P14<>""),--(COUNTIFS($P$2:P14,P14,$I$2:I14,I14)=1),0) -> 1 | O14: =IF(AND(J14<>"",P14<>""),--(COUNTIFS($P$2:P14,P14,$J$2:J14,J14)=1),0) -> 0 | P14: =IF(A14="","",LEFT(A14,6)) -> A24104 | Q14: =IF(C14="","",IF(ISNUMBER(C14),TEXT(C14,"yyyy-mm-dd"),IFERROR(TEXT(DATEVALUE(C14),"yyyy-mm-dd"),C14))) -> 1941-03-11
A15: C226662396 | C15: 15432 | D15: 7.3 | E15: 45848 | F15: 89 | G15: 46193 | H15: 16 | I15: 46093 | K15: 2026-07 | L15: =IF(AND(D15<>"",E15<>"",P15<>""),--(COUNTIFS($P$2:P15,P15,$E$2:E15,E15)=1),0) -> 0 | M15: =IF(AND(F15<>"",G15<>"",P15<>""),--(COUNTIFS($P$2:P15,P15,$G$2:G15,G15)=1),0) -> 0 | N15: =IF(AND(H15<>"",I15<>"",P15<>""),--(COUNTIFS($P$2:P15,P15,$I$2:I15,I15)=1),0) -> 0 | O15: =IF(AND(J15<>"",P15<>""),--(COUNTIFS($P$2:P15,P15,$J$2:J15,J15)=1),0) -> 0 | P15: =IF(A15="","",LEFT(A15,6)) -> C22666 | Q15: =IF(C15="","",IF(ISNUMBER(C15),TEXT(C15,"yyyy-mm-dd"),IFERROR(TEXT(DATEVALUE(C15),"yyyy-mm-dd"),C15))) -> 1942-04-01
L16: =IF(AND(D16<>"",E16<>"",P16<>""),--(COUNTIFS($P$2:P16,P16,$E$2:E16,E16)=1),0) -> 0 | M16: =IF(AND(F16<>"",G16<>"",P16<>""),--(COUNTIFS($P$2:P16,P16,$G$2:G16,G16)=1),0) -> 0 | N16: =IF(AND(H16<>"",I16<>"",P16<>""),--(COUNTIFS($P$2:P16,P16,$I$2:I16,I16)=1),0) -> 0 | O16: =IF(AND(J16<>"",P16<>""),--(COUNTIFS($P$2:P16,P16,$J$2:J16,J16)=1),0) -> 0 | P16: =IF(A16="","",LEFT(A16,6)) | Q16: =IF(C16="","",IF(ISNUMBER(C16),TEXT(C16,"yyyy-mm-dd"),IFERROR(TEXT(DATEVALUE(C16),"yyyy-mm-dd"),C16)))
L17: =IF(AND(D17<>"",E17<>"",P17<>""),--(COUNTIFS($P$2:P17,P17,$E$2:E17,E17)=1),0) -> 0 | M17: =IF(AND(F17<>"",G17<>"",P17<>""),--(COUNTIFS($P$2:P17,P17,$G$2:G17,G17)=1),0) -> 0 | N17: =IF(AND(H17<>"",I17<>"",P17<>""),--(COUNTIFS($P$2:P17,P17,$I$2:I17,I17)=1),0) -> 0 | O17: =IF(AND(J17<>"",P17<>""),--(COUNTIFS($P$2:P17,P17,$J$2:J17,J17)=1),0) -> 0 | P17: =IF(A17="","",LEFT(A17,6)) | Q17: =IF(C17="","",IF(ISNUMBER(C17),TEXT(C17,"yyyy-mm-dd"),IFERROR(TEXT(DATEVALUE(C17),"yyyy-mm-dd"),C17)))
L18: =IF(AND(D18<>"",E18<>"",P18<>""),--(COUNTIFS($P$2:P18,P18,$E$2:E18,E18)=1),0) -> 0 | M18: =IF(AND(F18<>"",G18<>"",P18<>""),--(COUNTIFS($P$2:P18,P18,$G$2:G18,G18)=1),0) -> 0 | N18: =IF(AND(H18<>"",I18<>"",P18<>""),--(COUNTIFS($P$2:P18,P18,$I$2:I18,I18)=1),0) -> 0 | O18: =IF(AND(J18<>"",P18<>""),--(COUNTIFS($P$2:P18,P18,$J$2:J18,J18)=1),0) -> 0 | P18: =IF(A18="","",LEFT(A18,6)) | Q18: =IF(C18="","",IF(ISNUMBER(C18),TEXT(C18,"yyyy-mm-dd"),IFERROR(TEXT(DATEVALUE(C18),"yyyy-mm-dd"),C18)))
L19: =IF(AND(D19<>"",E19<>"",P19<>""),--(COUNTIFS($P$2:P19,P19,$E$2:E19,E19)=1),0) -> 0 | M19: =IF(AND(F19<>"",G19<>"",P19<>""),--(COUNTIFS($P$2:P19,P19,$G$2:G19,G19)=1),0) -> 0 | N19: =IF(AND(H19<>"",I19<>"",P19<>""),--(COUNTIFS($P$2:P19,P19,$I$2:I19,I19)=1),0) -> 0 | O19: =IF(AND(J19<>"",P19<>""),--(COUNTIFS($P$2:P19,P19,$J$2:J19,J19)=1),0) -> 0 | P19: =IF(A19="","",LEFT(A19,6)) | Q19: =IF(C19="","",IF(ISNUMBER(C19),TEXT(C19,"yyyy-mm-dd"),IFERROR(TEXT(DATEVALUE(C19),"yyyy-mm-dd"),C19)))
L20: =IF(AND(D20<>"",E20<>"",P20<>""),--(COUNTIFS($P$2:P20,P20,$E$2:E20,E20)=1),0) -> 0 | M20: =IF(AND(F20<>"",G20<>"",P20<>""),--(COUNTIFS($P$2:P20,P20,$G$2:G20,G20)=1),0) -> 0 | N20: =IF(AND(H20<>"",I20<>"",P20<>""),--(COUNTIFS($P$2:P20,P20,$I$2:I20,I20)=1),0) -> 0 | O20: =IF(AND(J20<>"",P20<>""),--(COUNTIFS($P$2:P20,P20,$J$2:J20,J20)=1),0) -> 0 | P20: =IF(A20="","",LEFT(A20,6)) | Q20: =IF(C20="","",IF(ISNUMBER(C20),TEXT(C20,"yyyy-mm-dd"),IFERROR(TEXT(DATEVALUE(C20),"yyyy-mm-dd"),C20)))
L21: =IF(AND(D21<>"",E21<>"",P21<>""),--(COUNTIFS($P$2:P21,P21,$E$2:E21,E21)=1),0) -> 0 | M21: =IF(AND(F21<>"",G21<>"",P21<>""),--(COUNTIFS($P$2:P21,P21,$G$2:G21,G21)=1),0) -> 0 | N21: =IF(AND(H21<>"",I21<>"",P21<>""),--(COUNTIFS($P$2:P21,P21,$I$2:I21,I21)=1),0) -> 0 | O21: =IF(AND(J21<>"",P21<>""),--(COUNTIFS($P$2:P21,P21,$J$2:J21,J21)=1),0) -> 0 | P21: =IF(A21="","",LEFT(A21,6)) | Q21: =IF(C21="","",IF(ISNUMBER(C21),TEXT(C21,"yyyy-mm-dd"),IFERROR(TEXT(DATEVALUE(C21),"yyyy-mm-dd"),C21)))
L22: =IF(AND(D22<>"",E22<>"",P22<>""),--(COUNTIFS($P$2:P22,P22,$E$2:E22,E22)=1),0) -> 0 | M22: =IF(AND(F22<>"",G22<>"",P22<>""),--(COUNTIFS($P$2:P22,P22,$G$2:G22,G22)=1),0) -> 0 | N22: =IF(AND(H22<>"",I22<>"",P22<>""),--(COUNTIFS($P$2:P22,P22,$I$2:I22,I22)=1),0) -> 0 | O22: =IF(AND(J22<>"",P22<>""),--(COUNTIFS($P$2:P22,P22,$J$2:J22,J22)=1),0) -> 0 | P22: =IF(A22="","",LEFT(A22,6)) | Q22: =IF(C22="","",IF(ISNUMBER(C22),TEXT(C22,"yyyy-mm-dd"),IFERROR(TEXT(DATEVALUE(C22),"yyyy-mm-dd"),C22)))
L23: =IF(AND(D23<>"",E23<>"",P23<>""),--(COUNTIFS($P$2:P23,P23,$E$2:E23,E23)=1),0) -> 0 | M23: =IF(AND(F23<>"",G23<>"",P23<>""),--(COUNTIFS($P$2:P23,P23,$G$2:G23,G23)=1),0) -> 0 | N23: =IF(AND(H23<>"",I23<>"",P23<>""),--(COUNTIFS($P$2:P23,P23,$I$2:I23,I23)=1),0) -> 0 | O23: =IF(AND(J23<>"",P23<>""),--(COUNTIFS($P$2:P23,P23,$J$2:J23,J23)=1),0) -> 0 | P23: =IF(A23="","",LEFT(A23,6)) | Q23: =IF(C23="","",IF(ISNUMBER(C23),TEXT(C23,"yyyy-mm-dd"),IFERROR(TEXT(DATEVALUE(C23),"yyyy-mm-dd"),C23)))
L24: =IF(AND(D24<>"",E24<>"",P24<>""),--(COUNTIFS($P$2:P24,P24,$E$2:E24,E24)=1),0) -> 0 | M24: =IF(AND(F24<>"",G24<>"",P24<>""),--(COUNTIFS($P$2:P24,P24,$G$2:G24,G24)=1),0) -> 0 | N24: =IF(AND(H24<>"",I24<>"",P24<>""),--(COUNTIFS($P$2:P24,P24,$I$2:I24,I24)=1),0) -> 0 | O24: =IF(AND(J24<>"",P24<>""),--(COUNTIFS($P$2:P24,P24,$J$2:J24,J24)=1),0) -> 0 | P24: =IF(A24="","",LEFT(A24,6)) | Q24: =IF(C24="","",IF(ISNUMBER(C24),TEXT(C24,"yyyy-mm-dd"),IFERROR(TEXT(DATEVALUE(C24),"yyyy-mm-dd"),C24)))
L25: =IF(AND(D25<>"",E25<>"",P25<>""),--(COUNTIFS($P$2:P25,P25,$E$2:E25,E25)=1),0) -> 0 | M25: =IF(AND(F25<>"",G25<>"",P25<>""),--(COUNTIFS($P$2:P25,P25,$G$2:G25,G25)=1),0) -> 0 | N25: =IF(AND(H25<>"",I25<>"",P25<>""),--(COUNTIFS($P$2:P25,P25,$I$2:I25,I25)=1),0) -> 0 | O25: =IF(AND(J25<>"",P25<>""),--(COUNTIFS($P$2:P25,P25,$J$2:J25,J25)=1),0) -> 0 | P25: =IF(A25="","",LEFT(A25,6)) | Q25: =IF(C25="","",IF(ISNUMBER(C25),TEXT(C25,"yyyy-mm-dd"),IFERROR(TEXT(DATEVALUE(C25),"yyyy-mm-dd"),C25)))
L26: =IF(AND(D26<>"",E26<>"",P26<>""),--(COUNTIFS($P$2:P26,P26,$E$2:E26,E26)=1),0) -> 0 | M26: =IF(AND(F26<>"",G26<>"",P26<>""),--(COUNTIFS($P$2:P26,P26,$G$2:G26,G26)=1),0) -> 0 | N26: =IF(AND(H26<>"",I26<>"",P26<>""),--(COUNTIFS($P$2:P26,P26,$I$2:I26,I26)=1),0) -> 0 | O26: =IF(AND(J26<>"",P26<>""),--(COUNTIFS($P$2:P26,P26,$J$2:J26,J26)=1),0) -> 0 | P26: =IF(A26="","",LEFT(A26,6)) | Q26: =IF(C26="","",IF(ISNUMBER(C26),TEXT(C26,"yyyy-mm-dd"),IFERROR(TEXT(DATEVALUE(C26),"yyyy-mm-dd"),C26)))
L27: =IF(AND(D27<>"",E27<>"",P27<>""),--(COUNTIFS($P$2:P27,P27,$E$2:E27,E27)=1),0) -> 0 | M27: =IF(AND(F27<>"",G27<>"",P27<>""),--(COUNTIFS($P$2:P27,P27,$G$2:G27,G27)=1),0) -> 0 | N27: =IF(AND(H27<>"",I27<>"",P27<>""),--(COUNTIFS($P$2:P27,P27,$I$2:I27,I27)=1),0) -> 0 | O27: =IF(AND(J27<>"",P27<>""),--(COUNTIFS($P$2:P27,P27,$J$2:J27,J27)=1),0) -> 0 | P27: =IF(A27="","",LEFT(A27,6)) | Q27: =IF(C27="","",IF(ISNUMBER(C27),TEXT(C27,"yyyy-mm-dd"),IFERROR(TEXT(DATEVALUE(C27),"yyyy-mm-dd"),C27)))
... L184: =IF(AND(D184<>"",E184<>"",P184<>""),--(COUNTIFS($P$2:P184,P184,$E$2:E184,E184)=1),0) -> 0 | M184: =IF(AND(F184<>"",G184<>"",P184<>""),--(COUNTIFS($P$2:P184,P184,$G$2:G184,G184)=1),0) -> 0 | N184: =IF(AND(H184<>"",I184<>"",P184<>""),--(COUNTIFS($P$2:P184,P184,$I$2:I184,I184)=1),0) -> 0 | O184: =IF(AND(J184<>"",P184<>""),--(COUNTIFS($P$2:P184,P184,$J$2:J184,J184)=1),0) -> 0 | P184: =IF(A184="","",LEFT(A184,6)) | Q184: =IF(C184="","",IF(ISNUMBER(C184),TEXT(C184,"yyyy-mm-dd"),IFERROR(TEXT(DATEVALUE(C184),"yyyy-mm-dd"),C184)))

Sheet 達標一覽表
A1: 個案基本資料｜識別資訊與疾病組合 | E1: HbA1c 控制｜標準、最新趨勢與達標判定 | M1: LDL 控制｜標準、趨勢、年度最低與判定 | V1: UACR 腎臟風險｜標準、趨勢與達標判定 | AD1: 檢驗頻次｜年度與上下半年完成情形 | AM1: 點值與成果｜加成、點值及檢驗燈號 | AU1: 建議行動｜依事實建議檢查
E2: 依疾病組合及年齡設定的 HbA1c 控制標準；不適用者顯示「不適用」。 | F2: 該個案最近一個有效檢驗日期的 HbA1c 結果。 | G2: HbA1c 最新有效檢驗日期。 | H2: 前一個不同檢驗日期的 HbA1c 結果。 | I2: HbA1c 前一次有效檢驗日期。 | J2: HbA1c 最新與前一次檢驗日期的相隔天數。 | K2: 綜合適用標準、年度檢驗次數、下半年檢驗及數值趨勢判定 HbA1c 狀態。 | L2: 顯示 HbA1c 全年次數、下半年次數及符合標準次數。 | M2: 依疾病組合與 ASCVD 風險設定的 LDL 控制標準。 | N2: 該個案最近一個有效檢驗日期的 LDL 結果。 | O2: LDL 最新有效檢驗日期。 | P2: 前一個不同檢驗日期的 LDL 結果。 | Q2: LDL 前一次有效檢驗日期。 | R2: LDL 最新與前一次檢驗日期的相隔天數。 | S2: 匯入檢驗紀錄中的最低 LDL 值，用於觀察曾達到的最佳控制。 | T2: 綜合 LDL 標準、年度與下半年檢驗次數、達標比例及改善趨勢判定。 | U2: 顯示 LDL 全年次數、下半年次數及符合標準次數。 | V2: CKD 相關疾病組合適用 UACR <30 mg/g；其他顯示不適用。 | W2: 該個案最近一個有效檢驗日期的 UACR 結果。 | X2: UACR 最新有效檢驗日期。 | Y2: 前一個不同檢驗日期的 UACR 結果。 | Z2: UACR 前一次有效檢驗日期。 | AA2: UACR 最新與前一次檢驗日期的相隔天數。 | AB2: 綜合 UACR 標準、年度與下半年檢驗次數、達標比例及改善趨勢判定。 | AC2: 顯示 UACR 全年次數、下半年次數及符合標準次數。 | AD2: 依個案條件設定的年度 BP 上傳次數標準。 | AE2: 本年度 BP 有效且不重複日期的上傳次數。 | AF2: 本年度 1–6 月 HbA1c 有效且不重複日期的檢驗次數。 | AG2: 本年度 7–12 月 HbA1c 有效且不重複日期的檢驗次數。 | AH2: 本年度 1–6 月 LDL 有效且不重複日期的檢驗次數。 | AI2: 本年度 7–12 月 LDL 有效且不重複日期的檢驗次數。 | AJ2: 本年度 1–6 月 UACR 有效且不重複日期的檢驗次數。 | AK2: 本年度 7–12 月 UACR 有效且不重複日期的檢驗次數。 | AL2: 依疾病組合檢查 HbA1c、LDL、UACR 上下半年頻次及 BP 年度次數是否全部完成。 | AM2: 每位有效個案固定基本費 250 點。 | AN2: 每位有效個案固定個資加成費 30 點。 | AO2: 適用個案若檢驗頻次達標，加計 100 點。 | AP2: 依疾病組合 達標項目數，由相容設定表對應提升費。 | AQ2: 前項為達標項目數，後項為適用評估項目數，例如 2/3。 | AR2: 基本費、個資加成費、檢驗達成加成費及糖心腎提升費的合計。 | AS2: 依疾病組合可取得的基本費、加成費與提升費最高合計。 | AT2: 全部適用項目達標為綠燈、全部未達標為紅燈，其餘為黃燈。 | AU2: 僅陳述未達標或缺檢事實，並建議安排檢查或複檢；不提供用藥建議。 | AV2: 隱藏輔助欄：組合 HbA1c、LDL、UACR 未檢驗或未達標的事實文字。 | AW2: 隱藏輔助欄：組合上下半年缺檢與 BP 次數不足的事實文字。 | AX2: 隱藏輔助欄：由身分證號擷取前六碼，供檢驗資料比對使用。 | AY2: 隱藏輔助欄：將民國生日轉為西元日期，供檢驗資料比對使用。
A3: 序號 | B3: 身分證號 | C3: 生日 | D3: 疾病組合 | E3: HbA1c達標標準 | F3: HbA1c最新值 | G3: HbA1c最新日期 | H3: HbA1c前一次值 | I3: HbA1c前一次日期 | J3: HbA1c間隔天數 | K3: HbA1c達標狀態 | L3: HbA1c判定依據 | M3: LDL達標標準 | N3: LDL最新值 | O3: LDL最新日期 | P3: LDL前一次值 | Q3: LDL前一次日期 | R3: LDL間隔天數 | S3: LDL年度最低值 | T3: LDL達標狀態 | U3: LDL判定依據 | V3: UACR達標標準 | W3: UACR最新值 | X3: UACR最新日期 | Y3: UACR前一次值 | Z3: UACR前一次日期 | AA3: UACR間隔天數 | AB3: UACR達標狀態 | AC3: UACR判定依據 | AD3: BP達標標準（次/年） | AE3: BP上傳次數（年） | AF3: HbA1c上半年次數 | AG3: HbA1c下半年次數 | AH3: LDL上半年次數 | AI3: LDL下半年次數 | AJ3: UACR上半年次數 | AK3: UACR下半年次數 | AL3: 檢驗頻次達標狀態 | AM3: 基本費 | AN3: 個資加成費 | AO3: 檢驗達成加成費 | AP3: 糖心腎提升費 | AQ3: 達標項目數(達標/適用) | AR3: 現得點值 | AS3: 點值上限 | AT3: 燈號 | AU3: 建議行動 | AV3: 狀態建議(輔助) | AW3: 頻次建議(輔助) | AX3: 比對身分證前六碼(輔助) | AY3: 比對生日西元(輔助)
