Workbook

Sheet 操作說明
A1: TACD 家醫2.0 個案獎勵追蹤 Excel試算表 本試算表僅供參考，實際獎勵金額仍以官方公告為準。
A2: #VALUE! | B2: 【病人一覽表】 1. 將 8 月 2 日上傳至大家醫平台的「委派」與「自收」病患清單複製，貼入「病患一覽表」的 A 欄至 P 欄（欄位順序與原始下載表格相同）。 2. 貼上後，Q 欄會自動判斷病患的疾病組合及應達標項目（不需檢驗的項目會自動顯示「不適用」）。
A3: #VALUE! | B3: 【檢驗原始資料取得】 1. 登入「健保資訊網服務系統」，點擊右下角的「大家醫平台」進行院所登入。
A5: #VALUE! | B5: 1. 進入「個案健康管理列表」，勾選「全部」收案名單（包含各疾病樣態與非 P4P 個案）。
A7: #VALUE! | B7: 1. 點選「下載表格」，取得最新的檢驗數據。為確保每一次檢驗資料都可以被包含在下載資料中，請診所每個月固定日期下載檔案。
A9: #VALUE! | B9: 【檢驗原始資料輸入】 1. 以「累加」方式貼入：平台每月僅顯示最新一次檢驗，因此每月下載後請直接往下累加貼上，切勿覆蓋舊資料，以利計算全年檢驗次數與間隔。 2. 欄位保留：姓名欄可留白或刪除，但「身分證字號」務必保留以供系統比對。
A11: #VALUE! | B11: 【檢驗原始資料輸入】 1. 補充「匯入月份」：在資料最後一欄填寫匯入年月（格式為 西元年-月份，例如：2026-01）。 2. 補充「血壓 (BP)」（選填）：若系統未自動帶出，院所可評估人力手動填寫（填寫格式如 2026-01）；未填寫僅影響血壓次數判定，不影響其他檢驗項目
A13: #VALUE! | B13: 【診所總覽】 可確認目前診所內所有病患達標狀況以及點數取得進度。
A15: #VALUE! | B15: 【達標一覽表】 追蹤檢驗明細：可分別查看 HbA1c、LDL、UACR 的數值區間；橘色區塊為「檢驗次數達標」判定（需完成所有規定次數才算達標；若次數達標但數值未達標，整體仍判定為未達標）。
A17: 資料格式FAQ
A18: Q1: 目前檔案中的資料是否可以刪除？ | B18: A1： 可以，目前資料表中的資料皆為假擬使用者資料（Mock User Data），使用前可以先行刪除
A20: Q2: 如果我現在手邊的資料格式跟示範案例不同的話可以使用嗎？ | B20: A2：不行。請務必確保輸入資料格式與樣本格式相同，常見不同資料格式的處理方法可參考下方說明
B21: 常見狀況一：資料格式內有其他符號。 處理方式：請按下「Ctrl + H」，在尋找(Find what)欄位輸入該符號，並保持取代(Replace with)留白後按下取代全部(Replace All)。 | C21: #VALUE!
B22: 常見狀況二：資料格式有其他呈現方式，例如日期或是時間 處理方式：請按下「Ctrl + 1」，點選數字(Number)後選擇符合本資料表可以判讀的格式，或是在樣本(Sample)的地方填上本表的格式 (MM/DD/YYYY) | C22: #VALUE!

Sheet 病人一覽表
A1: 院所ID | B1: 身分證號 | C1: 生日 | D1: 個案類別 | E1: 論質名單 | F1: 65歲以上多重慢性病註記 | G1: 高診次註記 | H1: 慢性病註記 | I1: 非慢性病註記 | J1: 與前一年家醫收案診所相同 | K1: 疾病樣態 | L1: ASCVD | M1: 三高 | N1: 高血壓 | O1: 高血脂 | P1: 高血糖 | Q1: 疾病組合 | R1: LDL達標標準 | S1: HbA1c達標標準 | T1: UACR達標標準 | U1: BP檢驗次數達標標準
A2: 25030042 | B2: A24104**** | C2: 030/03/11 | D2: 2b | E2: 0 | F2: 0 | G2: 0 | H2: 0 | I2: 0 | J2: 2 | K2: 3 | L2: a | M2: 1 | N2: 1 | O2: 1 | P2: 1 | Q2: =IF(COUNTA(PatientCriteria[[#This Row],[院所ID]:[高血糖]])=0,"",IF(PatientCriteria[[#This Row],[疾病樣態]]=1,IF(OR(PatientCriteria[[#This Row],[ASCVD]]="a",PatientCriteria[[#This Row],[ASCVD]]="b"),"DM+ASCVD","DM only"),IF(PatientCriteria[[#This Row],[疾病樣態]]=2,IF(OR(PatientCriteria[[#This Row],[ASCVD]]="a",PatientCriteria[[#This Row],[ASCVD]]="b"),"CKD+ASCVD","CKD only"),IF(PatientCriteria[[#This Row],[疾病樣態]]=3,IF(OR(PatientCriteria[[#This Row],[ASCVD]]="a",PatientCriteria[[#This Row],[ASCVD]]="b"),"DM+CKD+ASCVD","DM+CKD"),IF(PatientCriteria[[#This Row],[疾病樣態]]=4,IF(OR(PatientCriteria[[#This Row],[ASCVD]]="a",PatientCriteria[[#This Row],[ASCVD]]="b"),"ASCVD only","無特定分類"),"未知"))))) -> DM+CKD+ASCVD | R2: =IF(COUNTA(PatientCriteria[[#This Row],[院所ID]:[高血糖]])=0,"",IF(PatientCriteria[[#This Row],[疾病組合]]="無特定分類","不適用",IF(PatientCriteria[[#This Row],[疾病組合]]="DM only","<100",IF(PatientCriteria[[#This Row],[疾病組合]]="CKD only","<130",IF(PatientCriteria[[#This Row],[疾病組合]]="DM+CKD","<100",IF(OR(PatientCriteria[[#This Row],[疾病組合]]="ASCVD only",PatientCriteria[[#This Row],[疾病組合]]="CKD+ASCVD",PatientCriteria[[#This Row],[疾病組合]]="DM+ASCVD",PatientCriteria[[#This Row],[疾病組合]]="DM+CKD+ASCVD"),IF(PatientCriteria[[#This Row],[ASCVD]]="b","<55",IF(PatientCriteria[[#This Row],[ASCVD]]="a","<70","不適用")),"不適用")))))) -> <70 | S2: =IF(COUNTA(PatientCriteria[[#This Row],[院所ID]:[高血糖]])=0,"",IF(OR(PatientCriteria[[#This Row],[疾病組合]]="DM only",PatientCriteria[[#This Row],[疾病組合]]="DM+CKD",PatientCriteria[[#This Row],[疾病組合]]="DM+ASCVD",PatientCriteria[[#This Row],[疾病組合]]="DM+CKD+ASCVD"),IF(DATEDIF(DATE(1911+VALUE(LEFT(PatientCriteria[[#This Row],[生日]],3)),VALUE(MID(PatientCriteria[[#This Row],[生日]],5,2)),VALUE(RIGHT(PatientCriteria[[#This Row],[生日]],2))),TODAY(),"Y")>=80,"<8%","<7%"),"不適用")) -> <8% | T2: =IF(COUNTA(PatientCriteria[[#This Row],[院所ID]:[高血糖]])=0,"",IF(OR(PatientCriteria[[#This Row],[疾病組合]]="CKD only",PatientCriteria[[#This Row],[疾病組合]]="DM+CKD",PatientCriteria[[#This Row],[疾病組合]]="CKD+ASCVD",PatientCriteria[[#This Row],[疾病組合]]="DM+CKD+ASCVD"),"<30 mg/g","不適用")) -> <30 mg/g | U2: =IF(COUNTA(PatientCriteria[[#This Row],[院所ID]:[高血糖]])=0,"",IF(PatientCriteria[[#This Row],[高血壓]]=1,"3次","不適用")) -> 3次
A3: 25030042 | B3: C22666**** | C3: 031/04/01 | D3: 2b | E3: 1 | F3: 0 | G3: 1 | H3: 0 | I3: 0 | J3: 1 | K3: 3 | L3: b | M3: 1 | N3: 1 | O3: 1 | P3: 1 | Q3: =IF(COUNTA(PatientCriteria[[#This Row],[院所ID]:[高血糖]])=0,"",IF(PatientCriteria[[#This Row],[疾病樣態]]=1,IF(OR(PatientCriteria[[#This Row],[ASCVD]]="a",PatientCriteria[[#This Row],[ASCVD]]="b"),"DM+ASCVD","DM only"),IF(PatientCriteria[[#This Row],[疾病樣態]]=2,IF(OR(PatientCriteria[[#This Row],[ASCVD]]="a",PatientCriteria[[#This Row],[ASCVD]]="b"),"CKD+ASCVD","CKD only"),IF(PatientCriteria[[#This Row],[疾病樣態]]=3,IF(OR(PatientCriteria[[#This Row],[ASCVD]]="a",PatientCriteria[[#This Row],[ASCVD]]="b"),"DM+CKD+ASCVD","DM+CKD"),IF(PatientCriteria[[#This Row],[疾病樣態]]=4,IF(OR(PatientCriteria[[#This Row],[ASCVD]]="a",PatientCriteria[[#This Row],[ASCVD]]="b"),"ASCVD only","無特定分類"),"未知"))))) -> DM+CKD+ASCVD | R3: =IF(COUNTA(PatientCriteria[[#This Row],[院所ID]:[高血糖]])=0,"",IF(PatientCriteria[[#This Row],[疾病組合]]="無特定分類","不適用",IF(PatientCriteria[[#This Row],[疾病組合]]="DM only","<100",IF(PatientCriteria[[#This Row],[疾病組合]]="CKD only","<130",IF(PatientCriteria[[#This Row],[疾病組合]]="DM+CKD","<100",IF(OR(PatientCriteria[[#This Row],[疾病組合]]="ASCVD only",PatientCriteria[[#This Row],[疾病組合]]="CKD+ASCVD",PatientCriteria[[#This Row],[疾病組合]]="DM+ASCVD",PatientCriteria[[#This Row],[疾病組合]]="DM+CKD+ASCVD"),IF(PatientCriteria[[#This Row],[ASCVD]]="b","<55",IF(PatientCriteria[[#This Row],[ASCVD]]="a","<70","不適用")),"不適用")))))) -> <55 | S3: =IF(COUNTA(PatientCriteria[[#This Row],[院所ID]:[高血糖]])=0,"",IF(OR(PatientCriteria[[#This Row],[疾病組合]]="DM only",PatientCriteria[[#This Row],[疾病組合]]="DM+CKD",PatientCriteria[[#This Row],[疾病組合]]="DM+ASCVD",PatientCriteria[[#This Row],[疾病組合]]="DM+CKD+ASCVD"),IF(DATEDIF(DATE(1911+VALUE(LEFT(PatientCriteria[[#This Row],[生日]],3)),VALUE(MID(PatientCriteria[[#This Row],[生日]],5,2)),VALUE(RIGHT(PatientCriteria[[#This Row],[生日]],2))),TODAY(),"Y")>=80,"<8%","<7%"),"不適用")) -> <8% | T3: =IF(COUNTA(PatientCriteria[[#This Row],[院所ID]:[高血糖]])=0,"",IF(OR(PatientCriteria[[#This Row],[疾病組合]]="CKD only",PatientCriteria[[#This Row],[疾病組合]]="DM+CKD",PatientCriteria[[#This Row],[疾病組合]]="CKD+ASCVD",PatientCriteria[[#This Row],[疾病組合]]="DM+CKD+ASCVD"),"<30 mg/g","不適用")) -> <30 mg/g | U3: =IF(COUNTA(PatientCriteria[[#This Row],[院所ID]:[高血糖]])=0,"",IF(PatientCriteria[[#This Row],[高血壓]]=1,"3次","不適用")) -> 3次
Q4: =IF(COUNTA(PatientCriteria[[#This Row],[院所ID]:[高血糖]])=0,"",IF(PatientCriteria[[#This Row],[疾病樣態]]=1,IF(OR(PatientCriteria[[#This Row],[ASCVD]]="a",PatientCriteria[[#This Row],[ASCVD]]="b"),"DM+ASCVD","DM only"),IF(PatientCriteria[[#This Row],[疾病樣態]]=2,IF(OR(PatientCriteria[[#This Row],[ASCVD]]="a",PatientCriteria[[#This Row],[ASCVD]]="b"),"CKD+ASCVD","CKD only"),IF(PatientCriteria[[#This Row],[疾病樣態]]=3,IF(OR(PatientCriteria[[#This Row],[ASCVD]]="a",PatientCriteria[[#This Row],[ASCVD]]="b"),"DM+CKD+ASCVD","DM+CKD"),IF(PatientCriteria[[#This Row],[疾病樣態]]=4,IF(OR(PatientCriteria[[#This Row],[ASCVD]]="a",PatientCriteria[[#This Row],[ASCVD]]="b"),"ASCVD only","無特定分類"),"未知"))))) | R4: =IF(COUNTA(PatientCriteria[[#This Row],[院所ID]:[高血糖]])=0,"",IF(PatientCriteria[[#This Row],[疾病組合]]="無特定分類","不適用",IF(PatientCriteria[[#This Row],[疾病組合]]="DM only","<100",IF(PatientCriteria[[#This Row],[疾病組合]]="CKD only","<130",IF(PatientCriteria[[#This Row],[疾病組合]]="DM+CKD","<100",IF(OR(PatientCriteria[[#This Row],[疾病組合]]="ASCVD only",PatientCriteria[[#This Row],[疾病組合]]="CKD+ASCVD",PatientCriteria[[#This Row],[疾病組合]]="DM+ASCVD",PatientCriteria[[#This Row],[疾病組合]]="DM+CKD+ASCVD"),IF(PatientCriteria[[#This Row],[ASCVD]]="b","<55",IF(PatientCriteria[[#This Row],[ASCVD]]="a","<70","不適用")),"不適用")))))) | S4: =IF(COUNTA(PatientCriteria[[#This Row],[院所ID]:[高血糖]])=0,"",IF(OR(PatientCriteria[[#This Row],[疾病組合]]="DM only",PatientCriteria[[#This Row],[疾病組合]]="DM+CKD",PatientCriteria[[#This Row],[疾病組合]]="DM+ASCVD",PatientCriteria[[#This Row],[疾病組合]]="DM+CKD+ASCVD"),IF(DATEDIF(DATE(1911+VALUE(LEFT(PatientCriteria[[#This Row],[生日]],3)),VALUE(MID(PatientCriteria[[#This Row],[生日]],5,2)),VALUE(RIGHT(PatientCriteria[[#This Row],[生日]],2))),TODAY(),"Y")>=80,"<8%","<7%"),"不適用")) | T4: =IF(COUNTA(PatientCriteria[[#This Row],[院所ID]:[高血糖]])=0,"",IF(OR(PatientCriteria[[#This Row],[疾病組合]]="CKD only",PatientCriteria[[#This Row],[疾病組合]]="DM+CKD",PatientCriteria[[#This Row],[疾病組合]]="CKD+ASCVD",PatientCriteria[[#This Row],[疾病組合]]="DM+CKD+ASCVD"),"<30 mg/g","不適用")) | U4: =IF(COUNTA(PatientCriteria[[#This Row],[院所ID]:[高血糖]])=0,"",IF(PatientCriteria[[#This Row],[高血壓]]=1,"3次","不適用"))
Q5: =IF(COUNTA(PatientCriteria[[#This Row],[院所ID]:[高血糖]])=0,"",IF(PatientCriteria[[#This Row],[疾病樣態]]=1,IF(OR(PatientCriteria[[#This Row],[ASCVD]]="a",PatientCriteria[[#This Row],[ASCVD]]="b"),"DM+ASCVD","DM only"),IF(PatientCriteria[[#This Row],[疾病樣態]]=2,IF(OR(PatientCriteria[[#This Row],[ASCVD]]="a",PatientCriteria[[#This Row],[ASCVD]]="b"),"CKD+ASCVD","CKD only"),IF(PatientCriteria[[#This Row],[疾病樣態]]=3,IF(OR(PatientCriteria[[#This Row],[ASCVD]]="a",PatientCriteria[[#This Row],[ASCVD]]="b"),"DM+CKD+ASCVD","DM+CKD"),IF(PatientCriteria[[#This Row],[疾病樣態]]=4,IF(OR(PatientCriteria[[#This Row],[ASCVD]]="a",PatientCriteria[[#This Row],[ASCVD]]="b"),"ASCVD only","無特定分類"),"未知"))))) | R5: =IF(COUNTA(PatientCriteria[[#This Row],[院所ID]:[高血糖]])=0,"",IF(PatientCriteria[[#This Row],[疾病組合]]="無特定分類","不適用",IF(PatientCriteria[[#This Row],[疾病組合]]="DM only","<100",IF(PatientCriteria[[#This Row],[疾病組合]]="CKD only","<130",IF(PatientCriteria[[#This Row],[疾病組合]]="DM+CKD","<100",IF(OR(PatientCriteria[[#This Row],[疾病組合]]="ASCVD only",PatientCriteria[[#This Row],[疾病組合]]="CKD+ASCVD",PatientCriteria[[#This Row],[疾病組合]]="DM+ASCVD",PatientCriteria[[#This Row],[疾病組合]]="DM+CKD+ASCVD"),IF(PatientCriteria[[#This Row],[ASCVD]]="b","<55",IF(PatientCriteria[[#This Row],[ASCVD]]="a","<70","不適用")),"不適用")))))) | S5: =IF(COUNTA(PatientCriteria[[#This Row],[院所ID]:[高血糖]])=0,"",IF(OR(PatientCriteria[[#This Row],[疾病組合]]="DM only",PatientCriteria[[#This Row],[疾病組合]]="DM+CKD",PatientCriteria[[#This Row],[疾病組合]]="DM+ASCVD",PatientCriteria[[#This Row],[疾病組合]]="DM+CKD+ASCVD"),IF(DATEDIF(DATE(1911+VALUE(LEFT(PatientCriteria[[#This Row],[生日]],3)),VALUE(MID(PatientCriteria[[#This Row],[生日]],5,2)),VALUE(RIGHT(PatientCriteria[[#This Row],[生日]],2))),TODAY(),"Y")>=80,"<8%","<7%"),"不適用")) | T5: =IF(COUNTA(PatientCriteria[[#This Row],[院所ID]:[高血糖]])=0,"",IF(OR(PatientCriteria[[#This Row],[疾病組合]]="CKD only",PatientCriteria[[#This Row],[疾病組合]]="DM+CKD",PatientCriteria[[#This Row],[疾病組合]]="CKD+ASCVD",PatientCriteria[[#This Row],[疾病組合]]="DM+CKD+ASCVD"),"<30 mg/g","不適用")) | U5: =IF(COUNTA(PatientCriteria[[#This Row],[院所ID]:[高血糖]])=0,"",IF(PatientCriteria[[#This Row],[高血壓]]=1,"3次","不適用"))
Q6: =IF(COUNTA(PatientCriteria[[#This Row],[院所ID]:[高血糖]])=0,"",IF(PatientCriteria[[#This Row],[疾病樣態]]=1,IF(OR(PatientCriteria[[#This Row],[ASCVD]]="a",PatientCriteria[[#This Row],[ASCVD]]="b"),"DM+ASCVD","DM only"),IF(PatientCriteria[[#This Row],[疾病樣態]]=2,IF(OR(PatientCriteria[[#This Row],[ASCVD]]="a",PatientCriteria[[#This Row],[ASCVD]]="b"),"CKD+ASCVD","CKD only"),IF(PatientCriteria[[#This Row],[疾病樣態]]=3,IF(OR(PatientCriteria[[#This Row],[ASCVD]]="a",PatientCriteria[[#This Row],[ASCVD]]="b"),"DM+CKD+ASCVD","DM+CKD"),IF(PatientCriteria[[#This Row],[疾病樣態]]=4,IF(OR(PatientCriteria[[#This Row],[ASCVD]]="a",PatientCriteria[[#This Row],[ASCVD]]="b"),"ASCVD only","無特定分類"),"未知"))))) | R6: =IF(COUNTA(PatientCriteria[[#This Row],[院所ID]:[高血糖]])=0,"",IF(PatientCriteria[[#This Row],[疾病組合]]="無特定分類","不適用",IF(PatientCriteria[[#This Row],[疾病組合]]="DM only","<100",IF(PatientCriteria[[#This Row],[疾病組合]]="CKD only","<130",IF(PatientCriteria[[#This Row],[疾病組合]]="DM+CKD","<100",IF(OR(PatientCriteria[[#This Row],[疾病組合]]="ASCVD only",PatientCriteria[[#This Row],[疾病組合]]="CKD+ASCVD",PatientCriteria[[#This Row],[疾病組合]]="DM+ASCVD",PatientCriteria[[#This Row],[疾病組合]]="DM+CKD+ASCVD"),IF(PatientCriteria[[#This Row],[ASCVD]]="b","<55",IF(PatientCriteria[[#This Row],[ASCVD]]="a","<70","不適用")),"不適用")))))) | S6: =IF(COUNTA(PatientCriteria[[#This Row],[院所ID]:[高血糖]])=0,"",IF(OR(PatientCriteria[[#This Row],[疾病組合]]="DM only",PatientCriteria[[#This Row],[疾病組合]]="DM+CKD",PatientCriteria[[#This Row],[疾病組合]]="DM+ASCVD",PatientCriteria[[#This Row],[疾病組合]]="DM+CKD+ASCVD"),IF(DATEDIF(DATE(1911+VALUE(LEFT(PatientCriteria[[#This Row],[生日]],3)),VALUE(MID(PatientCriteria[[#This Row],[生日]],5,2)),VALUE(RIGHT(PatientCriteria[[#This Row],[生日]],2))),TODAY(),"Y")>=80,"<8%","<7%"),"不適用")) | T6: =IF(COUNTA(PatientCriteria[[#This Row],[院所ID]:[高血糖]])=0,"",IF(OR(PatientCriteria[[#This Row],[疾病組合]]="CKD only",PatientCriteria[[#This Row],[疾病組合]]="DM+CKD",PatientCriteria[[#This Row],[疾病組合]]="CKD+ASCVD",PatientCriteria[[#This Row],[疾病組合]]="DM+CKD+ASCVD"),"<30 mg/g","不適用")) | U6: =IF(COUNTA(PatientCriteria[[#This Row],[院所ID]:[高血糖]])=0,"",IF(PatientCriteria[[#This Row],[高血壓]]=1,"3次","不適用"))
Q7: =IF(COUNTA(PatientCriteria[[#This Row],[院所ID]:[高血糖]])=0,"",IF(PatientCriteria[[#This Row],[疾病樣態]]=1,IF(OR(PatientCriteria[[#This Row],[ASCVD]]="a",PatientCriteria[[#This Row],[ASCVD]]="b"),"DM+ASCVD","DM only"),IF(PatientCriteria[[#This Row],[疾病樣態]]=2,IF(OR(PatientCriteria[[#This Row],[ASCVD]]="a",PatientCriteria[[#This Row],[ASCVD]]="b"),"CKD+ASCVD","CKD only"),IF(PatientCriteria[[#This Row],[疾病樣態]]=3,IF(OR(PatientCriteria[[#This Row],[ASCVD]]="a",PatientCriteria[[#This Row],[ASCVD]]="b"),"DM+CKD+ASCVD","DM+CKD"),IF(PatientCriteria[[#This Row],[疾病樣態]]=4,IF(OR(PatientCriteria[[#This Row],[ASCVD]]="a",PatientCriteria[[#This Row],[ASCVD]]="b"),"ASCVD only","無特定分類"),"未知"))))) | R7: =IF(COUNTA(PatientCriteria[[#This Row],[院所ID]:[高血糖]])=0,"",IF(PatientCriteria[[#This Row],[疾病組合]]="無特定分類","不適用",IF(PatientCriteria[[#This Row],[疾病組合]]="DM only","<100",IF(PatientCriteria[[#This Row],[疾病組合]]="CKD only","<130",IF(PatientCriteria[[#This Row],[疾病組合]]="DM+CKD","<100",IF(OR(PatientCriteria[[#This Row],[疾病組合]]="ASCVD only",PatientCriteria[[#This Row],[疾病組合]]="CKD+ASCVD",PatientCriteria[[#This Row],[疾病組合]]="DM+ASCVD",PatientCriteria[[#This Row],[疾病組合]]="DM+CKD+ASCVD"),IF(PatientCriteria[[#This Row],[ASCVD]]="b","<55",IF(PatientCriteria[[#This Row],[ASCVD]]="a","<70","不適用")),"不適用")))))) | S7: =IF(COUNTA(PatientCriteria[[#This Row],[院所ID]:[高血糖]])=0,"",IF(OR(PatientCriteria[[#This Row],[疾病組合]]="DM only",PatientCriteria[[#This Row],[疾病組合]]="DM+CKD",PatientCriteria[[#This Row],[疾病組合]]="DM+ASCVD",PatientCriteria[[#This Row],[疾病組合]]="DM+CKD+ASCVD"),IF(DATEDIF(DATE(1911+VALUE(LEFT(PatientCriteria[[#This Row],[生日]],3)),VALUE(MID(PatientCriteria[[#This Row],[生日]],5,2)),VALUE(RIGHT(PatientCriteria[[#This Row],[生日]],2))),TODAY(),"Y")>=80,"<8%","<7%"),"不適用")) | T7: =IF(COUNTA(PatientCriteria[[#This Row],[院所ID]:[高血糖]])=0,"",IF(OR(PatientCriteria[[#This Row],[疾病組合]]="CKD only",PatientCriteria[[#This Row],[疾病組合]]="DM+CKD",PatientCriteria[[#This Row],[疾病組合]]="CKD+ASCVD",PatientCriteria[[#This Row],[疾病組合]]="DM+CKD+ASCVD"),"<30 mg/g","不適用")) | U7: =IF(COUNTA(PatientCriteria[[#This Row],[院所ID]:[高血糖]])=0,"",IF(PatientCriteria[[#This Row],[高血壓]]=1,"3次","不適用"))
Q8: =IF(COUNTA(PatientCriteria[[#This Row],[院所ID]:[高血糖]])=0,"",IF(PatientCriteria[[#This Row],[疾病樣態]]=1,IF(OR(PatientCriteria[[#This Row],[ASCVD]]="a",PatientCriteria[[#This Row],[ASCVD]]="b"),"DM+ASCVD","DM only"),IF(PatientCriteria[[#This Row],[疾病樣態]]=2,IF(OR(PatientCriteria[[#This Row],[ASCVD]]="a",PatientCriteria[[#This Row],[ASCVD]]="b"),"CKD+ASCVD","CKD only"),IF(PatientCriteria[[#This Row],[疾病樣態]]=3,IF(OR(PatientCriteria[[#This Row],[ASCVD]]="a",PatientCriteria[[#This Row],[ASCVD]]="b"),"DM+CKD+ASCVD","DM+CKD"),IF(PatientCriteria[[#This Row],[疾病樣態]]=4,IF(OR(PatientCriteria[[#This Row],[ASCVD]]="a",PatientCriteria[[#This Row],[ASCVD]]="b"),"ASCVD only","無特定分類"),"未知"))))) | R8: =IF(COUNTA(PatientCriteria[[#This Row],[院所ID]:[高血糖]])=0,"",IF(PatientCriteria[[#This Row],[疾病組合]]="無特定分類","不適用",IF(PatientCriteria[[#This Row],[疾病組合]]="DM only","<100",IF(PatientCriteria[[#This Row],[疾病組合]]="CKD only","<130",IF(PatientCriteria[[#This Row],[疾病組合]]="DM+CKD","<100",IF(OR(PatientCriteria[[#This Row],[疾病組合]]="ASCVD only",PatientCriteria[[#This Row],[疾病組合]]="CKD+ASCVD",PatientCriteria[[#This Row],[疾病組合]]="DM+ASCVD",PatientCriteria[[#This Row],[疾病組合]]="DM+CKD+ASCVD"),IF(PatientCriteria[[#This Row],[ASCVD]]="b","<55",IF(PatientCriteria[[#This Row],[ASCVD]]="a","<70","不適用")),"不適用")))))) | S8: =IF(COUNTA(PatientCriteria[[#This Row],[院所ID]:[高血糖]])=0,"",IF(OR(PatientCriteria[[#This Row],[疾病組合]]="DM only",PatientCriteria[[#This Row],[疾病組合]]="DM+CKD",PatientCriteria[[#This Row],[疾病組合]]="DM+ASCVD",PatientCriteria[[#This Row],[疾病組合]]="DM+CKD+ASCVD"),IF(DATEDIF(DATE(1911+VALUE(LEFT(PatientCriteria[[#This Row],[生日]],3)),VALUE(MID(PatientCriteria[[#This Row],[生日]],5,2)),VALUE(RIGHT(PatientCriteria[[#This Row],[生日]],2))),TODAY(),"Y")>=80,"<8%","<7%"),"不適用")) | T8: =IF(COUNTA(PatientCriteria[[#This Row],[院所ID]:[高血糖]])=0,"",IF(OR(PatientCriteria[[#This Row],[疾病組合]]="CKD only",PatientCriteria[[#This Row],[疾病組合]]="DM+CKD",PatientCriteria[[#This Row],[疾病組合]]="CKD+ASCVD",PatientCriteria[[#This Row],[疾病組合]]="DM+CKD+ASCVD"),"<30 mg/g","不適用")) | U8: =IF(COUNTA(PatientCriteria[[#This Row],[院所ID]:[高血糖]])=0,"",IF(PatientCriteria[[#This Row],[高血壓]]=1,"3次","不適用"))
Q9: =IF(COUNTA(PatientCriteria[[#This Row],[院所ID]:[高血糖]])=0,"",IF(PatientCriteria[[#This Row],[疾病樣態]]=1,IF(OR(PatientCriteria[[#This Row],[ASCVD]]="a",PatientCriteria[[#This Row],[ASCVD]]="b"),"DM+ASCVD","DM only"),IF(PatientCriteria[[#This Row],[疾病樣態]]=2,IF(OR(PatientCriteria[[#This Row],[ASCVD]]="a",PatientCriteria[[#This Row],[ASCVD]]="b"),"CKD+ASCVD","CKD only"),IF(PatientCriteria[[#This Row],[疾病樣態]]=3,IF(OR(PatientCriteria[[#This Row],[ASCVD]]="a",PatientCriteria[[#This Row],[ASCVD]]="b"),"DM+CKD+ASCVD","DM+CKD"),IF(PatientCriteria[[#This Row],[疾病樣態]]=4,IF(OR(PatientCriteria[[#This Row],[ASCVD]]="a",PatientCriteria[[#This Row],[ASCVD]]="b"),"ASCVD only","無特定分類"),"未知"))))) | R9: =IF(COUNTA(PatientCriteria[[#This Row],[院所ID]:[高血糖]])=0,"",IF(PatientCriteria[[#This Row],[疾病組合]]="無特定分類","不適用",IF(PatientCriteria[[#This Row],[疾病組合]]="DM only","<100",IF(PatientCriteria[[#This Row],[疾病組合]]="CKD only","<130",IF(PatientCriteria[[#This Row],[疾病組合]]="DM+CKD","<100",IF(OR(PatientCriteria[[#This Row],[疾病組合]]="ASCVD only",PatientCriteria[[#This Row],[疾病組合]]="CKD+ASCVD",PatientCriteria[[#This Row],[疾病組合]]="DM+ASCVD",PatientCriteria[[#This Row],[疾病組合]]="DM+CKD+ASCVD"),IF(PatientCriteria[[#This Row],[ASCVD]]="b","<55",IF(PatientCriteria[[#This Row],[ASCVD]]="a","<70","不適用")),"不適用")))))) | S9: =IF(COUNTA(PatientCriteria[[#This Row],[院所ID]:[高血糖]])=0,"",IF(OR(PatientCriteria[[#This Row],[疾病組合]]="DM only",PatientCriteria[[#This Row],[疾病組合]]="DM+CKD",PatientCriteria[[#This Row],[疾病組合]]="DM+ASCVD",PatientCriteria[[#This Row],[疾病組合]]="DM+CKD+ASCVD"),IF(DATEDIF(DATE(1911+VALUE(LEFT(PatientCriteria[[#This Row],[生日]],3)),VALUE(MID(PatientCriteria[[#This Row],[生日]],5,2)),VALUE(RIGHT(PatientCriteria[[#This Row],[生日]],2))),TODAY(),"Y")>=80,"<8%","<7%"),"不適用")) | T9: =IF(COUNTA(PatientCriteria[[#This Row],[院所ID]:[高血糖]])=0,"",IF(OR(PatientCriteria[[#This Row],[疾病組合]]="CKD only",PatientCriteria[[#This Row],[疾病組合]]="DM+CKD",PatientCriteria[[#This Row],[疾病組合]]="CKD+ASCVD",PatientCriteria[[#This Row],[疾病組合]]="DM+CKD+ASCVD"),"<30 mg/g","不適用")) | U9: =IF(COUNTA(PatientCriteria[[#This Row],[院所ID]:[高血糖]])=0,"",IF(PatientCriteria[[#This Row],[高血壓]]=1,"3次","不適用"))
Q10: =IF(COUNTA(PatientCriteria[[#This Row],[院所ID]:[高血糖]])=0,"",IF(PatientCriteria[[#This Row],[疾病樣態]]=1,IF(OR(PatientCriteria[[#This Row],[ASCVD]]="a",PatientCriteria[[#This Row],[ASCVD]]="b"),"DM+ASCVD","DM only"),IF(PatientCriteria[[#This Row],[疾病樣態]]=2,IF(OR(PatientCriteria[[#This Row],[ASCVD]]="a",PatientCriteria[[#This Row],[ASCVD]]="b"),"CKD+ASCVD","CKD only"),IF(PatientCriteria[[#This Row],[疾病樣態]]=3,IF(OR(PatientCriteria[[#This Row],[ASCVD]]="a",PatientCriteria[[#This Row],[ASCVD]]="b"),"DM+CKD+ASCVD","DM+CKD"),IF(PatientCriteria[[#This Row],[疾病樣態]]=4,IF(OR(PatientCriteria[[#This Row],[ASCVD]]="a",PatientCriteria[[#This Row],[ASCVD]]="b"),"ASCVD only","無特定分類"),"未知"))))) | R10: =IF(COUNTA(PatientCriteria[[#This Row],[院所ID]:[高血糖]])=0,"",IF(PatientCriteria[[#This Row],[疾病組合]]="無特定分類","不適用",IF(PatientCriteria[[#This Row],[疾病組合]]="DM only","<100",IF(PatientCriteria[[#This Row],[疾病組合]]="CKD only","<130",IF(PatientCriteria[[#This Row],[疾病組合]]="DM+CKD","<100",IF(OR(PatientCriteria[[#This Row],[疾病組合]]="ASCVD only",PatientCriteria[[#This Row],[疾病組合]]="CKD+ASCVD",PatientCriteria[[#This Row],[疾病組合]]="DM+ASCVD",PatientCriteria[[#This Row],[疾病組合]]="DM+CKD+ASCVD"),IF(PatientCriteria[[#This Row],[ASCVD]]="b","<55",IF(PatientCriteria[[#This Row],[ASCVD]]="a","<70","不適用")),"不適用")))))) | S10: =IF(COUNTA(PatientCriteria[[#This Row],[院所ID]:[高血糖]])=0,"",IF(OR(PatientCriteria[[#This Row],[疾病組合]]="DM only",PatientCriteria[[#This Row],[疾病組合]]="DM+CKD",PatientCriteria[[#This Row],[疾病組合]]="DM+ASCVD",PatientCriteria[[#This Row],[疾病組合]]="DM+CKD+ASCVD"),IF(DATEDIF(DATE(1911+VALUE(LEFT(PatientCriteria[[#This Row],[生日]],3)),VALUE(MID(PatientCriteria[[#This Row],[生日]],5,2)),VALUE(RIGHT(PatientCriteria[[#This Row],[生日]],2))),TODAY(),"Y")>=80,"<8%","<7%"),"不適用")) | T10: =IF(COUNTA(PatientCriteria[[#This Row],[院所ID]:[高血糖]])=0,"",IF(OR(PatientCriteria[[#This Row],[疾病組合]]="CKD only",PatientCriteria[[#This Row],[疾病組合]]="DM+CKD",PatientCriteria[[#This Row],[疾病組合]]="CKD+ASCVD",PatientCriteria[[#This Row],[疾病組合]]="DM+CKD+ASCVD"),"<30 mg/g","不適用")) | U10: =IF(COUNTA(PatientCriteria[[#This Row],[院所ID]:[高血糖]])=0,"",IF(PatientCriteria[[#This Row],[高血壓]]=1,"3次","不適用"))
Q11: =IF(COUNTA(PatientCriteria[[#This Row],[院所ID]:[高血糖]])=0,"",IF(PatientCriteria[[#This Row],[疾病樣態]]=1,IF(OR(PatientCriteria[[#This Row],[ASCVD]]="a",PatientCriteria[[#This Row],[ASCVD]]="b"),"DM+ASCVD","DM only"),IF(PatientCriteria[[#This Row],[疾病樣態]]=2,IF(OR(PatientCriteria[[#This Row],[ASCVD]]="a",PatientCriteria[[#This Row],[ASCVD]]="b"),"CKD+ASCVD","CKD only"),IF(PatientCriteria[[#This Row],[疾病樣態]]=3,IF(OR(PatientCriteria[[#This Row],[ASCVD]]="a",PatientCriteria[[#This Row],[ASCVD]]="b"),"DM+CKD+ASCVD","DM+CKD"),IF(PatientCriteria[[#This Row],[疾病樣態]]=4,IF(OR(PatientCriteria[[#This Row],[ASCVD]]="a",PatientCriteria[[#This Row],[ASCVD]]="b"),"ASCVD only","無特定分類"),"未知"))))) | R11: =IF(COUNTA(PatientCriteria[[#This Row],[院所ID]:[高血糖]])=0,"",IF(PatientCriteria[[#This Row],[疾病組合]]="無特定分類","不適用",IF(PatientCriteria[[#This Row],[疾病組合]]="DM only","<100",IF(PatientCriteria[[#This Row],[疾病組合]]="CKD only","<130",IF(PatientCriteria[[#This Row],[疾病組合]]="DM+CKD","<100",IF(OR(PatientCriteria[[#This Row],[疾病組合]]="ASCVD only",PatientCriteria[[#This Row],[疾病組合]]="CKD+ASCVD",PatientCriteria[[#This Row],[疾病組合]]="DM+ASCVD",PatientCriteria[[#This Row],[疾病組合]]="DM+CKD+ASCVD"),IF(PatientCriteria[[#This Row],[ASCVD]]="b","<55",IF(PatientCriteria[[#This Row],[ASCVD]]="a","<70","不適用")),"不適用")))))) | S11: =IF(COUNTA(PatientCriteria[[#This Row],[院所ID]:[高血糖]])=0,"",IF(OR(PatientCriteria[[#This Row],[疾病組合]]="DM only",PatientCriteria[[#This Row],[疾病組合]]="DM+CKD",PatientCriteria[[#This Row],[疾病組合]]="DM+ASCVD",PatientCriteria[[#This Row],[疾病組合]]="DM+CKD+ASCVD"),IF(DATEDIF(DATE(1911+VALUE(LEFT(PatientCriteria[[#This Row],[生日]],3)),VALUE(MID(PatientCriteria[[#This Row],[生日]],5,2)),VALUE(RIGHT(PatientCriteria[[#This Row],[生日]],2))),TODAY(),"Y")>=80,"<8%","<7%"),"不適用")) | T11: =IF(COUNTA(PatientCriteria[[#This Row],[院所ID]:[高血糖]])=0,"",IF(OR(PatientCriteria[[#This Row],[疾病組合]]="CKD only",PatientCriteria[[#This Row],[疾病組合]]="DM+CKD",PatientCriteria[[#This Row],[疾病組合]]="CKD+ASCVD",PatientCriteria[[#This Row],[疾病組合]]="DM+CKD+ASCVD"),"<30 mg/g","不適用")) | U11: =IF(COUNTA(PatientCriteria[[#This Row],[院所ID]:[高血糖]])=0,"",IF(PatientCriteria[[#This Row],[高血壓]]=1,"3次","不適用"))
Q12: =IF(COUNTA(PatientCriteria[[#This Row],[院所ID]:[高血糖]])=0,"",IF(PatientCriteria[[#This Row],[疾病樣態]]=1,IF(OR(PatientCriteria[[#This Row],[ASCVD]]="a",PatientCriteria[[#This Row],[ASCVD]]="b"),"DM+ASCVD","DM only"),IF(PatientCriteria[[#This Row],[疾病樣態]]=2,IF(OR(PatientCriteria[[#This Row],[ASCVD]]="a",PatientCriteria[[#This Row],[ASCVD]]="b"),"CKD+ASCVD","CKD only"),IF(PatientCriteria[[#This Row],[疾病樣態]]=3,IF(OR(PatientCriteria[[#This Row],[ASCVD]]="a",PatientCriteria[[#This Row],[ASCVD]]="b"),"DM+CKD+ASCVD","DM+CKD"),IF(PatientCriteria[[#This Row],[疾病樣態]]=4,IF(OR(PatientCriteria[[#This Row],[ASCVD]]="a",PatientCriteria[[#This Row],[ASCVD]]="b"),"ASCVD only","無特定分類"),"未知"))))) | R12: =IF(COUNTA(PatientCriteria[[#This Row],[院所ID]:[高血糖]])=0,"",IF(PatientCriteria[[#This Row],[疾病組合]]="無特定分類","不適用",IF(PatientCriteria[[#This Row],[疾病組合]]="DM only","<100",IF(PatientCriteria[[#This Row],[疾病組合]]="CKD only","<130",IF(PatientCriteria[[#This Row],[疾病組合]]="DM+CKD","<100",IF(OR(PatientCriteria[[#This Row],[疾病組合]]="ASCVD only",PatientCriteria[[#This Row],[疾病組合]]="CKD+ASCVD",PatientCriteria[[#This Row],[疾病組合]]="DM+ASCVD",PatientCriteria[[#This Row],[疾病組合]]="DM+CKD+ASCVD"),IF(PatientCriteria[[#This Row],[ASCVD]]="b","<55",IF(PatientCriteria[[#This Row],[ASCVD]]="a","<70","不適用")),"不適用")))))) | S12: =IF(COUNTA(PatientCriteria[[#This Row],[院所ID]:[高血糖]])=0,"",IF(OR(PatientCriteria[[#This Row],[疾病組合]]="DM only",PatientCriteria[[#This Row],[疾病組合]]="DM+CKD",PatientCriteria[[#This Row],[疾病組合]]="DM+ASCVD",PatientCriteria[[#This Row],[疾病組合]]="DM+CKD+ASCVD"),IF(DATEDIF(DATE(1911+VALUE(LEFT(PatientCriteria[[#This Row],[生日]],3)),VALUE(MID(PatientCriteria[[#This Row],[生日]],5,2)),VALUE(RIGHT(PatientCriteria[[#This Row],[生日]],2))),TODAY(),"Y")>=80,"<8%","<7%"),"不適用")) | T12: =IF(COUNTA(PatientCriteria[[#This Row],[院所ID]:[高血糖]])=0,"",IF(OR(PatientCriteria[[#This Row],[疾病組合]]="CKD only",PatientCriteria[[#This Row],[疾病組合]]="DM+CKD",PatientCriteria[[#This Row],[疾病組合]]="CKD+ASCVD",PatientCriteria[[#This Row],[疾病組合]]="DM+CKD+ASCVD"),"<30 mg/g","不適用")) | U12: =IF(COUNTA(PatientCriteria[[#This Row],[院所ID]:[高血糖]])=0,"",IF(PatientCriteria[[#This Row],[高血壓]]=1,"3次","不適用"))
Q13: =IF(COUNTA(PatientCriteria[[#This Row],[院所ID]:[高血糖]])=0,"",IF(PatientCriteria[[#This Row],[疾病樣態]]=1,IF(OR(PatientCriteria[[#This Row],[ASCVD]]="a",PatientCriteria[[#This Row],[ASCVD]]="b"),"DM+ASCVD","DM only"),IF(PatientCriteria[[#This Row],[疾病樣態]]=2,IF(OR(PatientCriteria[[#This Row],[ASCVD]]="a",PatientCriteria[[#This Row],[ASCVD]]="b"),"CKD+ASCVD","CKD only"),IF(PatientCriteria[[#This Row],[疾病樣態]]=3,IF(OR(PatientCriteria[[#This Row],[ASCVD]]="a",PatientCriteria[[#This Row],[ASCVD]]="b"),"DM+CKD+ASCVD","DM+CKD"),IF(PatientCriteria[[#This Row],[疾病樣態]]=4,IF(OR(PatientCriteria[[#This Row],[ASCVD]]="a",PatientCriteria[[#This Row],[ASCVD]]="b"),"ASCVD only","無特定分類"),"未知"))))) | R13: =IF(COUNTA(PatientCriteria[[#This Row],[院所ID]:[高血糖]])=0,"",IF(PatientCriteria[[#This Row],[疾病組合]]="無特定分類","不適用",IF(PatientCriteria[[#This Row],[疾病組合]]="DM only","<100",IF(PatientCriteria[[#This Row],[疾病組合]]="CKD only","<130",IF(PatientCriteria[[#This Row],[疾病組合]]="DM+CKD","<100",IF(OR(PatientCriteria[[#This Row],[疾病組合]]="ASCVD only",PatientCriteria[[#This Row],[疾病組合]]="CKD+ASCVD",PatientCriteria[[#This Row],[疾病組合]]="DM+ASCVD",PatientCriteria[[#This Row],[疾病組合]]="DM+CKD+ASCVD"),IF(PatientCriteria[[#This Row],[ASCVD]]="b","<55",IF(PatientCriteria[[#This Row],[ASCVD]]="a","<70","不適用")),"不適用")))))) | S13: =IF(COUNTA(PatientCriteria[[#This Row],[院所ID]:[高血糖]])=0,"",IF(OR(PatientCriteria[[#This Row],[疾病組合]]="DM only",PatientCriteria[[#This Row],[疾病組合]]="DM+CKD",PatientCriteria[[#This Row],[疾病組合]]="DM+ASCVD",PatientCriteria[[#This Row],[疾病組合]]="DM+CKD+ASCVD"),IF(DATEDIF(DATE(1911+VALUE(LEFT(PatientCriteria[[#This Row],[生日]],3)),VALUE(MID(PatientCriteria[[#This Row],[生日]],5,2)),VALUE(RIGHT(PatientCriteria[[#This Row],[生日]],2))),TODAY(),"Y")>=80,"<8%","<7%"),"不適用")) | T13: =IF(COUNTA(PatientCriteria[[#This Row],[院所ID]:[高血糖]])=0,"",IF(OR(PatientCriteria[[#This Row],[疾病組合]]="CKD only",PatientCriteria[[#This Row],[疾病組合]]="DM+CKD",PatientCriteria[[#This Row],[疾病組合]]="CKD+ASCVD",PatientCriteria[[#This Row],[疾病組合]]="DM+CKD+ASCVD"),"<30 mg/g","不適用")) | U13: =IF(COUNTA(PatientCriteria[[#This Row],[院所ID]:[高血糖]])=0,"",IF(PatientCriteria[[#This Row],[高血壓]]=1,"3次","不適用"))
Q14: =IF(COUNTA(PatientCriteria[[#This Row],[院所ID]:[高血糖]])=0,"",IF(PatientCriteria[[#This Row],[疾病樣態]]=1,IF(OR(PatientCriteria[[#This Row],[ASCVD]]="a",PatientCriteria[[#This Row],[ASCVD]]="b"),"DM+ASCVD","DM only"),IF(PatientCriteria[[#This Row],[疾病樣態]]=2,IF(OR(PatientCriteria[[#This Row],[ASCVD]]="a",PatientCriteria[[#This Row],[ASCVD]]="b"),"CKD+ASCVD","CKD only"),IF(PatientCriteria[[#This Row],[疾病樣態]]=3,IF(OR(PatientCriteria[[#This Row],[ASCVD]]="a",PatientCriteria[[#This Row],[ASCVD]]="b"),"DM+CKD+ASCVD","DM+CKD"),IF(PatientCriteria[[#This Row],[疾病樣態]]=4,IF(OR(PatientCriteria[[#This Row],[ASCVD]]="a",PatientCriteria[[#This Row],[ASCVD]]="b"),"ASCVD only","無特定分類"),"未知"))))) | R14: =IF(COUNTA(PatientCriteria[[#This Row],[院所ID]:[高血糖]])=0,"",IF(PatientCriteria[[#This Row],[疾病組合]]="無特定分類","不適用",IF(PatientCriteria[[#This Row],[疾病組合]]="DM only","<100",IF(PatientCriteria[[#This Row],[疾病組合]]="CKD only","<130",IF(PatientCriteria[[#This Row],[疾病組合]]="DM+CKD","<100",IF(OR(PatientCriteria[[#This Row],[疾病組合]]="ASCVD only",PatientCriteria[[#This Row],[疾病組合]]="CKD+ASCVD",PatientCriteria[[#This Row],[疾病組合]]="DM+ASCVD",PatientCriteria[[#This Row],[疾病組合]]="DM+CKD+ASCVD"),IF(PatientCriteria[[#This Row],[ASCVD]]="b","<55",IF(PatientCriteria[[#This Row],[ASCVD]]="a","<70","不適用")),"不適用")))))) | S14: =IF(COUNTA(PatientCriteria[[#This Row],[院所ID]:[高血糖]])=0,"",IF(OR(PatientCriteria[[#This Row],[疾病組合]]="DM only",PatientCriteria[[#This Row],[疾病組合]]="DM+CKD",PatientCriteria[[#This Row],[疾病組合]]="DM+ASCVD",PatientCriteria[[#This Row],[疾病組合]]="DM+CKD+ASCVD"),IF(DATEDIF(DATE(1911+VALUE(LEFT(PatientCriteria[[#This Row],[生日]],3)),VALUE(MID(PatientCriteria[[#This Row],[生日]],5,2)),VALUE(RIGHT(PatientCriteria[[#This Row],[生日]],2))),TODAY(),"Y")>=80,"<8%","<7%"),"不適用")) | T14: =IF(COUNTA(PatientCriteria[[#This Row],[院所ID]:[高血糖]])=0,"",IF(OR(PatientCriteria[[#This Row],[疾病組合]]="CKD only",PatientCriteria[[#This Row],[疾病組合]]="DM+CKD",PatientCriteria[[#This Row],[疾病組合]]="CKD+ASCVD",PatientCriteria[[#This Row],[疾病組合]]="DM+CKD+ASCVD"),"<30 mg/g","不適用")) | U14: =IF(COUNTA(PatientCriteria[[#This Row],[院所ID]:[高血糖]])=0,"",IF(PatientCriteria[[#This Row],[高血壓]]=1,"3次","不適用"))
Q15: =IF(COUNTA(PatientCriteria[[#This Row],[院所ID]:[高血糖]])=0,"",IF(PatientCriteria[[#This Row],[疾病樣態]]=1,IF(OR(PatientCriteria[[#This Row],[ASCVD]]="a",PatientCriteria[[#This Row],[ASCVD]]="b"),"DM+ASCVD","DM only"),IF(PatientCriteria[[#This Row],[疾病樣態]]=2,IF(OR(PatientCriteria[[#This Row],[ASCVD]]="a",PatientCriteria[[#This Row],[ASCVD]]="b"),"CKD+ASCVD","CKD only"),IF(PatientCriteria[[#This Row],[疾病樣態]]=3,IF(OR(PatientCriteria[[#This Row],[ASCVD]]="a",PatientCriteria[[#This Row],[ASCVD]]="b"),"DM+CKD+ASCVD","DM+CKD"),IF(PatientCriteria[[#This Row],[疾病樣態]]=4,IF(OR(PatientCriteria[[#This Row],[ASCVD]]="a",PatientCriteria[[#This Row],[ASCVD]]="b"),"ASCVD only","無特定分類"),"未知"))))) | R15: =IF(COUNTA(PatientCriteria[[#This Row],[院所ID]:[高血糖]])=0,"",IF(PatientCriteria[[#This Row],[疾病組合]]="無特定分類","不適用",IF(PatientCriteria[[#This Row],[疾病組合]]="DM only","<100",IF(PatientCriteria[[#This Row],[疾病組合]]="CKD only","<130",IF(PatientCriteria[[#This Row],[疾病組合]]="DM+CKD","<100",IF(OR(PatientCriteria[[#This Row],[疾病組合]]="ASCVD only",PatientCriteria[[#This Row],[疾病組合]]="CKD+ASCVD",PatientCriteria[[#This Row],[疾病組合]]="DM+ASCVD",PatientCriteria[[#This Row],[疾病組合]]="DM+CKD+ASCVD"),IF(PatientCriteria[[#This Row],[ASCVD]]="b","<55",IF(PatientCriteria[[#This Row],[ASCVD]]="a","<70","不適用")),"不適用")))))) | S15: =IF(COUNTA(PatientCriteria[[#This Row],[院所ID]:[高血糖]])=0,"",IF(OR(PatientCriteria[[#This Row],[疾病組合]]="DM only",PatientCriteria[[#This Row],[疾病組合]]="DM+CKD",PatientCriteria[[#This Row],[疾病組合]]="DM+ASCVD",PatientCriteria[[#This Row],[疾病組合]]="DM+CKD+ASCVD"),IF(DATEDIF(DATE(1911+VALUE(LEFT(PatientCriteria[[#This Row],[生日]],3)),VALUE(MID(PatientCriteria[[#This Row],[生日]],5,2)),VALUE(RIGHT(PatientCriteria[[#This Row],[生日]],2))),TODAY(),"Y")>=80,"<8%","<7%"),"不適用")) | T15: =IF(COUNTA(PatientCriteria[[#This Row],[院所ID]:[高血糖]])=0,"",IF(OR(PatientCriteria[[#This Row],[疾病組合]]="CKD only",PatientCriteria[[#This Row],[疾病組合]]="DM+CKD",PatientCriteria[[#This Row],[疾病組合]]="CKD+ASCVD",PatientCriteria[[#This Row],[疾病組合]]="DM+CKD+ASCVD"),"<30 mg/g","不適用")) | U15: =IF(COUNTA(PatientCriteria[[#This Row],[院所ID]:[高血糖]])=0,"",IF(PatientCriteria[[#This Row],[高血壓]]=1,"3次","不適用"))
... Q1190: =IF(COUNTA(PatientCriteria[[#This Row],[院所ID]:[高血糖]])=0,"",IF(PatientCriteria[[#This Row],[疾病樣態]]=1,IF(OR(PatientCriteria[[#This Row],[ASCVD]]="a",PatientCriteria[[#This Row],[ASCVD]]="b"),"DM+ASCVD","DM only"),IF(PatientCriteria[[#This Row],[疾病樣態]]=2,IF(OR(PatientCriteria[[#This Row],[ASCVD]]="a",PatientCriteria[[#This Row],[ASCVD]]="b"),"CKD+ASCVD","CKD only"),IF(PatientCriteria[[#This Row],[疾病樣態]]=3,IF(OR(PatientCriteria[[#This Row],[ASCVD]]="a",PatientCriteria[[#This Row],[ASCVD]]="b"),"DM+CKD+ASCVD","DM+CKD"),IF(PatientCriteria[[#This Row],[疾病樣態]]=4,IF(OR(PatientCriteria[[#This Row],[ASCVD]]="a",PatientCriteria[[#This Row],[ASCVD]]="b"),"ASCVD only","無特定分類"),"未知"))))) | R1190: =IF(COUNTA(PatientCriteria[[#This Row],[院所ID]:[高血糖]])=0,"",IF(PatientCriteria[[#This Row],[疾病組合]]="無特定分類","不適用",IF(PatientCriteria[[#This Row],[疾病組合]]="DM only","<100",IF(PatientCriteria[[#This Row],[疾病組合]]="CKD only","<130",IF(PatientCriteria[[#This Row],[疾病組合]]="DM+CKD","<100",IF(OR(PatientCriteria[[#This Row],[疾病組合]]="ASCVD only",PatientCriteria[[#This Row],[疾病組合]]="CKD+ASCVD",PatientCriteria[[#This Row],[疾病組合]]="DM+ASCVD",PatientCriteria[[#This Row],[疾病組合]]="DM+CKD+ASCVD"),IF(PatientCriteria[[#This Row],[ASCVD]]="b","<55",IF(PatientCriteria[[#This Row],[ASCVD]]="a","<70","不適用")),"不適用")))))) | S1190: =IF(COUNTA(PatientCriteria[[#This Row],[院所ID]:[高血糖]])=0,"",IF(OR(PatientCriteria[[#This Row],[疾病組合]]="DM only",PatientCriteria[[#This Row],[疾病組合]]="DM+CKD",PatientCriteria[[#This Row],[疾病組合]]="DM+ASCVD",PatientCriteria[[#This Row],[疾病組合]]="DM+CKD+ASCVD"),IF(DATEDIF(DATE(1911+VALUE(LEFT(PatientCriteria[[#This Row],[生日]],3)),VALUE(MID(PatientCriteria[[#This Row],[生日]],5,2)),VALUE(RIGHT(PatientCriteria[[#This Row],[生日]],2))),TODAY(),"Y")>=80,"<8%","<7%"),"不適用")) | T1190: =IF(COUNTA(PatientCriteria[[#This Row],[院所ID]:[高血糖]])=0,"",IF(OR(PatientCriteria[[#This Row],[疾病組合]]="CKD only",PatientCriteria[[#This Row],[疾病組合]]="DM+CKD",PatientCriteria[[#This Row],[疾病組合]]="CKD+ASCVD",PatientCriteria[[#This Row],[疾病組合]]="DM+CKD+ASCVD"),"<30 mg/g","不適用")) | U1190: =IF(COUNTA(PatientCriteria[[#This Row],[院所ID]:[高血糖]])=0,"",IF(PatientCriteria[[#This Row],[高血壓]]=1,"3次","不適用"))

Sheet 檢驗原始資料
A1: 身分證字號 | B1: 姓名 | C1: 生日 | D1: 最近一次HbA1c檢查結果(%) | E1: 最近一次HbA1c檢查日期 | F1: 最近一次LDL檢查結果(mg/dL) | G1: 最近一次LDL檢查日期 | H1: 最近一次UACR檢查結果(mg/gm) | I1: 最近一次UACR檢查日期 | J1: 最近一次BP檢查日期 | K1: 匯入月份 | L1: HbA1c唯一 | M1: LDL唯一 | N1: UACR唯一 | O1: BP唯一 | P1: 比對身分證前六碼 | Q1: 比對生日西元
A2: A241045264 | C2: 15046 | D2: 6.6 | E2: 45996 | F2: 91 | G2: 46034 | H2: 27 | I2: 45986 | K2: 2026-01 | L2: =IF(AND(D2<>"",E2<>"",P2<>""),--(COUNTIFS($P$2:P2,P2,$E$2:E2,E2)=1),0) -> 1 | M2: =IF(AND(F2<>"",G2<>"",P2<>""),--(COUNTIFS($P$2:P2,P2,$G$2:G2,G2)=1),0) -> 1 | N2: =IF(AND(H2<>"",I2<>"",P2<>""),--(COUNTIFS($P$2:P2,P2,$I$2:I2,I2)=1),0) -> 1 | O2: =IF(AND(J2<>"",P2<>""),--(COUNTIFS($P$2:P2,P2,$J$2:J2,J2)=1),0) -> 0 | P2: =IF(A2="","",LEFT(A2,6)) -> A24104 | Q2: =IF(C2="","",IF(ISNUMBER(C2),TEXT(C2,"yyyy-mm-dd"),IFERROR(TEXT(DATEVALUE(C2),"yyyy-mm-dd"),C2))) -> 1941-03-11
A3: C226662396 | C3: 15432 | D3: 7.3 | E3: 45848 | F3: 69 | G3: 45945 | H3: 13 | I3: 45843 | J3: 2026-01 | K3: 2026-01 | L3: =IF(AND(D3<>"",E3<>"",P3<>""),--(COUNTIFS($P$2:P3,P3,$E$2:E3,E3)=1),0) -> 1 | M3: =IF(AND(F3<>"",G3<>"",P3<>""),--(COUNTIFS($P$2:P3,P3,$G$2:G3,G3)=1),0) -> 1 | N3: =IF(AND(H3<>"",I3<>"",P3<>""),--(COUNTIFS($P$2:P3,P3,$I$2:I3,I3)=1),0) -> 1 | O3: =IF(AND(J3<>"",P3<>""),--(COUNTIFS($P$2:P3,P3,$J$2:J3,J3)=1),0) -> 1 | P3: =IF(A3="","",LEFT(A3,6)) -> C22666 | Q3: =IF(C3="","",IF(ISNUMBER(C3),TEXT(C3,"yyyy-mm-dd"),IFERROR(TEXT(DATEVALUE(C3),"yyyy-mm-dd"),C3))) -> 1942-04-01
A4: A241045264 | C4: 15046 | D4: 6.6 | E4: 45996 | F4: 91 | G4: 46034 | H4: 27 | I4: 45986 | K4: 2026-02 | L4: =IF(AND(D4<>"",E4<>"",P4<>""),--(COUNTIFS($P$2:P4,P4,$E$2:E4,E4)=1),0) -> 0 | M4: =IF(AND(F4<>"",G4<>"",P4<>""),--(COUNTIFS($P$2:P4,P4,$G$2:G4,G4)=1),0) -> 0 | N4: =IF(AND(H4<>"",I4<>"",P4<>""),--(COUNTIFS($P$2:P4,P4,$I$2:I4,I4)=1),0) -> 0 | O4: =IF(AND(J4<>"",P4<>""),--(COUNTIFS($P$2:P4,P4,$J$2:J4,J4)=1),0) -> 0 | P4: =IF(A4="","",LEFT(A4,6)) -> A24104 | Q4: =IF(C4="","",IF(ISNUMBER(C4),TEXT(C4,"yyyy-mm-dd"),IFERROR(TEXT(DATEVALUE(C4),"yyyy-mm-dd"),C4))) -> 1941-03-11
A5: C226662396 | C5: 15432 | D5: 7.3 | E5: 45848 | F5: 66 | G5: 46070 | H5: 13 | I5: 45843 | J5: 2026-01 | K5: 2026-02 | L5: =IF(AND(D5<>"",E5<>"",P5<>""),--(COUNTIFS($P$2:P5,P5,$E$2:E5,E5)=1),0) -> 0 | M5: =IF(AND(F5<>"",G5<>"",P5<>""),--(COUNTIFS($P$2:P5,P5,$G$2:G5,G5)=1),0) -> 1 | N5: =IF(AND(H5<>"",I5<>"",P5<>""),--(COUNTIFS($P$2:P5,P5,$I$2:I5,I5)=1),0) -> 0 | O5: =IF(AND(J5<>"",P5<>""),--(COUNTIFS($P$2:P5,P5,$J$2:J5,J5)=1),0) -> 0 | P5: =IF(A5="","",LEFT(A5,6)) -> C22666 | Q5: =IF(C5="","",IF(ISNUMBER(C5),TEXT(C5,"yyyy-mm-dd"),IFERROR(TEXT(DATEVALUE(C5),"yyyy-mm-dd"),C5))) -> 1942-04-01
A6: A241045264 | C6: 15046 | D6: 6.4 | E6: 46090 | F6: 91 | G6: 46034 | H6: 27 | I6: 45986 | K6: 2026-03 | L6: =IF(AND(D6<>"",E6<>"",P6<>""),--(COUNTIFS($P$2:P6,P6,$E$2:E6,E6)=1),0) -> 1 | M6: =IF(AND(F6<>"",G6<>"",P6<>""),--(COUNTIFS($P$2:P6,P6,$G$2:G6,G6)=1),0) -> 0 | N6: =IF(AND(H6<>"",I6<>"",P6<>""),--(COUNTIFS($P$2:P6,P6,$I$2:I6,I6)=1),0) -> 0 | O6: =IF(AND(J6<>"",P6<>""),--(COUNTIFS($P$2:P6,P6,$J$2:J6,J6)=1),0) -> 0 | P6: =IF(A6="","",LEFT(A6,6)) -> A24104 | Q6: =IF(C6="","",IF(ISNUMBER(C6),TEXT(C6,"yyyy-mm-dd"),IFERROR(TEXT(DATEVALUE(C6),"yyyy-mm-dd"),C6))) -> 1941-03-11
A7: C226662396 | C7: 15432 | D7: 7.3 | E7: 45848 | F7: 66 | G7: 46070 | H7: 16 | I7: 46093 | K7: 2026-03 | L7: =IF(AND(D7<>"",E7<>"",P7<>""),--(COUNTIFS($P$2:P7,P7,$E$2:E7,E7)=1),0) -> 0 | M7: =IF(AND(F7<>"",G7<>"",P7<>""),--(COUNTIFS($P$2:P7,P7,$G$2:G7,G7)=1),0) -> 0 | N7: =IF(AND(H7<>"",I7<>"",P7<>""),--(COUNTIFS($P$2:P7,P7,$I$2:I7,I7)=1),0) -> 1 | O7: =IF(AND(J7<>"",P7<>""),--(COUNTIFS($P$2:P7,P7,$J$2:J7,J7)=1),0) -> 0 | P7: =IF(A7="","",LEFT(A7,6)) -> C22666 | Q7: =IF(C7="","",IF(ISNUMBER(C7),TEXT(C7,"yyyy-mm-dd"),IFERROR(TEXT(DATEVALUE(C7),"yyyy-mm-dd"),C7))) -> 1942-04-01
A8: A241045264 | C8: 15046 | D8: 6.4 | E8: 46090 | F8: 91 | G8: 46034 | H8: 19 | I8: 46135 | J8: 2026-04 | K8: 2026-04 | L8: =IF(AND(D8<>"",E8<>"",P8<>""),--(COUNTIFS($P$2:P8,P8,$E$2:E8,E8)=1),0) -> 0 | M8: =IF(AND(F8<>"",G8<>"",P8<>""),--(COUNTIFS($P$2:P8,P8,$G$2:G8,G8)=1),0) -> 0 | N8: =IF(AND(H8<>"",I8<>"",P8<>""),--(COUNTIFS($P$2:P8,P8,$I$2:I8,I8)=1),0) -> 1 | O8: =IF(AND(J8<>"",P8<>""),--(COUNTIFS($P$2:P8,P8,$J$2:J8,J8)=1),0) -> 1 | P8: =IF(A8="","",LEFT(A8,6)) -> A24104 | Q8: =IF(C8="","",IF(ISNUMBER(C8),TEXT(C8,"yyyy-mm-dd"),IFERROR(TEXT(DATEVALUE(C8),"yyyy-mm-dd"),C8))) -> 1941-03-11
A9: C226662396 | C9: 15432 | D9: 7.3 | E9: 45848 | F9: 66 | G9: 46070 | H9: 16 | I9: 46093 | J9: 2026-04 | K9: 2026-04 | L9: =IF(AND(D9<>"",E9<>"",P9<>""),--(COUNTIFS($P$2:P9,P9,$E$2:E9,E9)=1),0) -> 0 | M9: =IF(AND(F9<>"",G9<>"",P9<>""),--(COUNTIFS($P$2:P9,P9,$G$2:G9,G9)=1),0) -> 0 | N9: =IF(AND(H9<>"",I9<>"",P9<>""),--(COUNTIFS($P$2:P9,P9,$I$2:I9,I9)=1),0) -> 0 | O9: =IF(AND(J9<>"",P9<>""),--(COUNTIFS($P$2:P9,P9,$J$2:J9,J9)=1),0) -> 1 | P9: =IF(A9="","",LEFT(A9,6)) -> C22666 | Q9: =IF(C9="","",IF(ISNUMBER(C9),TEXT(C9,"yyyy-mm-dd"),IFERROR(TEXT(DATEVALUE(C9),"yyyy-mm-dd"),C9))) -> 1942-04-01
A10: A241045264 | C10: 15046 | D10: 6.4 | E10: 46090 | F10: 91 | G10: 46034 | H10: 8 | I10: 46150 | J10: 2026-05 | K10: 2026-05 | L10: =IF(AND(D10<>"",E10<>"",P10<>""),--(COUNTIFS($P$2:P10,P10,$E$2:E10,E10)=1),0) -> 0 | M10: =IF(AND(F10<>"",G10<>"",P10<>""),--(COUNTIFS($P$2:P10,P10,$G$2:G10,G10)=1),0) -> 0 | N10: =IF(AND(H10<>"",I10<>"",P10<>""),--(COUNTIFS($P$2:P10,P10,$I$2:I10,I10)=1),0) -> 1 | O10: =IF(AND(J10<>"",P10<>""),--(COUNTIFS($P$2:P10,P10,$J$2:J10,J10)=1),0) -> 1 | P10: =IF(A10="","",LEFT(A10,6)) -> A24104 | Q10: =IF(C10="","",IF(ISNUMBER(C10),TEXT(C10,"yyyy-mm-dd"),IFERROR(TEXT(DATEVALUE(C10),"yyyy-mm-dd"),C10))) -> 1941-03-11
A11: C226662396 | C11: 15432 | D11: 7.3 | E11: 45848 | F11: 66 | G11: 46070 | H11: 16 | I11: 46093 | K11: 2026-05 | L11: =IF(AND(D11<>"",E11<>"",P11<>""),--(COUNTIFS($P$2:P11,P11,$E$2:E11,E11)=1),0) -> 0 | M11: =IF(AND(F11<>"",G11<>"",P11<>""),--(COUNTIFS($P$2:P11,P11,$G$2:G11,G11)=1),0) -> 0 | N11: =IF(AND(H11<>"",I11<>"",P11<>""),--(COUNTIFS($P$2:P11,P11,$I$2:I11,I11)=1),0) -> 0 | O11: =IF(AND(J11<>"",P11<>""),--(COUNTIFS($P$2:P11,P11,$J$2:J11,J11)=1),0) -> 0 | P11: =IF(A11="","",LEFT(A11,6)) -> C22666 | Q11: =IF(C11="","",IF(ISNUMBER(C11),TEXT(C11,"yyyy-mm-dd"),IFERROR(TEXT(DATEVALUE(C11),"yyyy-mm-dd"),C11))) -> 1942-04-01
A12: A241045264 | C12: 15046 | D12: 6.4 | E12: 46090 | F12: 91 | G12: 46034 | H12: 22 | I12: 46199 | J12: 2026-06 | K12: 2026-06 | L12: =IF(AND(D12<>"",E12<>"",P12<>""),--(COUNTIFS($P$2:P12,P12,$E$2:E12,E12)=1),0) -> 0 | M12: =IF(AND(F12<>"",G12<>"",P12<>""),--(COUNTIFS($P$2:P12,P12,$G$2:G12,G12)=1),0) -> 0 | N12: =IF(AND(H12<>"",I12<>"",P12<>""),--(COUNTIFS($P$2:P12,P12,$I$2:I12,I12)=1),0) -> 1 | O12: =IF(AND(J12<>"",P12<>""),--(COUNTIFS($P$2:P12,P12,$J$2:J12,J12)=1),0) -> 1 | P12: =IF(A12="","",LEFT(A12,6)) -> A24104 | Q12: =IF(C12="","",IF(ISNUMBER(C12),TEXT(C12,"yyyy-mm-dd"),IFERROR(TEXT(DATEVALUE(C12),"yyyy-mm-dd"),C12))) -> 1941-03-11
A13: C226662396 | C13: 15432 | D13: 7.3 | E13: 45848 | F13: 89 | G13: 46193 | H13: 16 | I13: 46093 | K13: 2026-06 | L13: =IF(AND(D13<>"",E13<>"",P13<>""),--(COUNTIFS($P$2:P13,P13,$E$2:E13,E13)=1),0) -> 0 | M13: =IF(AND(F13<>"",G13<>"",P13<>""),--(COUNTIFS($P$2:P13,P13,$G$2:G13,G13)=1),0) -> 1 | N13: =IF(AND(H13<>"",I13<>"",P13<>""),--(COUNTIFS($P$2:P13,P13,$I$2:I13,I13)=1),0) -> 0 | O13: =IF(AND(J13<>"",P13<>""),--(COUNTIFS($P$2:P13,P13,$J$2:J13,J13)=1),0) -> 0 | P13: =IF(A13="","",LEFT(A13,6)) -> C22666 | Q13: =IF(C13="","",IF(ISNUMBER(C13),TEXT(C13,"yyyy-mm-dd"),IFERROR(TEXT(DATEVALUE(C13),"yyyy-mm-dd"),C13))) -> 1942-04-01
A14: A241045264 | C14: 15046 | D14: 6.4 | E14: 46090 | F14: 73 | G14: 46208 | H14: 11 | I14: 46221 | J14: 2026-06 | K14: 2026-07 | L14: =IF(AND(D14<>"",E14<>"",P14<>""),--(COUNTIFS($P$2:P14,P14,$E$2:E14,E14)=1),0) -> 0 | M14: =IF(AND(F14<>"",G14<>"",P14<>""),--(COUNTIFS($P$2:P14,P14,$G$2:G14,G14)=1),0) -> 1 | N14: =IF(AND(H14<>"",I14<>"",P14<>""),--(COUNTIFS($P$2:P14,P14,$I$2:I14,I14)=1),0) -> 1 | O14: =IF(AND(J14<>"",P14<>""),--(COUNTIFS($P$2:P14,P14,$J$2:J14,J14)=1),0) -> 0 | P14: =IF(A14="","",LEFT(A14,6)) -> A24104 | Q14: =IF(C14="","",IF(ISNUMBER(C14),TEXT(C14,"yyyy-mm-dd"),IFERROR(TEXT(DATEVALUE(C14),"yyyy-mm-dd"),C14))) -> 1941-03-11
A15: C226662396 | C15: 15432 | D15: 7.3 | E15: 45848 | F15: 89 | G15: 46193 | H15: 16 | I15: 46093 | K15: 2026-07 | L15: =IF(AND(D15<>"",E15<>"",P15<>""),--(COUNTIFS($P$2:P15,P15,$E$2:E15,E15)=1),0) -> 0 | M15: =IF(AND(F15<>"",G15<>"",P15<>""),--(COUNTIFS($P$2:P15,P15,$G$2:G15,G15)=1),0) -> 0 | N15: =IF(AND(H15<>"",I15<>"",P15<>""),--(COUNTIFS($P$2:P15,P15,$I$2:I15,I15)=1),0) -> 0 | O15: =IF(AND(J15<>"",P15<>""),--(COUNTIFS($P$2:P15,P15,$J$2:J15,J15)=1),0) -> 0 | P15: =IF(A15="","",LEFT(A15,6)) -> C22666 | Q15: =IF(C15="","",IF(ISNUMBER(C15),TEXT(C15,"yyyy-mm-dd"),IFERROR(TEXT(DATEVALUE(C15),"yyyy-mm-dd"),C15))) -> 1942-04-01
L16: =IF(AND(D16<>"",E16<>"",P16<>""),--(COUNTIFS($P$2:P16,P16,$E$2:E16,E16)=1),0) -> 0 | M16: =IF(AND(F16<>"",G16<>"",P16<>""),--(COUNTIFS($P$2:P16,P16,$G$2:G16,G16)=1),0) -> 0 | N16: =IF(AND(H16<>"",I16<>"",P16<>""),--(COUNTIFS($P$2:P16,P16,$I$2:I16,I16)=1),0) -> 0 | O16: =IF(AND(J16<>"",P16<>""),--(COUNTIFS($P$2:P16,P16,$J$2:J16,J16)=1),0) -> 0 | P16: =IF(A16="","",LEFT(A16,6)) | Q16: =IF(C16="","",IF(ISNUMBER(C16),TEXT(C16,"yyyy-mm-dd"),IFERROR(TEXT(DATEVALUE(C16),"yyyy-mm-dd"),C16)))
L17: =IF(AND(D17<>"",E17<>"",P17<>""),--(COUNTIFS($P$2:P17,P17,$E$2:E17,E17)=1),0) -> 0 | M17: =IF(AND(F17<>"",G17<>"",P17<>""),--(COUNTIFS($P$2:P17,P17,$G$2:G17,G17)=1),0) -> 0 | N17: =IF(AND(H17<>"",I17<>"",P17<>""),--(COUNTIFS($P$2:P17,P17,$I$2:I17,I17)=1),0) -> 0 | O17: =IF(AND(J17<>"",P17<>""),--(COUNTIFS($P$2:P17,P17,$J$2:J17,J17)=1),0) -> 0 | P17: =IF(A17="","",LEFT(A17,6)) | Q17: =IF(C17="","",IF(ISNUMBER(C17),TEXT(C17,"yyyy-mm-dd"),IFERROR(TEXT(DATEVALUE(C17),"yyyy-mm-dd"),C17)))
L18: =IF(AND(D18<>"",E18<>"",P18<>""),--(COUNTIFS($P$2:P18,P18,$E$2:E18,E18)=1),0) -> 0 | M18: =IF(AND(F18<>"",G18<>"",P18<>""),--(COUNTIFS($P$2:P18,P18,$G$2:G18,G18)=1),0) -> 0 | N18: =IF(AND(H18<>"",I18<>"",P18<>""),--(COUNTIFS($P$2:P18,P18,$I$2:I18,I18)=1),0) -> 0 | O18: =IF(AND(J18<>"",P18<>""),--(COUNTIFS($P$2:P18,P18,$J$2:J18,J18)=1),0) -> 0 | P18: =IF(A18="","",LEFT(A18,6)) | Q18: =IF(C18="","",IF(ISNUMBER(C18),TEXT(C18,"yyyy-mm-dd"),IFERROR(TEXT(DATEVALUE(C18),"yyyy-mm-dd"),C18)))
L19: =IF(AND(D19<>"",E19<>"",P19<>""),--(COUNTIFS($P$2:P19,P19,$E$2:E19,E19)=1),0) -> 0 | M19: =IF(AND(F19<>"",G19<>"",P19<>""),--(COUNTIFS($P$2:P19,P19,$G$2:G19,G19)=1),0) -> 0 | N19: =IF(AND(H19<>"",I19<>"",P19<>""),--(COUNTIFS($P$2:P19,P19,$I$2:I19,I19)=1),0) -> 0 | O19: =IF(AND(J19<>"",P19<>""),--(COUNTIFS($P$2:P19,P19,$J$2:J19,J19)=1),0) -> 0 | P19: =IF(A19="","",LEFT(A19,6)) | Q19: =IF(C19="","",IF(ISNUMBER(C19),TEXT(C19,"yyyy-mm-dd"),IFERROR(TEXT(DATEVALUE(C19),"yyyy-mm-dd"),C19)))
L20: =IF(AND(D20<>"",E20<>"",P20<>""),--(COUNTIFS($P$2:P20,P20,$E$2:E20,E20)=1),0) -> 0 | M20: =IF(AND(F20<>"",G20<>"",P20<>""),--(COUNTIFS($P$2:P20,P20,$G$2:G20,G20)=1),0) -> 0 | N20: =IF(AND(H20<>"",I20<>"",P20<>""),--(COUNTIFS($P$2:P20,P20,$I$2:I20,I20)=1),0) -> 0 | O20: =IF(AND(J20<>"",P20<>""),--(COUNTIFS($P$2:P20,P20,$J$2:J20,J20)=1),0) -> 0 | P20: =IF(A20="","",LEFT(A20,6)) | Q20: =IF(C20="","",IF(ISNUMBER(C20),TEXT(C20,"yyyy-mm-dd"),IFERROR(TEXT(DATEVALUE(C20),"yyyy-mm-dd"),C20)))
L21: =IF(AND(D21<>"",E21<>"",P21<>""),--(COUNTIFS($P$2:P21,P21,$E$2:E21,E21)=1),0) -> 0 | M21: =IF(AND(F21<>"",G21<>"",P21<>""),--(COUNTIFS($P$2:P21,P21,$G$2:G21,G21)=1),0) -> 0 | N21: =IF(AND(H21<>"",I21<>"",P21<>""),--(COUNTIFS($P$2:P21,P21,$I$2:I21,I21)=1),0) -> 0 | O21: =IF(AND(J21<>"",P21<>""),--(COUNTIFS($P$2:P21,P21,$J$2:J21,J21)=1),0) -> 0 | P21: =IF(A21="","",LEFT(A21,6)) | Q21: =IF(C21="","",IF(ISNUMBER(C21),TEXT(C21,"yyyy-mm-dd"),IFERROR(TEXT(DATEVALUE(C21),"yyyy-mm-dd"),C21)))
L22: =IF(AND(D22<>"",E22<>"",P22<>""),--(COUNTIFS($P$2:P22,P22,$E$2:E22,E22)=1),0) -> 0 | M22: =IF(AND(F22<>"",G22<>"",P22<>""),--(COUNTIFS($P$2:P22,P22,$G$2:G22,G22)=1),0) -> 0 | N22: =IF(AND(H22<>"",I22<>"",P22<>""),--(COUNTIFS($P$2:P22,P22,$I$2:I22,I22)=1),0) -> 0 | O22: =IF(AND(J22<>"",P22<>""),--(COUNTIFS($P$2:P22,P22,$J$2:J22,J22)=1),0) -> 0 | P22: =IF(A22="","",LEFT(A22,6)) | Q22: =IF(C22="","",IF(ISNUMBER(C22),TEXT(C22,"yyyy-mm-dd"),IFERROR(TEXT(DATEVALUE(C22),"yyyy-mm-dd"),C22)))
L23: =IF(AND(D23<>"",E23<>"",P23<>""),--(COUNTIFS($P$2:P23,P23,$E$2:E23,E23)=1),0) -> 0 | M23: =IF(AND(F23<>"",G23<>"",P23<>""),--(COUNTIFS($P$2:P23,P23,$G$2:G23,G23)=1),0) -> 0 | N23: =IF(AND(H23<>"",I23<>"",P23<>""),--(COUNTIFS($P$2:P23,P23,$I$2:I23,I23)=1),0) -> 0 | O23: =IF(AND(J23<>"",P23<>""),--(COUNTIFS($P$2:P23,P23,$J$2:J23,J23)=1),0) -> 0 | P23: =IF(A23="","",LEFT(A23,6)) | Q23: =IF(C23="","",IF(ISNUMBER(C23),TEXT(C23,"yyyy-mm-dd"),IFERROR(TEXT(DATEVALUE(C23),"yyyy-mm-dd"),C23)))
L24: =IF(AND(D24<>"",E24<>"",P24<>""),--(COUNTIFS($P$2:P24,P24,$E$2:E24,E24)=1),0) -> 0 | M24: =IF(AND(F24<>"",G24<>"",P24<>""),--(COUNTIFS($P$2:P24,P24,$G$2:G24,G24)=1),0) -> 0 | N24: =IF(AND(H24<>"",I24<>"",P24<>""),--(COUNTIFS($P$2:P24,P24,$I$2:I24,I24)=1),0) -> 0 | O24: =IF(AND(J24<>"",P24<>""),--(COUNTIFS($P$2:P24,P24,$J$2:J24,J24)=1),0) -> 0 | P24: =IF(A24="","",LEFT(A24,6)) | Q24: =IF(C24="","",IF(ISNUMBER(C24),TEXT(C24,"yyyy-mm-dd"),IFERROR(TEXT(DATEVALUE(C24),"yyyy-mm-dd"),C24)))
L25: =IF(AND(D25<>"",E25<>"",P25<>""),--(COUNTIFS($P$2:P25,P25,$E$2:E25,E25)=1),0) -> 0 | M25: =IF(AND(F25<>"",G25<>"",P25<>""),--(COUNTIFS($P$2:P25,P25,$G$2:G25,G25)=1),0) -> 0 | N25: =IF(AND(H25<>"",I25<>"",P25<>""),--(COUNTIFS($P$2:P25,P25,$I$2:I25,I25)=1),0) -> 0 | O25: =IF(AND(J25<>"",P25<>""),--(COUNTIFS($P$2:P25,P25,$J$2:J25,J25)=1),0) -> 0 | P25: =IF(A25="","",LEFT(A25,6)) | Q25: =IF(C25="","",IF(ISNUMBER(C25),TEXT(C25,"yyyy-mm-dd"),IFERROR(TEXT(DATEVALUE(C25),"yyyy-mm-dd"),C25)))
L26: =IF(AND(D26<>"",E26<>"",P26<>""),--(COUNTIFS($P$2:P26,P26,$E$2:E26,E26)=1),0) -> 0 | M26: =IF(AND(F26<>"",G26<>"",P26<>""),--(COUNTIFS($P$2:P26,P26,$G$2:G26,G26)=1),0) -> 0 | N26: =IF(AND(H26<>"",I26<>"",P26<>""),--(COUNTIFS($P$2:P26,P26,$I$2:I26,I26)=1),0) -> 0 | O26: =IF(AND(J26<>"",P26<>""),--(COUNTIFS($P$2:P26,P26,$J$2:J26,J26)=1),0) -> 0 | P26: =IF(A26="","",LEFT(A26,6)) | Q26: =IF(C26="","",IF(ISNUMBER(C26),TEXT(C26,"yyyy-mm-dd"),IFERROR(TEXT(DATEVALUE(C26),"yyyy-mm-dd"),C26)))
L27: =IF(AND(D27<>"",E27<>"",P27<>""),--(COUNTIFS($P$2:P27,P27,$E$2:E27,E27)=1),0) -> 0 | M27: =IF(AND(F27<>"",G27<>"",P27<>""),--(COUNTIFS($P$2:P27,P27,$G$2:G27,G27)=1),0) -> 0 | N27: =IF(AND(H27<>"",I27<>"",P27<>""),--(COUNTIFS($P$2:P27,P27,$I$2:I27,I27)=1),0) -> 0 | O27: =IF(AND(J27<>"",P27<>""),--(COUNTIFS($P$2:P27,P27,$J$2:J27,J27)=1),0) -> 0 | P27: =IF(A27="","",LEFT(A27,6)) | Q27: =IF(C27="","",IF(ISNUMBER(C27),TEXT(C27,"yyyy-mm-dd"),IFERROR(TEXT(DATEVALUE(C27),"yyyy-mm-dd"),C27)))
... L184: =IF(AND(D184<>"",E184<>"",P184<>""),--(COUNTIFS($P$2:P184,P184,$E$2:E184,E184)=1),0) -> 0 | M184: =IF(AND(F184<>"",G184<>"",P184<>""),--(COUNTIFS($P$2:P184,P184,$G$2:G184,G184)=1),0) -> 0 | N184: =IF(AND(H184<>"",I184<>"",P184<>""),--(COUNTIFS($P$2:P184,P184,$I$2:I184,I184)=1),0) -> 0 | O184: =IF(AND(J184<>"",P184<>""),--(COUNTIFS($P$2:P184,P184,$J$2:J184,J184)=1),0) -> 0 | P184: =IF(A184="","",LEFT(A184,6)) | Q184: =IF(C184="","",IF(ISNUMBER(C184),TEXT(C184,"yyyy-mm-dd"),IFERROR(TEXT(DATEVALUE(C184),"yyyy-mm-dd"),C184)))

Sheet 達標一覽表
A1: 個案基本資料｜識別資訊與疾病組合 | E1: HbA1c 控制｜標準、最新趨勢與達標判定 | M1: LDL 控制｜標準、趨勢、年度最低與判定 | V1: UACR 腎臟風險｜標準、趨勢與達標判定 | AD1: 檢驗頻次｜年度與上下半年完成情形 | AM1: 點值與成果｜加成、點值及檢驗燈號 | AU1: 建議行動｜依事實建議檢查
E2: 依疾病組合及年齡設定的 HbA1c 控制標準；不適用者顯示「不適用」。 | F2: 該個案最近一個有效檢驗日期的 HbA1c 結果。 | G2: HbA1c 最新有效檢驗日期。 | H2: 前一個不同檢驗日期的 HbA1c 結果。 | I2: HbA1c 前一次有效檢驗日期。 | J2: HbA1c 最新與前一次檢驗日期的相隔天數。 | K2: 綜合適用標準、年度檢驗次數、下半年檢驗及數值趨勢判定 HbA1c 狀態。 | L2: 顯示 HbA1c 全年次數、下半年次數及符合標準次數。 | M2: 依疾病組合與 ASCVD 風險設定的 LDL 控制標準。 | N2: 該個案最近一個有效檢驗日期的 LDL 結果。 | O2: LDL 最新有效檢驗日期。 | P2: 前一個不同檢驗日期的 LDL 結果。 | Q2: LDL 前一次有效檢驗日期。 | R2: LDL 最新與前一次檢驗日期的相隔天數。 | S2: 匯入檢驗紀錄中的最低 LDL 值，用於觀察曾達到的最佳控制。 | T2: 綜合 LDL 標準、年度與下半年檢驗次數、達標比例及改善趨勢判定。 | U2: 顯示 LDL 全年次數、下半年次數及符合標準次數。 | V2: CKD 相關疾病組合適用 UACR <30 mg/g；其他顯示不適用。 | W2: 該個案最近一個有效檢驗日期的 UACR 結果。 | X2: UACR 最新有效檢驗日期。 | Y2: 前一個不同檢驗日期的 UACR 結果。 | Z2: UACR 前一次有效檢驗日期。 | AA2: UACR 最新與前一次檢驗日期的相隔天數。 | AB2: 綜合 UACR 標準、年度與下半年檢驗次數、達標比例及改善趨勢判定。 | AC2: 顯示 UACR 全年次數、下半年次數及符合標準次數。 | AD2: 依個案條件設定的年度 BP 上傳次數標準。 | AE2: 本年度 BP 有效且不重複日期的上傳次數。 | AF2: 本年度 1–6 月 HbA1c 有效且不重複日期的檢驗次數。 | AG2: 本年度 7–12 月 HbA1c 有效且不重複日期的檢驗次數。 | AH2: 本年度 1–6 月 LDL 有效且不重複日期的檢驗次數。 | AI2: 本年度 7–12 月 LDL 有效且不重複日期的檢驗次數。 | AJ2: 本年度 1–6 月 UACR 有效且不重複日期的檢驗次數。 | AK2: 本年度 7–12 月 UACR 有效且不重複日期的檢驗次數。 | AL2: 依疾病組合檢查 HbA1c、LDL、UACR 上下半年頻次及 BP 年度次數是否全部完成。 | AM2: 每位有效個案固定基本費 250 點。 | AN2: 每位有效個案固定個資加成費 30 點。 | AO2: 適用個案若檢驗頻次達標，加計 100 點。 | AP2: 依疾病組合 達標項目數，由相容設定表對應提升費。 | AQ2: 前項為達標項目數，後項為適用評估項目數，例如 2/3。 | AR2: 基本費、個資加成費、檢驗達成加成費及糖心腎提升費的合計。 | AS2: 依疾病組合可取得的基本費、加成費與提升費最高合計。 | AT2: 全部適用項目達標為綠燈、全部未達標為紅燈，其餘為黃燈。 | AU2: 僅陳述未達標或缺檢事實，並建議安排檢查或複檢；不提供用藥建議。 | AV2: 隱藏輔助欄：組合 HbA1c、LDL、UACR 未檢驗或未達標的事實文字。 | AW2: 隱藏輔助欄：組合上下半年缺檢與 BP 次數不足的事實文字。 | AX2: 隱藏輔助欄：由身分證號擷取前六碼，供檢驗資料比對使用。 | AY2: 隱藏輔助欄：將民國生日轉為西元日期，供檢驗資料比對使用。
A3: 序號 | B3: 身分證號 | C3: 生日 | D3: 疾病組合 | E3: HbA1c達標標準 | F3: HbA1c最新值 | G3: HbA1c最新日期 | H3: HbA1c前一次值 | I3: HbA1c前一次日期 | J3: HbA1c間隔天數 | K3: HbA1c達標狀態 | L3: HbA1c判定依據 | M3: LDL達標標準 | N3: LDL最新值 | O3: LDL最新日期 | P3: LDL前一次值 | Q3: LDL前一次日期 | R3: LDL間隔天數 | S3: LDL年度最低值 | T3: LDL達標狀態 | U3: LDL判定依據 | V3: UACR達標標準 | W3: UACR最新值 | X3: UACR最新日期 | Y3: UACR前一次值 | Z3: UACR前一次日期 | AA3: UACR間隔天數 | AB3: UACR達標狀態 | AC3: UACR判定依據 | AD3: BP達標標準（次/年） | AE3: BP上傳次數（年） | AF3: HbA1c上半年次數 | AG3: HbA1c下半年次數 | AH3: LDL上半年次數 | AI3: LDL下半年次數 | AJ3: UACR上半年次數 | AK3: UACR下半年次數 | AL3: 檢驗頻次達標狀態 | AM3: 基本費 | AN3: 個資加成費 | AO3: 檢驗達成加成費 | AP3: 糖心腎提升費 | AQ3: 達標項目數(達標/適用) | AR3: 現得點值 | AS3: 點值上限 | AT3: 燈號 | AU3: 建議行動 | AV3: 狀態建議(輔助) | AW3: 頻次建議(輔助) | AX3: 比對身分證前六碼(輔助) | AY3: 比對生日西元(輔助)
A4: {=IFERROR(IF(INDEX(PatientCriteria[身分證號],ROWS($A$4:A4))="","",ROWS($A$4:A4)),"")} -> 1 | B4: {=IFERROR(IF(INDEX(PatientCriteria[身分證號],ROWS($A$4:A4))="","",INDEX(PatientCriteria[身分證號],ROWS($A$4:A4))),"")} -> A24104**** | C4: {=IF($B4="","",IFERROR(INDEX(PatientCriteria[生日],ROWS($A$4:A4)),""))} -> 030/03/11 | D4: {=IF($B4="","",IFERROR(INDEX(PatientCriteria[疾病組合],ROWS($A$4:A4)),""))} -> DM+CKD+ASCVD | E4: {=IF($B4="","",IFERROR(INDEX(PatientCriteria[HbA1c達標標準],ROWS($A$4:A4)),""))} -> <8% | F4: =IF($B4="","",IF($G4="","",IFERROR(SUMIFS(LabData2016[最近一次HbA1c檢查結果(%)],LabData2016[比對身分證前六碼],LEFT($B4,6),LabData2016[最近一次HbA1c檢查日期],$G4,LabData2016[HbA1c唯一],1),""))) -> 6.4 | G4: {=IF($B4="","",IFERROR(_xlfn.AGGREGATE(14,6,LabData2016[最近一次HbA1c檢查日期]/((LabData2016[比對身分證前六碼]=LEFT($B4,6))*(LabData2016[HbA1c唯一]=1)),1),""))} -> 46090 | H4: =IF($B4="","",IF($I4="","",IFERROR(SUMIFS(LabData2016[最近一次HbA1c檢查結果(%)],LabData2016[比對身分證前六碼],LEFT($B4,6),LabData2016[最近一次HbA1c檢查日期],$I4,LabData2016[HbA1c唯一],1),""))) -> 6.6 | I4: {=IF($B4="","",IFERROR(_xlfn.AGGREGATE(14,6,LabData2016[最近一次HbA1c檢查日期]/((LabData2016[比對身分證前六碼]=LEFT($B4,6))*(LabData2016[HbA1c唯一]=1)),2),""))} -> 45996 | J4: =IF($B4="","",IF(AND(G4<>"",I4<>""),G4-I4,"")) -> 94 | K4: =IF($B4="","",IF($E4="不適用","不適用",IF($F4="","未檢驗",IF(AND($AF4+$AG4>=2,$AG4>=1),IF(OR($F4<VALUE(SUBSTITUTE(SUBSTITUTE($E4,"<",""),"%","")),SUMIFS(LabData2016[HbA1c唯一],LabData2016[比對身分證前六碼],$AX4,LabData2016[最近一次HbA1c檢查結果(%)],"<"&VALUE(SUBSTITUTE(SUBSTITUTE($E4,"<",""),"%","")),LabData2016[最近一次HbA1c檢查日期],">="&DATE(YEAR(TODAY()),1,1),LabData2016[最近一次HbA1c檢查日期],"<"&DATE(YEAR(TODAY())+1,1,1))/($AF4+$AG4)>=0.5),"控制達標",IF(ISNUMBER($H4),IF(AND($J4>=84,$F4-$H4<0),"進步達標","未達標"),"未達標")),"未達標")))) -> 未達標 | L4: =IF($B4="","",IF($K4="不適用","不適用",IF($K4="未檢驗","無檢驗資料","全年"&($AF4+$AG4)&"次／下半年"&$AG4&"次／"&SUMIFS(LabData2016[HbA1c唯一],LabData2016[比對身分證前六碼],$AX4,LabData2016[最近一次HbA1c檢查結果(%)],"<"&VALUE(SUBSTITUTE(SUBSTITUTE($E4,"<",""),"%","")),LabData2016[最近一次HbA1c檢查日期],">="&DATE(YEAR(TODAY()),1,1),LabData2016[最近一次HbA1c檢查日期],"<"&DATE(YEAR(TODAY())+1,1,1))&"/"&($AF4+$AG4)&"達標"))) -> 全年1次／下半年0次／1/1達標 | M4: {=IF($B4="","",IFERROR(INDEX(PatientCriteria[LDL達標標準],ROWS($A$4:A4)),""))} -> <70 | N4: =IF($B4="","",IF($O4="","",IFERROR(SUMIFS(LabData2016[最近一次LDL檢查結果(mg/dL)],LabData2016[比對身分證前六碼],$AX4,LabData2016[最近一次LDL檢查日期],$O4,LabData2016[LDL唯一],1),""))) -> 73 | O4: {=IF($B4="","",IFERROR(_xlfn.AGGREGATE(14,6,LabData2016[最近一次LDL檢查日期]/((LabData2016[比對身分證前六碼]=$AX4)*(LabData2016[LDL唯一]=1)),1),""))} -> 46208 | P4: =IF($B4="","",IF($Q4="","",IFERROR(SUMIFS(LabData2016[最近一次LDL檢查結果(mg/dL)],LabData2016[比對身分證前六碼],$AX4,LabData2016[最近一次LDL檢查日期],$Q4,LabData2016[LDL唯一],1),""))) -> 91 | Q4: {=IF($B4="","",IFERROR(_xlfn.AGGREGATE(14,6,LabData2016[最近一次LDL檢查日期]/((LabData2016[比對身分證前六碼]=LEFT($B4,6))*(LabData2016[LDL唯一]=1)),2),""))} -> 46034 | R4: =IF($B4="","",IF(AND(O4<>"",Q4<>""),O4-Q4,"")) -> 174 | S4: {=IF($B4="","",IFERROR(_xlfn.AGGREGATE(15,6,LabData2016[最近一次LDL檢查結果(mg/dL)]/((LabData2016[比對身分證前六碼]=LEFT($B4,6))*(LabData2016[LDL唯一]=1)),1),""))} -> 73 | T4: =IF($B4="","",IF($M4="不適用","不適用",IF($N4="","未檢驗",IF(OR(AND($D4="DM only",$O4>=DATE(YEAR(TODAY()),1,1),$O4<DATE(YEAR(TODAY())+1,1,1),$N4<VALUE(SUBSTITUTE($M4,"<",""))),AND($AH4>=1,$AI4>=1,OR($N4<VALUE(SUBSTITUTE($M4,"<","")),SUMIFS(LabData2016[LDL唯一],LabData2016[比對身分證前六碼],$AX4,LabData2016[最近一次LDL檢查結果(mg/dL)],"<"&VALUE(SUBSTITUTE($M4,"<","")),LabData2016[最近一次LDL檢查日期],">="&DATE(YEAR(TODAY()),1,1),LabData2016[最近一次LDL檢查日期],"<"&DATE(YEAR(TODAY())+1,1,1))/($AH4+$AI4)>=0.5))),"控制達標",IF(AND($AH4>=1,$AI4>=1,ISNUMBER($P4),$R4>84,$N4-$P4<0),"進步達標","未達標"))))) -> 進步達標 | U4: =IF($B4="","",IF($T4="不適用","不適用",IF($T4="未檢驗","無檢驗資料","全年"&($AH4+$AI4)&"次／下半年"&$AI4&"次／"&SUMIFS(LabData2016[LDL唯一],LabData2016[比對身分證前六碼],LEFT($B4,6),LabData2016[最近一次LDL檢查結果(mg/dL)],"<"&VALUE(SUBSTITUTE($M4,"<","")),LabData2016[最近一次LDL檢查日期],">="&DATE(YEAR(TODAY()),1,1),LabData2016[最近一次LDL檢查日期],"<"&DATE(YEAR(TODAY())+1,1,1))&"/"&($AH4+$AI4)&"達標"))) -> 全年2次／下半年1次／0/2達標 | V4: {=IF($B4="","",IFERROR(INDEX(PatientCriteria[UACR達標標準],ROWS($A$4:A4)),""))} -> <30 mg/g | W4: =IF($B4="","",IF($X4="","",IFERROR(SUMIFS(LabData2016[最近一次UACR檢查結果(mg/gm)],LabData2016[比對身分證前六碼],LEFT($B4,6),LabData2016[最近一次UACR檢查日期],$X4,LabData2016[UACR唯一],1),""))) -> 11 | X4: {=IF($B4="","",IFERROR(_xlfn.AGGREGATE(14,6,LabData2016[最近一次UACR檢查日期]/((LabData2016[比對身分證前六碼]=LEFT($B4,6))*(LabData2016[UACR唯一]=1)),1),""))} -> 46221 | Y4: =IF($B4="","",IF($Z4="","",IFERROR(SUMIFS(LabData2016[最近一次UACR檢查結果(mg/gm)],LabData2016[比對身分證前六碼],LEFT($B4,6),LabData2016[最近一次UACR檢查日期],$Z4,LabData2016[UACR唯一],1),""))) -> 22 | Z4: {=IF($B4="","",IFERROR(_xlfn.AGGREGATE(14,6,LabData2016[最近一次UACR檢查日期]/((LabData2016[比對身分證前六碼]=LEFT($B4,6))*(LabData2016[UACR唯一]=1)),2),""))} -> 46199 | AA4: =IF($B4="","",IF(AND(X4<>"",Z4<>""),X4-Z4,"")) -> 22 | AB4: =IF($B4="","",IF($V4="不適用","不適用",IF($W4="","未檢驗",IF(AND($AJ4+$AK4>=2,$AK4>=1),IF(OR($W4<30,SUMIFS(LabData2016[UACR唯一],LabData2016[比對身分證前六碼],LEFT($B4,6),LabData2016[最近一次UACR檢查結果(mg/gm)],"<30",LabData2016[最近一次UACR檢查日期],">="&DATE(YEAR(TODAY()),1,1),LabData2016[最近一次UACR檢查日期],"<"&DATE(YEAR(TODAY())+1,1,1))/($AJ4+$AK4)>=0.5),"控制達標",IF(ISNUMBER($Y4),IF(AND($AA4>=84,$W4-$Y4<0),"進步達標","未達標"),"未達標")),"未達標")))) -> 控制達標 | AC4: =IF($B4="","",IF($AB4="不適用","不適用",IF($AB4="未檢驗","無檢驗資料","全年"&($AJ4+$AK4)&"次／下半年"&$AK4&"次／"&SUMIFS(LabData2016[UACR唯一],LabData2016[比對身分證前六碼],LEFT($B4,6),LabData2016[最近一次UACR檢查結果(mg/gm)],"<30",LabData2016[最近一次UACR檢查日期],">="&DATE(YEAR(TODAY()),1,1),LabData2016[最近一次UACR檢查日期],"<"&DATE(YEAR(TODAY())+1,1,1))&"/"&($AJ4+$AK4)&"達標"))) -> 全年4次／下半年1次／4/4達標 | AD4: {=IF($B4="","",IFERROR(INDEX(PatientCriteria[BP檢驗次數達標標準],ROWS($A$4:A4)),""))} -> 3次 | AE4: {=IF($B4="","",_xlfn.LET(_xlpm.bp,LabData2016[最近一次BP檢查日期],_xlpm.ym,IF(ISNUMBER(_xlpm.bp),TEXT(_xlpm.bp,"yyyy-mm"),LEFT(_xlpm.bp,7)),_xlpm.matched,_xlfn._xlws.FILTER(_xlpm.ym,(LabData2016[比對身分證前六碼]=$AX4)*(LabData2016[比對生日西元]=$AY4)*(_xlpm.ym<>"")*(LEFT(_xlpm.ym,4)=TEXT(YEAR(TODAY()),"0")),""),IF(INDEX(_xlpm.matched,1)="",0,ROWS(_xlfn.UNIQUE(_xlpm.matched)))))} -> 3 | AF4: =IF($B4="","",SUMIFS(LabData2016[HbA1c唯一],LabData2016[比對身分證前六碼],LEFT($B4,6),LabData2016[最近一次HbA1c檢查日期],">="&DATE(YEAR(TODAY()),1,1),LabData2016[最近一次HbA1c檢查日期],"<"&DATE(YEAR(TODAY()),7,1))) -> 1 | AG4: =IF($B4="","",SUMIFS(LabData2016[HbA1c唯一],LabData2016[比對身分證前六碼],LEFT($B4,6),LabData2016[最近一次HbA1c檢查日期],">="&DATE(YEAR(TODAY()),7,1),LabData2016[最近一次HbA1c檢查日期],"<"&DATE(YEAR(TODAY())+1,1,1))) -> 0 | AH4: =IF($B4="","",SUMIFS(LabData2016[LDL唯一],LabData2016[比對身分證前六碼],LEFT($B4,6),LabData2016[最近一次LDL檢查日期],">="&DATE(YEAR(TODAY()),1,1),LabData2016[最近一次LDL檢查日期],"<"&DATE(YEAR(TODAY()),7,1))) -> 1 | AI4: =IF($B4="","",SUMIFS(LabData2016[LDL唯一],LabData2016[比對身分證前六碼],LEFT($B4,6),LabData2016[最近一次LDL檢查日期],">="&DATE(YEAR(TODAY()),7,1),LabData2016[最近一次LDL檢查日期],"<"&DATE(YEAR(TODAY())+1,1,1))) -> 1 | AJ4: =IF($B4="","",SUMIFS(LabData2016[UACR唯一],LabData2016[比對身分證前六碼],LEFT($B4,6),LabData2016[最近一次UACR檢查日期],">="&DATE(YEAR(TODAY()),1,1),LabData2016[最近一次UACR檢查日期],"<"&DATE(YEAR(TODAY()),7,1))) -> 3 | AK4: =IF($B4="","",SUMIFS(LabData2016[UACR唯一],LabData2016[比對身分證前六碼],LEFT($B4,6),LabData2016[最近一次UACR檢查日期],">="&DATE(YEAR(TODAY()),7,1),LabData2016[最近一次UACR檢查日期],"<"&DATE(YEAR(TODAY())+1,1,1))) -> 1 | AL4: =IF($B4="","",IF(NOT(OR($D4="DM only",$D4="DM+CKD",$D4="DM+ASCVD",$D4="CKD+ASCVD",$D4="DM+CKD+ASCVD")),"不適用",IF(AND(IF(OR($D4="DM only",$D4="DM+CKD",$D4="DM+ASCVD",$D4="DM+CKD+ASCVD"),AND($AF4>=1,$AG4>=1),TRUE),AND($AH4>=1,$AI4>=1),IF(OR($D4="DM+CKD",$D4="CKD+ASCVD",$D4="DM+CKD+ASCVD"),AND($AJ4>=1,$AK4>=1),TRUE),OR($AD4="不適用",$AE4>=3)),"達標","未達標"))) -> 未達標 | AM4: =IF($B4="","",250) -> 250 | AN4: =IF($B4="","",30) -> 30 | AO4: =IF($B4="","",IF(AND($AL4="達標",OR(ISNUMBER(SEARCH("DM",$D4)),ISNUMBER(SEARCH("+",$D4)))),100,0)) -> 0 | AP4: {=IF($B4="","",IFERROR(INDEX(相容設定!$B$2:$E$9,MATCH($D4,相容設定!$A$2:$A$9,0),MIN(VALUE(LEFT($AQ4,FIND("/",$AQ4)-1)),3)+1),0))} -> 900 | AQ4: =IF($B4="","",(IF(OR($K4="控制達標",$K4="進步達標"),1,0)+IF(OR($T4="控制達標",$T4="進步達標"),1,0)+IF(OR($AB4="控制達標",$AB4="進步達標"),1,0))&"/"&(IF($K4<>"不適用",1,0)+IF($T4<>"不適用",1,0)+IF($AB4<>"不適用",1,0))) -> 2/3 | AR4: =IF($B4="","",AM4+AN4+AO4+AP4) -> 1180 | AS4: =IF($B4="","",250+30+IF(OR(ISNUMBER(SEARCH("DM",$D4)),ISNUMBER(SEARCH("+",$D4))),100,0)+IFERROR(INDEX(相容設定!$F$2:$F$9,MATCH($D4,相容設定!$A$2:$A$9,0)),0)) -> 1480 | AT4: =IF($B4="","",_xlfn.LET(_xlpm.a,--AND($K4<>"",$K4<>"不適用")+--AND($T4<>"",$T4<>"不適用")+--AND($AB4<>"",$AB4<>"不適用"),_xlpm.h,--OR($K4="控制達標",$K4="進步達標",$K4="達標")+--OR($T4="控制達標",$T4="進步達標",$T4="達標")+--OR($AB4="控制達標",$AB4="進步達標",$AB4="達標"),IF(_xlpm.a=0,"",IF(_xlpm.h=_xlpm.a,"🟢",IF(_xlpm.h=0,"🔴","🟡"))))) -> 🟡 | AU4: =IF($B4="","",IF($AQ4="0/0","無適用評估項目：依個案狀況常規追蹤",IF($AV4&$AW4="","維持現況並定期追蹤",LEFT($AV4&$AW4,LEN($AV4&$AW4)-1)))) -> HbA1c未達標：建議安排複檢；HbA1c下半年缺檢：安排檢驗 | AV4: =IF($B4="","",IF($K4="未檢驗","HbA1c未檢驗：建議安排檢查；",IF($K4="未達標","HbA1c未達標：建議安排複檢；",""))&IF($T4="未檢驗","LDL未檢驗：建議安排檢查；",IF($T4="未達標","LDL未達標：建議安排複檢；",""))&IF($AB4="未檢驗","UACR未檢驗：建議安排尿液檢查；",IF($AB4="未達標","UACR未達標：建議安排尿液複檢；",""))) -> HbA1c未達標：建議安排複檢； | AW4: =IF($B4="","",IF($AL4<>"未達標","",IF(AND($E4<>"不適用",$AF4<1),"HbA1c上半年缺檢：安排檢驗；","")&IF(AND($E4<>"不適用",$AG4<1),"HbA1c下半年缺檢：安排檢驗；","")&IF(AND($M4<>"不適用",$AH4<1),"LDL上半年缺檢：安排檢驗；","")&IF(AND($M4<>"不適用",$AI4<1),"LDL下半年缺檢：安排檢驗；","")&IF(AND($V4<>"不適用",$AJ4<1),"UACR上半年缺檢：安排尿液檢查；","")&IF(AND($V4<>"不適用",$AK4<1),"UACR下半年缺檢：安排尿液檢查；","")&_xlfn.LET(_xlpm.bpNeed,IFERROR(VALUE(SUBSTITUTE($AD4,"次","")),0),IF(AND(_xlpm.bpNeed>0,$AE4<_xlpm.bpNeed),"BP次數不足：尚缺"&(_xlpm.bpNeed-$AE4)&"次；","")))) -> HbA1c下半年缺檢：安排檢驗； | AX4: =IF($B4="","",LEFT($B4,6)) -> A24104 | AY4: =IF($C4="","",IF(ISNUMBER($C4),TEXT($C4,"yyyy-mm-dd"),TEXT(DATE(VALUE(LEFT($C4,3))+1911,VALUE(MID($C4,5,2)),VALUE(RIGHT($C4,2))),"yyyy-mm-dd"))) -> 1941-03-11
A5: {=IFERROR(IF(INDEX(PatientCriteria[身分證號],ROWS($A$4:A5))="","",ROWS($A$4:A5)),"")} -> 2 | B5: {=IFERROR(IF(INDEX(PatientCriteria[身分證號],ROWS($A$4:A5))="","",INDEX(PatientCriteria[身分證號],ROWS($A$4:A5))),"")} -> C22666**** | C5: {=IF($B5="","",IFERROR(INDEX(PatientCriteria[生日],ROWS($A$4:A5)),""))} -> 031/04/01 | D5: {=IF($B5="","",IFERROR(INDEX(PatientCriteria[疾病組合],ROWS($A$4:A5)),""))} -> DM+CKD+ASCVD | E5: {=IF($B5="","",IFERROR(INDEX(PatientCriteria[HbA1c達標標準],ROWS($A$4:A5)),""))} -> <8% | F5: =IF($B5="","",IF($G5="","",IFERROR(SUMIFS(LabData2016[最近一次HbA1c檢查結果(%)],LabData2016[比對身分證前六碼],$AX5,LabData2016[最近一次HbA1c檢查日期],$G5,LabData2016[HbA1c唯一],1),""))) -> 7.3 | G5: {=IF($B5="","",IFERROR(_xlfn.AGGREGATE(14,6,LabData2016[最近一次HbA1c檢查日期]/((LabData2016[比對身分證前六碼]=$AX5)*(LabData2016[HbA1c唯一]=1)),1),""))} -> 45848 | H5: =IF($B5="","",IF($I5="","",IFERROR(SUMIFS(LabData2016[最近一次HbA1c檢查結果(%)],LabData2016[比對身分證前六碼],$AX5,LabData2016[最近一次HbA1c檢查日期],$I5,LabData2016[HbA1c唯一],1),""))) | I5: {=IF($B5="","",IFERROR(_xlfn.AGGREGATE(14,6,LabData2016[最近一次HbA1c檢查日期]/((LabData2016[比對身分證前六碼]=$AX5)*(LabData2016[HbA1c唯一]=1)),2),""))} | J5: =IF($B5="","",IF(AND(G5<>"",I5<>""),G5-I5,"")) | K5: =IF($B5="","",IF($E5="不適用","不適用",IF($F5="","未檢驗",IF(AND($AF5+$AG5>=2,$AG5>=1),IF(OR($F5<VALUE(SUBSTITUTE(SUBSTITUTE($E5,"<",""),"%","")),SUMIFS(LabData2016[HbA1c唯一],LabData2016[比對身分證前六碼],$AX5,LabData2016[最近一次HbA1c檢查結果(%)],"<"&VALUE(SUBSTITUTE(SUBSTITUTE($E5,"<",""),"%","")),LabData2016[最近一次HbA1c檢查日期],">="&DATE(YEAR(TODAY()),1,1),LabData2016[最近一次HbA1c檢查日期],"<"&DATE(YEAR(TODAY())+1,1,1))/($AF5+$AG5)>=0.5),"控制達標",IF(ISNUMBER($H5),IF(AND($J5>=84,$F5-$H5<0),"進步達標","未達標"),"未達標")),"未達標")))) -> 未達標 | L5: =IF($B5="","",IF($K5="不適用","不適用",IF($K5="未檢驗","無檢驗資料","全年"&($AF5+$AG5)&"次／下半年"&$AG5&"次／"&SUMIFS(LabData2016[HbA1c唯一],LabData2016[比對身分證前六碼],$AX5,LabData2016[最近一次HbA1c檢查結果(%)],"<"&VALUE(SUBSTITUTE(SUBSTITUTE($E5,"<",""),"%","")),LabData2016[最近一次HbA1c檢查日期],">="&DATE(YEAR(TODAY()),1,1),LabData2016[最近一次HbA1c檢查日期],"<"&DATE(YEAR(TODAY())+1,1,1))&"/"&($AF5+$AG5)&"達標"))) -> 全年0次／下半年0次／0/0達標 | M5: {=IF($B5="","",IFERROR(INDEX(PatientCriteria[LDL達標標準],ROWS($A$4:A5)),""))} -> <55 | N5: =IF($B5="","",IF($O5="","",IFERROR(SUMIFS(LabData2016[最近一次LDL檢查結果(mg/dL)],LabData2016[比對身分證前六碼],$AX5,LabData2016[最近一次LDL檢查日期],$O5,LabData2016[LDL唯一],1),""))) -> 89 | O5: {=IF($B5="","",IFERROR(_xlfn.AGGREGATE(14,6,LabData2016[最近一次LDL檢查日期]/((LabData2016[比對身分證前六碼]=$AX5)*(LabData2016[LDL唯一]=1)),1),""))} -> 46193 | P5: =IF($B5="","",IF($Q5="","",IFERROR(SUMIFS(LabData2016[最近一次LDL檢查結果(mg/dL)],LabData2016[比對身分證前六碼],$AX5,LabData2016[最近一次LDL檢查日期],$Q5,LabData2016[LDL唯一],1),""))) -> 66 | Q5: {=IF($B5="","",IFERROR(_xlfn.AGGREGATE(14,6,LabData2016[最近一次LDL檢查日期]/((LabData2016[比對身分證前六碼]=$AX5)*(LabData2016[LDL唯一]=1)),2),""))} -> 46070 | R5: =IF($B5="","",IF(AND(O5<>"",Q5<>""),O5-Q5,"")) -> 123 | S5: {=IF($B5="","",IFERROR(_xlfn.AGGREGATE(15,6,LabData2016[最近一次LDL檢查結果(mg/dL)]/((LabData2016[比對身分證前六碼]=$AX5)*(LabData2016[LDL唯一]=1)),1),""))} -> 66 | T5: =IF($B5="","",IF($M5="不適用","不適用",IF($N5="","未檢驗",IF(OR(AND($D5="DM only",$O5>=DATE(YEAR(TODAY()),1,1),$O5<DATE(YEAR(TODAY())+1,1,1),$N5<VALUE(SUBSTITUTE($M5,"<",""))),AND($AH5>=1,$AI5>=1,OR($N5<VALUE(SUBSTITUTE($M5,"<","")),SUMIFS(LabData2016[LDL唯一],LabData2016[比對身分證前六碼],$AX5,LabData2016[最近一次LDL檢查結果(mg/dL)],"<"&VALUE(SUBSTITUTE($M5,"<","")),LabData2016[最近一次LDL檢查日期],">="&DATE(YEAR(TODAY()),1,1),LabData2016[最近一次LDL檢查日期],"<"&DATE(YEAR(TODAY())+1,1,1))/($AH5+$AI5)>=0.5))),"控制達標",IF(AND($AH5>=1,$AI5>=1,ISNUMBER($P5),$R5>84,$N5-$P5<0),"進步達標","未達標"))))) -> 未達標 | U5: =IF($B5="","",IF($T5="不適用","不適用",IF($T5="未檢驗","無檢驗資料","全年"&($AH5+$AI5)&"次／下半年"&$AI5&"次／"&SUMIFS(LabData2016[LDL唯一],LabData2016[比對身分證前六碼],$AX5,LabData2016[最近一次LDL檢查結果(mg/dL)],"<"&VALUE(SUBSTITUTE($M5,"<","")),LabData2016[最近一次LDL檢查日期],">="&DATE(YEAR(TODAY()),1,1),LabData2016[最近一次LDL檢查日期],"<"&DATE(YEAR(TODAY())+1,1,1))&"/"&($AH5+$AI5)&"達標"))) -> 全年2次／下半年0次／0/2達標 | V5: {=IF($B5="","",IFERROR(INDEX(PatientCriteria[UACR達標標準],ROWS($A$4:A5)),""))} -> <30 mg/g | W5: =IF($B5="","",IF($X5="","",IFERROR(SUMIFS(LabData2016[最近一次UACR檢查結果(mg/gm)],LabData2016[比對身分證前六碼],$AX5,LabData2016[最近一次UACR檢查日期],$X5,LabData2016[UACR唯一],1),""))) -> 16 | X5: {=IF($B5="","",IFERROR(_xlfn.AGGREGATE(14,6,LabData2016[最近一次UACR檢查日期]/((LabData2016[比對身分證前六碼]=$AX5)*(LabData2016[UACR唯一]=1)),1),""))} -> 46093 | Y5: =IF($B5="","",IF($Z5="","",IFERROR(SUMIFS(LabData2016[最近一次UACR檢查結果(mg/gm)],LabData2016[比對身分證前六碼],$AX5,LabData2016[最近一次UACR檢查日期],$Z5,LabData2016[UACR唯一],1),""))) -> 13 | Z5: {=IF($B5="","",IFERROR(_xlfn.AGGREGATE(14,6,LabData2016[最近一次UACR檢查日期]/((LabData2016[比對身分證前六碼]=$AX5)*(LabData2016[UACR唯一]=1)),2),""))} -> 45843 | AA5: =IF($B5="","",IF(AND(X5<>"",Z5<>""),X5-Z5,"")) -> 250 | AB5: =IF($B5="","",IF($V5="不適用","不適用",IF($W5="","未檢驗",IF(AND($AJ5+$AK5>=2,$AK5>=1),IF(OR($W5<30,SUMIFS(LabData2016[UACR唯一],LabData2016[比對身分證前六碼],$AX5,LabData2016[最近一次UACR檢查結果(mg/gm)],"<30",LabData2016[最近一次UACR檢查日期],">="&DATE(YEAR(TODAY()),1,1),LabData2016[最近一次UACR檢查日期],"<"&DATE(YEAR(TODAY())+1,1,1))/($AJ5+$AK5)>=0.5),"控制達標",IF(ISNUMBER($Y5),IF(AND($AA5>=84,$W5-$Y5<0),"進步達標","未達標"),"未達標")),"未達標")))) -> 未達標 | AC5: =IF($B5="","",IF($AB5="不適用","不適用",IF($AB5="未檢驗","無檢驗資料","全年"&($AJ5+$AK5)&"次／下半年"&$AK5&"次／"&SUMIFS(LabData2016[UACR唯一],LabData2016[比對身分證前六碼],$AX5,LabData2016[最近一次UACR檢查結果(mg/gm)],"<30",LabData2016[最近一次UACR檢查日期],">="&DATE(YEAR(TODAY()),1,1),LabData2016[最近一次UACR檢查日期],"<"&DATE(YEAR(TODAY())+1,1,1))&"/"&($AJ5+$AK5)&"達標"))) -> 全年1次／下半年0次／1/1達標 | AD5: {=IF($B5="","",IFERROR(INDEX(PatientCriteria[BP檢驗次數達標標準],ROWS($A$4:A5)),""))} -> 3次 | AE5: {=IF($B5="","",_xlfn.LET(_xlpm.bp,LabData2016[最近一次BP檢查日期],_xlpm.ym,IF(ISNUMBER(_xlpm.bp),TEXT(_xlpm.bp,"yyyy-mm"),LEFT(_xlpm.bp,7)),_xlpm.matched,_xlfn._xlws.FILTER(_xlpm.ym,(LabData2016[比對身分證前六碼]=$AX5)*(LabData2016[比對生日西元]=$AY5)*(_xlpm.ym<>"")*(LEFT(_xlpm.ym,4)=TEXT(YEAR(TODAY()),"0")),""),IF(INDEX(_xlpm.matched,1)="",0,ROWS(_xlfn.UNIQUE(_xlpm.matched)))))} -> 2 | AF5: =IF($B5="","",SUMIFS(LabData2016[HbA1c唯一],LabData2016[比對身分證前六碼],$AX5,LabData2016[最近一次HbA1c檢查日期],">="&DATE(YEAR(TODAY()),1,1),LabData2016[最近一次HbA1c檢查日期],"<"&DATE(YEAR(TODAY()),7,1))) -> 0 | AG5: =IF($B5="","",SUMIFS(LabData2016[HbA1c唯一],LabData2016[比對身分證前六碼],$AX5,LabData2016[最近一次HbA1c檢查日期],">="&DATE(YEAR(TODAY()),7,1),LabData2016[最近一次HbA1c檢查日期],"<"&DATE(YEAR(TODAY())+1,1,1))) -> 0 | AH5: =IF($B5="","",SUMIFS(LabData2016[LDL唯一],LabData2016[比對身分證前六碼],$AX5,LabData2016[最近一次LDL檢查日期],">="&DATE(YEAR(TODAY()),1,1),LabData2016[最近一次LDL檢查日期],"<"&DATE(YEAR(TODAY()),7,1))) -> 2 | AI5: =IF($B5="","",SUMIFS(LabData2016[LDL唯一],LabData2016[比對身分證前六碼],$AX5,LabData2016[最近一次LDL檢查日期],">="&DATE(YEAR(TODAY()),7,1),LabData2016[最近一次LDL檢查日期],"<"&DATE(YEAR(TODAY())+1,1,1))) -> 0 | AJ5: =IF($B5="","",SUMIFS(LabData2016[UACR唯一],LabData2016[比對身分證前六碼],$AX5,LabData2016[最近一次UACR檢查日期],">="&DATE(YEAR(TODAY()),1,1),LabData2016[最近一次UACR檢查日期],"<"&DATE(YEAR(TODAY()),7,1))) -> 1 | AK5: =IF($B5="","",SUMIFS(LabData2016[UACR唯一],LabData2016[比對身分證前六碼],$AX5,LabData2016[最近一次UACR檢查日期],">="&DATE(YEAR(TODAY()),7,1),LabData2016[最近一次UACR檢查日期],"<"&DATE(YEAR(TODAY())+1,1,1))) -> 0 | AL5: =IF($B5="","",IF(NOT(OR($D5="DM only",$D5="DM+CKD",$D5="DM+ASCVD",$D5="CKD+ASCVD",$D5="DM+CKD+ASCVD")),"不適用",IF(AND(IF(OR($D5="DM only",$D5="DM+CKD",$D5="DM+ASCVD",$D5="DM+CKD+ASCVD"),AND($AF5>=1,$AG5>=1),TRUE),AND($AH5>=1,$AI5>=1),IF(OR($D5="DM+CKD",$D5="CKD+ASCVD",$D5="DM+CKD+ASCVD"),AND($AJ5>=1,$AK5>=1),TRUE),OR($AD5="不適用",$AE5>=3)),"達標","未達標"))) -> 未達標 | AM5: =IF($B5="","",250) -> 250 | AN5: =IF($B5="","",30) -> 30 | AO5: =IF($B5="","",IF(AND($AL5="達標",OR(ISNUMBER(SEARCH("DM",$D5)),ISNUMBER(SEARCH("+",$D5)))),100,0)) -> 0 | AP5: {=IF($B5="","",IFERROR(INDEX(相容設定!$B$2:$E$9,MATCH($D5,相容設定!$A$2:$A$9,0),MIN(VALUE(LEFT($AQ5,FIND("/",$AQ5)-1)),3)+1),0))} -> 0 | AQ5: =IF($B5="","",(IF(OR($K5="控制達標",$K5="進步達標"),1,0)+IF(OR($T5="控制達標",$T5="進步達標"),1,0)+IF(OR($AB5="控制達標",$AB5="進步達標"),1,0))&"/"&(IF($K5<>"不適用",1,0)+IF($T5<>"不適用",1,0)+IF($AB5<>"不適用",1,0))) -> 0/3 | AR5: =IF($B5="","",AM5+AN5+AO5+AP5) -> 280 | AS5: =IF($B5="","",250+30+IF(OR(ISNUMBER(SEARCH("DM",$D5)),ISNUMBER(SEARCH("+",$D5))),100,0)+IFERROR(INDEX(相容設定!$F$2:$F$9,MATCH($D5,相容設定!$A$2:$A$9,0)),0)) -> 1480 | AT5: =IF($B5="","",_xlfn.LET(_xlpm.a,--AND($K5<>"",$K5<>"不適用")+--AND($T5<>"",$T5<>"不適用")+--AND($AB5<>"",$AB5<>"不適用"),_xlpm.h,--OR($K5="控制達標",$K5="進步達標",$K5="達標")+--OR($T5="控制達標",$T5="進步達標",$T5="達標")+--OR($AB5="控制達標",$AB5="進步達標",$AB5="達標"),IF(_xlpm.a=0,"",IF(_xlpm.h=_xlpm.a,"🟢",IF(_xlpm.h=0,"🔴","🟡"))))) -> 🔴 | AU5: =IF($B5="","",IF($AQ5="0/0","無適用評估項目：依個案狀況常規追蹤",IF($AV5&$AW5="","維持現況並定期追蹤",LEFT($AV5&$AW5,LEN($AV5&$AW5)-1)))) -> HbA1c未達標：建議安排複檢；LDL未達標：建議安排複檢；UACR未達標：建議安排尿液複檢；HbA1c上半年缺檢：安排檢驗；HbA1c下半年缺檢：安排檢驗；LDL下半年缺檢：安排檢驗；UACR下半年缺檢：安排尿液檢查；BP次數不足：尚缺1次 | AV5: =IF($B5="","",IF($K5="未檢驗","HbA1c未檢驗：建議安排檢查；",IF($K5="未達標","HbA1c未達標：建議安排複檢；",""))&IF($T5="未檢驗","LDL未檢驗：建議安排檢查；",IF($T5="未達標","LDL未達標：建議安排複檢；",""))&IF($AB5="未檢驗","UACR未檢驗：建議安排尿液檢查；",IF($AB5="未達標","UACR未達標：建議安排尿液複檢；",""))) -> HbA1c未達標：建議安排複檢；LDL未達標：建議安排複檢；UACR未達標：建議安排尿液複檢； | AW5: =IF($B5="","",IF($AL5<>"未達標","",IF(AND($E5<>"不適用",$AF5<1),"HbA1c上半年缺檢：安排檢驗；","")&IF(AND($E5<>"不適用",$AG5<1),"HbA1c下半年缺檢：安排檢驗；","")&IF(AND($M5<>"不適用",$AH5<1),"LDL上半年缺檢：安排檢驗；","")&IF(AND($M5<>"不適用",$AI5<1),"LDL下半年缺檢：安排檢驗；","")&IF(AND($V5<>"不適用",$AJ5<1),"UACR上半年缺檢：安排尿液檢查；","")&IF(AND($V5<>"不適用",$AK5<1),"UACR下半年缺檢：安排尿液檢查；","")&_xlfn.LET(_xlpm.bpNeed,IFERROR(VALUE(SUBSTITUTE($AD5,"次","")),0),IF(AND(_xlpm.bpNeed>0,$AE5<_xlpm.bpNeed),"BP次數不足：尚缺"&(_xlpm.bpNeed-$AE5)&"次；","")))) -> HbA1c上半年缺檢：安排檢驗；HbA1c下半年缺檢：安排檢驗；LDL下半年缺檢：安排檢驗；UACR下半年缺檢：安排尿液檢查；BP次數不足：尚缺1次； | AX5: =IF($B5="","",LEFT($B5,6)) -> C22666 | AY5: =IF($C5="","",IF(ISNUMBER($C5),TEXT($C5,"yyyy-mm-dd"),TEXT(DATE(VALUE(LEFT($C5,3))+1911,VALUE(MID($C5,5,2)),VALUE(RIGHT($C5,2))),"yyyy-mm-dd"))) -> 1942-04-01
A6: {=IFERROR(IF(INDEX(PatientCriteria[身分證號],ROWS($A$4:A6))="","",ROWS($A$4:A6)),"")} | B6: {=IFERROR(IF(INDEX(PatientCriteria[身分證號],ROWS($A$4:A6))="","",INDEX(PatientCriteria[身分證號],ROWS($A$4:A6))),"")} | C6: {=IF($B6="","",IFERROR(INDEX(PatientCriteria[生日],ROWS($A$4:A6)),""))} | D6: {=IF($B6="","",IFERROR(INDEX(PatientCriteria[疾病組合],ROWS($A$4:A6)),""))} | E6: {=IF($B6="","",IFERROR(INDEX(PatientCriteria[HbA1c達標標準],ROWS($A$4:A6)),""))} | F6: =IF($B6="","",IF($G6="","",IFERROR(SUMIFS(LabData2016[最近一次HbA1c檢查結果(%)],LabData2016[比對身分證前六碼],$AX6,LabData2016[最近一次HbA1c檢查日期],$G6,LabData2016[HbA1c唯一],1),""))) | G6: {=IF($B6="","",IFERROR(_xlfn.AGGREGATE(14,6,LabData2016[最近一次HbA1c檢查日期]/((LabData2016[比對身分證前六碼]=$AX6)*(LabData2016[HbA1c唯一]=1)),1),""))} | H6: =IF($B6="","",IF($I6="","",IFERROR(SUMIFS(LabData2016[最近一次HbA1c檢查結果(%)],LabData2016[比對身分證前六碼],$AX6,LabData2016[最近一次HbA1c檢查日期],$I6,LabData2016[HbA1c唯一],1),""))) | I6: {=IF($B6="","",IFERROR(_xlfn.AGGREGATE(14,6,LabData2016[最近一次HbA1c檢查日期]/((LabData2016[比對身分證前六碼]=$AX6)*(LabData2016[HbA1c唯一]=1)),2),""))} | J6: =IF($B6="","",IF(AND(G6<>"",I6<>""),G6-I6,"")) | K6: =IF($B6="","",IF($E6="不適用","不適用",IF($F6="","未檢驗",IF(AND($AF6+$AG6>=2,$AG6>=1),IF(OR($F6<VALUE(SUBSTITUTE(SUBSTITUTE($E6,"<",""),"%","")),SUMIFS(LabData2016[HbA1c唯一],LabData2016[比對身分證前六碼],$AX6,LabData2016[最近一次HbA1c檢查結果(%)],"<"&VALUE(SUBSTITUTE(SUBSTITUTE($E6,"<",""),"%","")),LabData2016[最近一次HbA1c檢查日期],">="&DATE(YEAR(TODAY()),1,1),LabData2016[最近一次HbA1c檢查日期],"<"&DATE(YEAR(TODAY())+1,1,1))/($AF6+$AG6)>=0.5),"控制達標",IF(ISNUMBER($H6),IF(AND($J6>=84,$F6-$H6<0),"進步達標","未達標"),"未達標")),"未達標")))) | L6: =IF($B6="","",IF($K6="不適用","不適用",IF($K6="未檢驗","無檢驗資料","全年"&($AF6+$AG6)&"次／下半年"&$AG6&"次／"&SUMIFS(LabData2016[HbA1c唯一],LabData2016[比對身分證前六碼],$AX6,LabData2016[最近一次HbA1c檢查結果(%)],"<"&VALUE(SUBSTITUTE(SUBSTITUTE($E6,"<",""),"%","")),LabData2016[最近一次HbA1c檢查日期],">="&DATE(YEAR(TODAY()),1,1),LabData2016[最近一次HbA1c檢查日期],"<"&DATE(YEAR(TODAY())+1,1,1))&"/"&($AF6+$AG6)&"達標"))) | M6: {=IF($B6="","",IFERROR(INDEX(PatientCriteria[LDL達標標準],ROWS($A$4:A6)),""))} | N6: =IF($B6="","",IF($O6="","",IFERROR(SUMIFS(LabData2016[最近一次LDL檢查結果(mg/dL)],LabData2016[比對身分證前六碼],$AX6,LabData2016[最近一次LDL檢查日期],$O6,LabData2016[LDL唯一],1),""))) | O6: {=IF($B6="","",IFERROR(_xlfn.AGGREGATE(14,6,LabData2016[最近一次LDL檢查日期]/((LabData2016[比對身分證前六碼]=$AX6)*(LabData2016[LDL唯一]=1)),1),""))} | P6: =IF($B6="","",IF($Q6="","",IFERROR(SUMIFS(LabData2016[最近一次LDL檢查結果(mg/dL)],LabData2016[比對身分證前六碼],$AX6,LabData2016[最近一次LDL檢查日期],$Q6,LabData2016[LDL唯一],1),""))) | Q6: {=IF($B6="","",IFERROR(_xlfn.AGGREGATE(14,6,LabData2016[最近一次LDL檢查日期]/((LabData2016[比對身分證前六碼]=$AX6)*(LabData2016[LDL唯一]=1)),2),""))} | R6: =IF($B6="","",IF(AND(O6<>"",Q6<>""),O6-Q6,"")) | S6: {=IF($B6="","",IFERROR(_xlfn.AGGREGATE(15,6,LabData2016[最近一次LDL檢查結果(mg/dL)]/((LabData2016[比對身分證前六碼]=$AX6)*(LabData2016[LDL唯一]=1)),1),""))} | T6: =IF($B6="","",IF($M6="不適用","不適用",IF($N6="","未檢驗",IF(OR(AND($D6="DM only",$O6>=DATE(YEAR(TODAY()),1,1),$O6<DATE(YEAR(TODAY())+1,1,1),$N6<VALUE(SUBSTITUTE($M6,"<",""))),AND($AH6>=1,$AI6>=1,OR($N6<VALUE(SUBSTITUTE($M6,"<","")),SUMIFS(LabData2016[LDL唯一],LabData2016[比對身分證前六碼],$AX6,LabData2016[最近一次LDL檢查結果(mg/dL)],"<"&VALUE(SUBSTITUTE($M6,"<","")),LabData2016[最近一次LDL檢查日期],">="&DATE(YEAR(TODAY()),1,1),LabData2016[最近一次LDL檢查日期],"<"&DATE(YEAR(TODAY())+1,1,1))/($AH6+$AI6)>=0.5))),"控制達標",IF(AND($AH6>=1,$AI6>=1,ISNUMBER($P6),$R6>84,$N6-$P6<0),"進步達標","未達標"))))) | U6: =IF($B6="","",IF($T6="不適用","不適用",IF($T6="未檢驗","無檢驗資料","全年"&($AH6+$AI6)&"次／下半年"&$AI6&"次／"&SUMIFS(LabData2016[LDL唯一],LabData2016[比對身分證前六碼],$AX6,LabData2016[最近一次LDL檢查結果(mg/dL)],"<"&VALUE(SUBSTITUTE($M6,"<","")),LabData2016[最近一次LDL檢查日期],">="&DATE(YEAR(TODAY()),1,1),LabData2016[最近一次LDL檢查日期],"<"&DATE(YEAR(TODAY())+1,1,1))&"/"&($AH6+$AI6)&"達標"))) | V6: {=IF($B6="","",IFERROR(INDEX(PatientCriteria[UACR達標標準],ROWS($A$4:A6)),""))} | W6: =IF($B6="","",IF($X6="","",IFERROR(SUMIFS(LabData2016[最近一次UACR檢查結果(mg/gm)],LabData2016[比對身分證前六碼],$AX6,LabData2016[最近一次UACR檢查日期],$X6,LabData2016[UACR唯一],1),""))) | X6: {=IF($B6="","",IFERROR(_xlfn.AGGREGATE(14,6,LabData2016[最近一次UACR檢查日期]/((LabData2016[比對身分證前六碼]=$AX6)*(LabData2016[UACR唯一]=1)),1),""))} | Y6: =IF($B6="","",IF($Z6="","",IFERROR(SUMIFS(LabData2016[最近一次UACR檢查結果(mg/gm)],LabData2016[比對身分證前六碼],$AX6,LabData2016[最近一次UACR檢查日期],$Z6,LabData2016[UACR唯一],1),""))) | Z6: {=IF($B6="","",IFERROR(_xlfn.AGGREGATE(14,6,LabData2016[最近一次UACR檢查日期]/((LabData2016[比對身分證前六碼]=$AX6)*(LabData2016[UACR唯一]=1)),2),""))} | AA6: =IF($B6="","",IF(AND(X6<>"",Z6<>""),X6-Z6,"")) | AB6: =IF($B6="","",IF($V6="不適用","不適用",IF($W6="","未檢驗",IF(AND($AJ6+$AK6>=2,$AK6>=1),IF(OR($W6<30,SUMIFS(LabData2016[UACR唯一],LabData2016[比對身分證前六碼],$AX6,LabData2016[最近一次UACR檢查結果(mg/gm)],"<30",LabData2016[最近一次UACR檢查日期],">="&DATE(YEAR(TODAY()),1,1),LabData2016[最近一次UACR檢查日期],"<"&DATE(YEAR(TODAY())+1,1,1))/($AJ6+$AK6)>=0.5),"控制達標",IF(ISNUMBER($Y6),IF(AND($AA6>=84,$W6-$Y6<0),"進步達標","未達標"),"未達標")),"未達標")))) | AC6: =IF($B6="","",IF($AB6="不適用","不適用",IF($AB6="未檢驗","無檢驗資料","全年"&($AJ6+$AK6)&"次／下半年"&$AK6&"次／"&SUMIFS(LabData2016[UACR唯一],LabData2016[比對身分證前六碼],$AX6,LabData2016[最近一次UACR檢查結果(mg/gm)],"<30",LabData2016[最近一次UACR檢查日期],">="&DATE(YEAR(TODAY()),1,1),LabData2016[最近一次UACR檢查日期],"<"&DATE(YEAR(TODAY())+1,1,1))&"/"&($AJ6+$AK6)&"達標"))) | AD6: {=IF($B6="","",IFERROR(INDEX(PatientCriteria[BP檢驗次數達標標準],ROWS($A$4:A6)),""))} | AE6: {=IF($B6="","",_xlfn.LET(_xlpm.bp,LabData2016[最近一次BP檢查日期],_xlpm.ym,IF(ISNUMBER(_xlpm.bp),TEXT(_xlpm.bp,"yyyy-mm"),LEFT(_xlpm.bp,7)),_xlpm.matched,_xlfn._xlws.FILTER(_xlpm.ym,(LabData2016[比對身分證前六碼]=$AX6)*(LabData2016[比對生日西元]=$AY6)*(_xlpm.ym<>"")*(LEFT(_xlpm.ym,4)=TEXT(YEAR(TODAY()),"0")),""),IF(INDEX(_xlpm.matched,1)="",0,ROWS(_xlfn.UNIQUE(_xlpm.matched)))))} | AF6: =IF($B6="","",SUMIFS(LabData2016[HbA1c唯一],LabData2016[比對身分證前六碼],$AX6,LabData2016[最近一次HbA1c檢查日期],">="&DATE(YEAR(TODAY()),1,1),LabData2016[最近一次HbA1c檢查日期],"<"&DATE(YEAR(TODAY()),7,1))) | AG6: =IF($B6="","",SUMIFS(LabData2016[HbA1c唯一],LabData2016[比對身分證前六碼],$AX6,LabData2016[最近一次HbA1c檢查日期],">="&DATE(YEAR(TODAY()),7,1),LabData2016[最近一次HbA1c檢查日期],"<"&DATE(YEAR(TODAY())+1,1,1))) | AH6: =IF($B6="","",SUMIFS(LabData2016[LDL唯一],LabData2016[比對身分證前六碼],$AX6,LabData2016[最近一次LDL檢查日期],">="&DATE(YEAR(TODAY()),1,1),LabData2016[最近一次LDL檢查日期],"<"&DATE(YEAR(TODAY()),7,1))) | AI6: =IF($B6="","",SUMIFS(LabData2016[LDL唯一],LabData2016[比對身分證前六碼],$AX6,LabData2016[最近一次LDL檢查日期],">="&DATE(YEAR(TODAY()),7,1),LabData2016[最近一次LDL檢查日期],"<"&DATE(YEAR(TODAY())+1,1,1))) | AJ6: =IF($B6="","",SUMIFS(LabData2016[UACR唯一],LabData2016[比對身分證前六碼],$AX6,LabData2016[最近一次UACR檢查日期],">="&DATE(YEAR(TODAY()),1,1),LabData2016[最近一次UACR檢查日期],"<"&DATE(YEAR(TODAY()),7,1))) | AK6: =IF($B6="","",SUMIFS(LabData2016[UACR唯一],LabData2016[比對身分證前六碼],$AX6,LabData2016[最近一次UACR檢查日期],">="&DATE(YEAR(TODAY()),7,1),LabData2016[最近一次UACR檢查日期],"<"&DATE(YEAR(TODAY())+1,1,1))) | AL6: =IF($B6="","",IF(NOT(OR($D6="DM only",$D6="DM+CKD",$D6="DM+ASCVD",$D6="CKD+ASCVD",$D6="DM+CKD+ASCVD")),"不適用",IF(AND(IF(OR($D6="DM only",$D6="DM+CKD",$D6="DM+ASCVD",$D6="DM+CKD+ASCVD"),AND($AF6>=1,$AG6>=1),TRUE),AND($AH6>=1,$AI6>=1),IF(OR($D6="DM+CKD",$D6="CKD+ASCVD",$D6="DM+CKD+ASCVD"),AND($AJ6>=1,$AK6>=1),TRUE),OR($AD6="不適用",$AE6>=3)),"達標","未達標"))) | AM6: =IF($B6="","",250) | AN6: =IF($B6="","",30) | AO6: =IF($B6="","",IF(AND($AL6="達標",OR(ISNUMBER(SEARCH("DM",$D6)),ISNUMBER(SEARCH("+",$D6)))),100,0)) | AP6: {=IF($B6="","",IFERROR(INDEX(相容設定!$B$2:$E$9,MATCH($D6,相容設定!$A$2:$A$9,0),MIN(VALUE(LEFT($AQ6,FIND("/",$AQ6)-1)),3)+1),0))} | AQ6: =IF($B6="","",(IF(OR($K6="控制達標",$K6="進步達標"),1,0)+IF(OR($T6="控制達標",$T6="進步達標"),1,0)+IF(OR($AB6="控制達標",$AB6="進步達標"),1,0))&"/"&(IF($K6<>"不適用",1,0)+IF($T6<>"不適用",1,0)+IF($AB6<>"不適用",1,0))) | AR6: =IF($B6="","",AM6+AN6+AO6+AP6) | AS6: =IF($B6="","",250+30+IF(OR(ISNUMBER(SEARCH("DM",$D6)),ISNUMBER(SEARCH("+",$D6))),100,0)+IFERROR(INDEX(相容設定!$F$2:$F$9,MATCH($D6,相容設定!$A$2:$A$9,0)),0)) | AT6: =IF($B6="","",_xlfn.LET(_xlpm.a,--AND($K6<>"",$K6<>"不適用")+--AND($T6<>"",$T6<>"不適用")+--AND($AB6<>"",$AB6<>"不適用"),_xlpm.h,--OR($K6="控制達標",$K6="進步達標",$K6="達標")+--OR($T6="控制達標",$T6="進步達標",$T6="達標")+--OR($AB6="控制達標",$AB6="進步達標",$AB6="達標"),IF(_xlpm.a=0,"",IF(_xlpm.h=_xlpm.a,"🟢",IF(_xlpm.h=0,"🔴","🟡"))))) | AU6: =IF($B6="","",IF($AQ6="0/0","無適用評估項目：依個案狀況常規追蹤",IF($AV6&$AW6="","維持現況並定期追蹤",LEFT($AV6&$AW6,LEN($AV6&$AW6)-1)))) | AV6: =IF($B6="","",IF($K6="未檢驗","HbA1c未檢驗：建議安排檢查；",IF($K6="未達標","HbA1c未達標：建議安排複檢；",""))&IF($T6="未檢驗","LDL未檢驗：建議安排檢查；",IF($T6="未達標","LDL未達標：建議安排複檢；",""))&IF($AB6="未檢驗","UACR未檢驗：建議安排尿液檢查；",IF($AB6="未達標","UACR未達標：建議安排尿液複檢；",""))) | AW6: =IF($B6="","",IF($AL6<>"未達標","",IF(AND($E6<>"不適用",$AF6<1),"HbA1c上半年缺檢：安排檢驗；","")&IF(AND($E6<>"不適用",$AG6<1),"HbA1c下半年缺檢：安排檢驗；","")&IF(AND($M6<>"不適用",$AH6<1),"LDL上半年缺檢：安排檢驗；","")&IF(AND($M6<>"不適用",$AI6<1),"LDL下半年缺檢：安排檢驗；","")&IF(AND($V6<>"不適用",$AJ6<1),"UACR上半年缺檢：安排尿液檢查；","")&IF(AND($V6<>"不適用",$AK6<1),"UACR下半年缺檢：安排尿液檢查；","")&_xlfn.LET(_xlpm.bpNeed,IFERROR(VALUE(SUBSTITUTE($AD6,"次","")),0),IF(AND(_xlpm.bpNeed>0,$AE6<_xlpm.bpNeed),"BP次數不足：尚缺"&(_xlpm.bpNeed-$AE6)&"次；","")))) | AX6: =IF($B6="","",LEFT($B6,6)) | AY6: =IF($C6="","",IF(ISNUMBER($C6),TEXT($C6,"yyyy-mm-dd"),TEXT(DATE(VALUE(LEFT($C6,3))+1911,VALUE(MID($C6,5,2)),VALUE(RIGHT($C6,2))),"yyyy-mm-dd")))
A7: {=IFERROR(IF(INDEX(PatientCriteria[身分證號],ROWS($A$4:A7))="","",ROWS($A$4:A7)),"")} | B7: {=IFERROR(IF(INDEX(PatientCriteria[身分證號],ROWS($A$4:A7))="","",INDEX(PatientCriteria[身分證號],ROWS($A$4:A7))),"")} | C7: {=IF($B7="","",IFERROR(INDEX(PatientCriteria[生日],ROWS($A$4:A7)),""))} | D7: {=IF($B7="","",IFERROR(INDEX(PatientCriteria[疾病組合],ROWS($A$4:A7)),""))} | E7: {=IF($B7="","",IFERROR(INDEX(PatientCriteria[HbA1c達標標準],ROWS($A$4:A7)),""))} | F7: =IF($B7="","",IF($G7="","",IFERROR(SUMIFS(LabData2016[最近一次HbA1c檢查結果(%)],LabData2016[比對身分證前六碼],$AX7,LabData2016[最近一次HbA1c檢查日期],$G7,LabData2016[HbA1c唯一],1),""))) | G7: {=IF($B7="","",IFERROR(_xlfn.AGGREGATE(14,6,LabData2016[最近一次HbA1c檢查日期]/((LabData2016[比對身分證前六碼]=$AX7)*(LabData2016[HbA1c唯一]=1)),1),""))} | H7: =IF($B7="","",IF($I7="","",IFERROR(SUMIFS(LabData2016[最近一次HbA1c檢查結果(%)],LabData2016[比對身分證前六碼],$AX7,LabData2016[最近一次HbA1c檢查日期],$I7,LabData2016[HbA1c唯一],1),""))) | I7: {=IF($B7="","",IFERROR(_xlfn.AGGREGATE(14,6,LabData2016[最近一次HbA1c檢查日期]/((LabData2016[比對身分證前六碼]=$AX7)*(LabData2016[HbA1c唯一]=1)),2),""))} | J7: =IF($B7="","",IF(AND(G7<>"",I7<>""),G7-I7,"")) | K7: =IF($B7="","",IF($E7="不適用","不適用",IF($F7="","未檢驗",IF(AND($AF7+$AG7>=2,$AG7>=1),IF(OR($F7<VALUE(SUBSTITUTE(SUBSTITUTE($E7,"<",""),"%","")),SUMIFS(LabData2016[HbA1c唯一],LabData2016[比對身分證前六碼],$AX7,LabData2016[最近一次HbA1c檢查結果(%)],"<"&VALUE(SUBSTITUTE(SUBSTITUTE($E7,"<",""),"%","")),LabData2016[最近一次HbA1c檢查日期],">="&DATE(YEAR(TODAY()),1,1),LabData2016[最近一次HbA1c檢查日期],"<"&DATE(YEAR(TODAY())+1,1,1))/($AF7+$AG7)>=0.5),"控制達標",IF(ISNUMBER($H7),IF(AND($J7>=84,$F7-$H7<0),"進步達標","未達標"),"未達標")),"未達標")))) | L7: =IF($B7="","",IF($K7="不適用","不適用",IF($K7="未檢驗","無檢驗資料","全年"&($AF7+$AG7)&"次／下半年"&$AG7&"次／"&SUMIFS(LabData2016[HbA1c唯一],LabData2016[比對身分證前六碼],$AX7,LabData2016[最近一次HbA1c檢查結果(%)],"<"&VALUE(SUBSTITUTE(SUBSTITUTE($E7,"<",""),"%","")),LabData2016[最近一次HbA1c檢查日期],">="&DATE(YEAR(TODAY()),1,1),LabData2016[最近一次HbA1c檢查日期],"<"&DATE(YEAR(TODAY())+1,1,1))&"/"&($AF7+$AG7)&"達標"))) | M7: {=IF($B7="","",IFERROR(INDEX(PatientCriteria[LDL達標標準],ROWS($A$4:A7)),""))} | N7: =IF($B7="","",IF($O7="","",IFERROR(SUMIFS(LabData2016[最近一次LDL檢查結果(mg/dL)],LabData2016[比對身分證前六碼],$AX7,LabData2016[最近一次LDL檢查日期],$O7,LabData2016[LDL唯一],1),""))) | O7: {=IF($B7="","",IFERROR(_xlfn.AGGREGATE(14,6,LabData2016[最近一次LDL檢查日期]/((LabData2016[比對身分證前六碼]=$AX7)*(LabData2016[LDL唯一]=1)),1),""))} | P7: =IF($B7="","",IF($Q7="","",IFERROR(SUMIFS(LabData2016[最近一次LDL檢查結果(mg/dL)],LabData2016[比對身分證前六碼],$AX7,LabData2016[最近一次LDL檢查日期],$Q7,LabData2016[LDL唯一],1),""))) | Q7: {=IF($B7="","",IFERROR(_xlfn.AGGREGATE(14,6,LabData2016[最近一次LDL檢查日期]/((LabData2016[比對身分證前六碼]=$AX7)*(LabData2016[LDL唯一]=1)),2),""))} | R7: =IF($B7="","",IF(AND(O7<>"",Q7<>""),O7-Q7,"")) | S7: {=IF($B7="","",IFERROR(_xlfn.AGGREGATE(15,6,LabData2016[最近一次LDL檢查結果(mg/dL)]/((LabData2016[比對身分證前六碼]=$AX7)*(LabData2016[LDL唯一]=1)),1),""))} | T7: =IF($B7="","",IF($M7="不適用","不適用",IF($N7="","未檢驗",IF(OR(AND($D7="DM only",$O7>=DATE(YEAR(TODAY()),1,1),$O7<DATE(YEAR(TODAY())+1,1,1),$N7<VALUE(SUBSTITUTE($M7,"<",""))),AND($AH7>=1,$AI7>=1,OR($N7<VALUE(SUBSTITUTE($M7,"<","")),SUMIFS(LabData2016[LDL唯一],LabData2016[比對身分證前六碼],$AX7,LabData2016[最近一次LDL檢查結果(mg/dL)],"<"&VALUE(SUBSTITUTE($M7,"<","")),LabData2016[最近一次LDL檢查日期],">="&DATE(YEAR(TODAY()),1,1),LabData2016[最近一次LDL檢查日期],"<"&DATE(YEAR(TODAY())+1,1,1))/($AH7+$AI7)>=0.5))),"控制達標",IF(AND($AH7>=1,$AI7>=1,ISNUMBER($P7),$R7>84,$N7-$P7<0),"進步達標","未達標"))))) | U7: =IF($B7="","",IF($T7="不適用","不適用",IF($T7="未檢驗","無檢驗資料","全年"&($AH7+$AI7)&"次／下半年"&$AI7&"次／"&SUMIFS(LabData2016[LDL唯一],LabData2016[比對身分證前六碼],$AX7,LabData2016[最近一次LDL檢查結果(mg/dL)],"<"&VALUE(SUBSTITUTE($M7,"<","")),LabData2016[最近一次LDL檢查日期],">="&DATE(YEAR(TODAY()),1,1),LabData2016[最近一次LDL檢查日期],"<"&DATE(YEAR(TODAY())+1,1,1))&"/"&($AH7+$AI7)&"達標"))) | V7: {=IF($B7="","",IFERROR(INDEX(PatientCriteria[UACR達標標準],ROWS($A$4:A7)),""))} | W7: =IF($B7="","",IF($X7="","",IFERROR(SUMIFS(LabData2016[最近一次UACR檢查結果(mg/gm)],LabData2016[比對身分證前六碼],$AX7,LabData2016[最近一次UACR檢查日期],$X7,LabData2016[UACR唯一],1),""))) | X7: {=IF($B7="","",IFERROR(_xlfn.AGGREGATE(14,6,LabData2016[最近一次UACR檢查日期]/((LabData2016[比對身分證前六碼]=$AX7)*(LabData2016[UACR唯一]=1)),1),""))} | Y7: =IF($B7="","",IF($Z7="","",IFERROR(SUMIFS(LabData2016[最近一次UACR檢查結果(mg/gm)],LabData2016[比對身分證前六碼],$AX7,LabData2016[最近一次UACR檢查日期],$Z7,LabData2016[UACR唯一],1),""))) | Z7: {=IF($B7="","",IFERROR(_xlfn.AGGREGATE(14,6,LabData2016[最近一次UACR檢查日期]/((LabData2016[比對身分證前六碼]=$AX7)*(LabData2016[UACR唯一]=1)),2),""))} | AA7: =IF($B7="","",IF(AND(X7<>"",Z7<>""),X7-Z7,"")) | AB7: =IF($B7="","",IF($V7="不適用","不適用",IF($W7="","未檢驗",IF(AND($AJ7+$AK7>=2,$AK7>=1),IF(OR($W7<30,SUMIFS(LabData2016[UACR唯一],LabData2016[比對身分證前六碼],$AX7,LabData2016[最近一次UACR檢查結果(mg/gm)],"<30",LabData2016[最近一次UACR檢查日期],">="&DATE(YEAR(TODAY()),1,1),LabData2016[最近一次UACR檢查日期],"<"&DATE(YEAR(TODAY())+1,1,1))/($AJ7+$AK7)>=0.5),"控制達標",IF(ISNUMBER($Y7),IF(AND($AA7>=84,$W7-$Y7<0),"進步達標","未達標"),"未達標")),"未達標")))) | AC7: =IF($B7="","",IF($AB7="不適用","不適用",IF($AB7="未檢驗","無檢驗資料","全年"&($AJ7+$AK7)&"次／下半年"&$AK7&"次／"&SUMIFS(LabData2016[UACR唯一],LabData2016[比對身分證前六碼],$AX7,LabData2016[最近一次UACR檢查結果(mg/gm)],"<30",LabData2016[最近一次UACR檢查日期],">="&DATE(YEAR(TODAY()),1,1),LabData2016[最近一次UACR檢查日期],"<"&DATE(YEAR(TODAY())+1,1,1))&"/"&($AJ7+$AK7)&"達標"))) | AD7: {=IF($B7="","",IFERROR(INDEX(PatientCriteria[BP檢驗次數達標標準],ROWS($A$4:A7)),""))} | AE7: {=IF($B7="","",_xlfn.LET(_xlpm.bp,LabData2016[最近一次BP檢查日期],_xlpm.ym,IF(ISNUMBER(_xlpm.bp),TEXT(_xlpm.bp,"yyyy-mm"),LEFT(_xlpm.bp,7)),_xlpm.matched,_xlfn._xlws.FILTER(_xlpm.ym,(LabData2016[比對身分證前六碼]=$AX7)*(LabData2016[比對生日西元]=$AY7)*(_xlpm.ym<>"")*(LEFT(_xlpm.ym,4)=TEXT(YEAR(TODAY()),"0")),""),IF(INDEX(_xlpm.matched,1)="",0,ROWS(_xlfn.UNIQUE(_xlpm.matched)))))} | AF7: =IF($B7="","",SUMIFS(LabData2016[HbA1c唯一],LabData2016[比對身分證前六碼],$AX7,LabData2016[最近一次HbA1c檢查日期],">="&DATE(YEAR(TODAY()),1,1),LabData2016[最近一次HbA1c檢查日期],"<"&DATE(YEAR(TODAY()),7,1))) | AG7: =IF($B7="","",SUMIFS(LabData2016[HbA1c唯一],LabData2016[比對身分證前六碼],$AX7,LabData2016[最近一次HbA1c檢查日期],">="&DATE(YEAR(TODAY()),7,1),LabData2016[最近一次HbA1c檢查日期],"<"&DATE(YEAR(TODAY())+1,1,1))) | AH7: =IF($B7="","",SUMIFS(LabData2016[LDL唯一],LabData2016[比對身分證前六碼],$AX7,LabData2016[最近一次LDL檢查日期],">="&DATE(YEAR(TODAY()),1,1),LabData2016[最近一次LDL檢查日期],"<"&DATE(YEAR(TODAY()),7,1))) | AI7: =IF($B7="","",SUMIFS(LabData2016[LDL唯一],LabData2016[比對身分證前六碼],$AX7,LabData2016[最近一次LDL檢查日期],">="&DATE(YEAR(TODAY()),7,1),LabData2016[最近一次LDL檢查日期],"<"&DATE(YEAR(TODAY())+1,1,1))) | AJ7: =IF($B7="","",SUMIFS(LabData2016[UACR唯一],LabData2016[比對身分證前六碼],$AX7,LabData2016[最近一次UACR檢查日期],">="&DATE(YEAR(TODAY()),1,1),LabData2016[最近一次UACR檢查日期],"<"&DATE(YEAR(TODAY()),7,1))) | AK7: =IF($B7="","",SUMIFS(LabData2016[UACR唯一],LabData2016[比對身分證前六碼],$AX7,LabData2016[最近一次UACR檢查日期],">="&DATE(YEAR(TODAY()),7,1),LabData2016[最近一次UACR檢查日期],"<"&DATE(YEAR(TODAY())+1,1,1))) | AL7: =IF($B7="","",IF(NOT(OR($D7="DM only",$D7="DM+CKD",$D7="DM+ASCVD",$D7="CKD+ASCVD",$D7="DM+CKD+ASCVD")),"不適用",IF(AND(IF(OR($D7="DM only",$D7="DM+CKD",$D7="DM+ASCVD",$D7="DM+CKD+ASCVD"),AND($AF7>=1,$AG7>=1),TRUE),AND($AH7>=1,$AI7>=1),IF(OR($D7="DM+CKD",$D7="CKD+ASCVD",$D7="DM+CKD+ASCVD"),AND($AJ7>=1,$AK7>=1),TRUE),OR($AD7="不適用",$AE7>=3)),"達標","未達標"))) | AM7: =IF($B7="","",250) | AN7: =IF($B7="","",30) | AO7: =IF($B7="","",IF(AND($AL7="達標",OR(ISNUMBER(SEARCH("DM",$D7)),ISNUMBER(SEARCH("+",$D7)))),100,0)) | AP7: {=IF($B7="","",IFERROR(INDEX(相容設定!$B$2:$E$9,MATCH($D7,相容設定!$A$2:$A$9,0),MIN(VALUE(LEFT($AQ7,FIND("/",$AQ7)-1)),3)+1),0))} | AQ7: =IF($B7="","",(IF(OR($K7="控制達標",$K7="進步達標"),1,0)+IF(OR($T7="控制達標",$T7="進步達標"),1,0)+IF(OR($AB7="控制達標",$AB7="進步達標"),1,0))&"/"&(IF($K7<>"不適用",1,0)+IF($T7<>"不適用",1,0)+IF($AB7<>"不適用",1,0))) | AR7: =IF($B7="","",AM7+AN7+AO7+AP7) | AS7: =IF($B7="","",250+30+IF(OR(ISNUMBER(SEARCH("DM",$D7)),ISNUMBER(SEARCH("+",$D7))),100,0)+IFERROR(INDEX(相容設定!$F$2:$F$9,MATCH($D7,相容設定!$A$2:$A$9,0)),0)) | AT7: =IF($B7="","",_xlfn.LET(_xlpm.a,--AND($K7<>"",$K7<>"不適用")+--AND($T7<>"",$T7<>"不適用")+--AND($AB7<>"",$AB7<>"不適用"),_xlpm.h,--OR($K7="控制達標",$K7="進步達標",$K7="達標")+--OR($T7="控制達標",$T7="進步達標",$T7="達標")+--OR($AB7="控制達標",$AB7="進步達標",$AB7="達標"),IF(_xlpm.a=0,"",IF(_xlpm.h=_xlpm.a,"🟢",IF(_xlpm.h=0,"🔴","🟡"))))) | AU7: =IF($B7="","",IF($AQ7="0/0","無適用評估項目：依個案狀況常規追蹤",IF($AV7&$AW7="","維持現況並定期追蹤",LEFT($AV7&$AW7,LEN($AV7&$AW7)-1)))) | AV7: =IF($B7="","",IF($K7="未檢驗","HbA1c未檢驗：建議安排檢查；",IF($K7="未達標","HbA1c未達標：建議安排複檢；",""))&IF($T7="未檢驗","LDL未檢驗：建議安排檢查；",IF($T7="未達標","LDL未達標：建議安排複檢；",""))&IF($AB7="未檢驗","UACR未檢驗：建議安排尿液檢查；",IF($AB7="未達標","UACR未達標：建議安排尿液複檢；",""))) | AW7: =IF($B7="","",IF($AL7<>"未達標","",IF(AND($E7<>"不適用",$AF7<1),"HbA1c上半年缺檢：安排檢驗；","")&IF(AND($E7<>"不適用",$AG7<1),"HbA1c下半年缺檢：安排檢驗；","")&IF(AND($M7<>"不適用",$AH7<1),"LDL上半年缺檢：安排檢驗；","")&IF(AND($M7<>"不適用",$AI7<1),"LDL下半年缺檢：安排檢驗；","")&IF(AND($V7<>"不適用",$AJ7<1),"UACR上半年缺檢：安排尿液檢查；","")&IF(AND($V7<>"不適用",$AK7<1),"UACR下半年缺檢：安排尿液檢查；","")&_xlfn.LET(_xlpm.bpNeed,IFERROR(VALUE(SUBSTITUTE($AD7,"次","")),0),IF(AND(_xlpm.bpNeed>0,$AE7<_xlpm.bpNeed),"BP次數不足：尚缺"&(_xlpm.bpNeed-$AE7)&"次；","")))) | AX7: =IF($B7="","",LEFT($B7,6)) | AY7: =IF($C7="","",IF(ISNUMBER($C7),TEXT($C7,"yyyy-mm-dd"),TEXT(DATE(VALUE(LEFT($C7,3))+1911,VALUE(MID($C7,5,2)),VALUE(RIGHT($C7,2))),"yyyy-mm-dd")))
A8: {=IFERROR(IF(INDEX(PatientCriteria[身分證號],ROWS($A$4:A8))="","",ROWS($A$4:A8)),"")} | B8: {=IFERROR(IF(INDEX(PatientCriteria[身分證號],ROWS($A$4:A8))="","",INDEX(PatientCriteria[身分證號],ROWS($A$4:A8))),"")} | C8: {=IF($B8="","",IFERROR(INDEX(PatientCriteria[生日],ROWS($A$4:A8)),""))} | D8: {=IF($B8="","",IFERROR(INDEX(PatientCriteria[疾病組合],ROWS($A$4:A8)),""))} | E8: {=IF($B8="","",IFERROR(INDEX(PatientCriteria[HbA1c達標標準],ROWS($A$4:A8)),""))} | F8: =IF($B8="","",IF($G8="","",IFERROR(SUMIFS(LabData2016[最近一次HbA1c檢查結果(%)],LabData2016[比對身分證前六碼],$AX8,LabData2016[最近一次HbA1c檢查日期],$G8,LabData2016[HbA1c唯一],1),""))) | G8: {=IF($B8="","",IFERROR(_xlfn.AGGREGATE(14,6,LabData2016[最近一次HbA1c檢查日期]/((LabData2016[比對身分證前六碼]=$AX8)*(LabData2016[HbA1c唯一]=1)),1),""))} | H8: =IF($B8="","",IF($I8="","",IFERROR(SUMIFS(LabData2016[最近一次HbA1c檢查結果(%)],LabData2016[比對身分證前六碼],$AX8,LabData2016[最近一次HbA1c檢查日期],$I8,LabData2016[HbA1c唯一],1),""))) | I8: {=IF($B8="","",IFERROR(_xlfn.AGGREGATE(14,6,LabData2016[最近一次HbA1c檢查日期]/((LabData2016[比對身分證前六碼]=$AX8)*(LabData2016[HbA1c唯一]=1)),2),""))} | J8: =IF($B8="","",IF(AND(G8<>"",I8<>""),G8-I8,"")) | K8: =IF($B8="","",IF($E8="不適用","不適用",IF($F8="","未檢驗",IF(AND($AF8+$AG8>=2,$AG8>=1),IF(OR($F8<VALUE(SUBSTITUTE(SUBSTITUTE($E8,"<",""),"%","")),SUMIFS(LabData2016[HbA1c唯一],LabData2016[比對身分證前六碼],$AX8,LabData2016[最近一次HbA1c檢查結果(%)],"<"&VALUE(SUBSTITUTE(SUBSTITUTE($E8,"<",""),"%","")),LabData2016[最近一次HbA1c檢查日期],">="&DATE(YEAR(TODAY()),1,1),LabData2016[最近一次HbA1c檢查日期],"<"&DATE(YEAR(TODAY())+1,1,1))/($AF8+$AG8)>=0.5),"控制達標",IF(ISNUMBER($H8),IF(AND($J8>=84,$F8-$H8<0),"進步達標","未達標"),"未達標")),"未達標")))) | L8: =IF($B8="","",IF($K8="不適用","不適用",IF($K8="未檢驗","無檢驗資料","全年"&($AF8+$AG8)&"次／下半年"&$AG8&"次／"&SUMIFS(LabData2016[HbA1c唯一],LabData2016[比對身分證前六碼],$AX8,LabData2016[最近一次HbA1c檢查結果(%)],"<"&VALUE(SUBSTITUTE(SUBSTITUTE($E8,"<",""),"%","")),LabData2016[最近一次HbA1c檢查日期],">="&DATE(YEAR(TODAY()),1,1),LabData2016[最近一次HbA1c檢查日期],"<"&DATE(YEAR(TODAY())+1,1,1))&"/"&($AF8+$AG8)&"達標"))) | M8: {=IF($B8="","",IFERROR(INDEX(PatientCriteria[LDL達標標準],ROWS($A$4:A8)),""))} | N8: =IF($B8="","",IF($O8="","",IFERROR(SUMIFS(LabData2016[最近一次LDL檢查結果(mg/dL)],LabData2016[比對身分證前六碼],$AX8,LabData2016[最近一次LDL檢查日期],$O8,LabData2016[LDL唯一],1),""))) | O8: {=IF($B8="","",IFERROR(_xlfn.AGGREGATE(14,6,LabData2016[最近一次LDL檢查日期]/((LabData2016[比對身分證前六碼]=$AX8)*(LabData2016[LDL唯一]=1)),1),""))} | P8: =IF($B8="","",IF($Q8="","",IFERROR(SUMIFS(LabData2016[最近一次LDL檢查結果(mg/dL)],LabData2016[比對身分證前六碼],$AX8,LabData2016[最近一次LDL檢查日期],$Q8,LabData2016[LDL唯一],1),""))) | Q8: {=IF($B8="","",IFERROR(_xlfn.AGGREGATE(14,6,LabData2016[最近一次LDL檢查日期]/((LabData2016[比對身分證前六碼]=$AX8)*(LabData2016[LDL唯一]=1)),2),""))} | R8: =IF($B8="","",IF(AND(O8<>"",Q8<>""),O8-Q8,"")) | S8: {=IF($B8="","",IFERROR(_xlfn.AGGREGATE(15,6,LabData2016[最近一次LDL檢查結果(mg/dL)]/((LabData2016[比對身分證前六碼]=$AX8)*(LabData2016[LDL唯一]=1)),1),""))} | T8: =IF($B8="","",IF($M8="不適用","不適用",IF($N8="","未檢驗",IF(OR(AND($D8="DM only",$O8>=DATE(YEAR(TODAY()),1,1),$O8<DATE(YEAR(TODAY())+1,1,1),$N8<VALUE(SUBSTITUTE($M8,"<",""))),AND($AH8>=1,$AI8>=1,OR($N8<VALUE(SUBSTITUTE($M8,"<","")),SUMIFS(LabData2016[LDL唯一],LabData2016[比對身分證前六碼],$AX8,LabData2016[最近一次LDL檢查結果(mg/dL)],"<"&VALUE(SUBSTITUTE($M8,"<","")),LabData2016[最近一次LDL檢查日期],">="&DATE(YEAR(TODAY()),1,1),LabData2016[最近一次LDL檢查日期],"<"&DATE(YEAR(TODAY())+1,1,1))/($AH8+$AI8)>=0.5))),"控制達標",IF(AND($AH8>=1,$AI8>=1,ISNUMBER($P8),$R8>84,$N8-$P8<0),"進步達標","未達標"))))) | U8: =IF($B8="","",IF($T8="不適用","不適用",IF($T8="未檢驗","無檢驗資料","全年"&($AH8+$AI8)&"次／下半年"&$AI8&"次／"&SUMIFS(LabData2016[LDL唯一],LabData2016[比對身分證前六碼],$AX8,LabData2016[最近一次LDL檢查結果(mg/dL)],"<"&VALUE(SUBSTITUTE($M8,"<","")),LabData2016[最近一次LDL檢查日期],">="&DATE(YEAR(TODAY()),1,1),LabData2016[最近一次LDL檢查日期],"<"&DATE(YEAR(TODAY())+1,1,1))&"/"&($AH8+$AI8)&"達標"))) | V8: {=IF($B8="","",IFERROR(INDEX(PatientCriteria[UACR達標標準],ROWS($A$4:A8)),""))} | W8: =IF($B8="","",IF($X8="","",IFERROR(SUMIFS(LabData2016[最近一次UACR檢查結果(mg/gm)],LabData2016[比對身分證前六碼],$AX8,LabData2016[最近一次UACR檢查日期],$X8,LabData2016[UACR唯一],1),""))) | X8: {=IF($B8="","",IFERROR(_xlfn.AGGREGATE(14,6,LabData2016[最近一次UACR檢查日期]/((LabData2016[比對身分證前六碼]=$AX8)*(LabData2016[UACR唯一]=1)),1),""))} | Y8: =IF($B8="","",IF($Z8="","",IFERROR(SUMIFS(LabData2016[最近一次UACR檢查結果(mg/gm)],LabData2016[比對身分證前六碼],$AX8,LabData2016[最近一次UACR檢查日期],$Z8,LabData2016[UACR唯一],1),""))) | Z8: {=IF($B8="","",IFERROR(_xlfn.AGGREGATE(14,6,LabData2016[最近一次UACR檢查日期]/((LabData2016[比對身分證前六碼]=$AX8)*(LabData2016[UACR唯一]=1)),2),""))} | AA8: =IF($B8="","",IF(AND(X8<>"",Z8<>""),X8-Z8,"")) | AB8: =IF($B8="","",IF($V8="不適用","不適用",IF($W8="","未檢驗",IF(AND($AJ8+$AK8>=2,$AK8>=1),IF(OR($W8<30,SUMIFS(LabData2016[UACR唯一],LabData2016[比對身分證前六碼],$AX8,LabData2016[最近一次UACR檢查結果(mg/gm)],"<30",LabData2016[最近一次UACR檢查日期],">="&DATE(YEAR(TODAY()),1,1),LabData2016[最近一次UACR檢查日期],"<"&DATE(YEAR(TODAY())+1,1,1))/($AJ8+$AK8)>=0.5),"控制達標",IF(ISNUMBER($Y8),IF(AND($AA8>=84,$W8-$Y8<0),"進步達標","未達標"),"未達標")),"未達標")))) | AC8: =IF($B8="","",IF($AB8="不適用","不適用",IF($AB8="未檢驗","無檢驗資料","全年"&($AJ8+$AK8)&"次／下半年"&$AK8&"次／"&SUMIFS(LabData2016[UACR唯一],LabData2016[比對身分證前六碼],$AX8,LabData2016[最近一次UACR檢查結果(mg/gm)],"<30",LabData2016[最近一次UACR檢查日期],">="&DATE(YEAR(TODAY()),1,1),LabData2016[最近一次UACR檢查日期],"<"&DATE(YEAR(TODAY())+1,1,1))&"/"&($AJ8+$AK8)&"達標"))) | AD8: {=IF($B8="","",IFERROR(INDEX(PatientCriteria[BP檢驗次數達標標準],ROWS($A$4:A8)),""))} | AE8: {=IF($B8="","",_xlfn.LET(_xlpm.bp,LabData2016[最近一次BP檢查日期],_xlpm.ym,IF(ISNUMBER(_xlpm.bp),TEXT(_xlpm.bp,"yyyy-mm"),LEFT(_xlpm.bp,7)),_xlpm.matched,_xlfn._xlws.FILTER(_xlpm.ym,(LabData2016[比對身分證前六碼]=$AX8)*(LabData2016[比對生日西元]=$AY8)*(_xlpm.ym<>"")*(LEFT(_xlpm.ym,4)=TEXT(YEAR(TODAY()),"0")),""),IF(INDEX(_xlpm.matched,1)="",0,ROWS(_xlfn.UNIQUE(_xlpm.matched)))))} | AF8: =IF($B8="","",SUMIFS(LabData2016[HbA1c唯一],LabData2016[比對身分證前六碼],$AX8,LabData2016[最近一次HbA1c檢查日期],">="&DATE(YEAR(TODAY()),1,1),LabData2016[最近一次HbA1c檢查日期],"<"&DATE(YEAR(TODAY()),7,1))) | AG8: =IF($B8="","",SUMIFS(LabData2016[HbA1c唯一],LabData2016[比對身分證前六碼],$AX8,LabData2016[最近一次HbA1c檢查日期],">="&DATE(YEAR(TODAY()),7,1),LabData2016[最近一次HbA1c檢查日期],"<"&DATE(YEAR(TODAY())+1,1,1))) | AH8: =IF($B8="","",SUMIFS(LabData2016[LDL唯一],LabData2016[比對身分證前六碼],$AX8,LabData2016[最近一次LDL檢查日期],">="&DATE(YEAR(TODAY()),1,1),LabData2016[最近一次LDL檢查日期],"<"&DATE(YEAR(TODAY()),7,1))) | AI8: =IF($B8="","",SUMIFS(LabData2016[LDL唯一],LabData2016[比對身分證前六碼],$AX8,LabData2016[最近一次LDL檢查日期],">="&DATE(YEAR(TODAY()),7,1),LabData2016[最近一次LDL檢查日期],"<"&DATE(YEAR(TODAY())+1,1,1))) | AJ8: =IF($B8="","",SUMIFS(LabData2016[UACR唯一],LabData2016[比對身分證前六碼],$AX8,LabData2016[最近一次UACR檢查日期],">="&DATE(YEAR(TODAY()),1,1),LabData2016[最近一次UACR檢查日期],"<"&DATE(YEAR(TODAY()),7,1))) | AK8: =IF($B8="","",SUMIFS(LabData2016[UACR唯一],LabData2016[比對身分證前六碼],$AX8,LabData2016[最近一次UACR檢查日期],">="&DATE(YEAR(TODAY()),7,1),LabData2016[最近一次UACR檢查日期],"<"&DATE(YEAR(TODAY())+1,1,1))) | AL8: =IF($B8="","",IF(NOT(OR($D8="DM only",$D8="DM+CKD",$D8="DM+ASCVD",$D8="CKD+ASCVD",$D8="DM+CKD+ASCVD")),"不適用",IF(AND(IF(OR($D8="DM only",$D8="DM+CKD",$D8="DM+ASCVD",$D8="DM+CKD+ASCVD"),AND($AF8>=1,$AG8>=1),TRUE),AND($AH8>=1,$AI8>=1),IF(OR($D8="DM+CKD",$D8="CKD+ASCVD",$D8="DM+CKD+ASCVD"),AND($AJ8>=1,$AK8>=1),TRUE),OR($AD8="不適用",$AE8>=3)),"達標","未達標"))) | AM8: =IF($B8="","",250) | AN8: =IF($B8="","",30) | AO8: =IF($B8="","",IF(AND($AL8="達標",OR(ISNUMBER(SEARCH("DM",$D8)),ISNUMBER(SEARCH("+",$D8)))),100,0)) | AP8: {=IF($B8="","",IFERROR(INDEX(相容設定!$B$2:$E$9,MATCH($D8,相容設定!$A$2:$A$9,0),MIN(VALUE(LEFT($AQ8,FIND("/",$AQ8)-1)),3)+1),0))} | AQ8: =IF($B8="","",(IF(OR($K8="控制達標",$K8="進步達標"),1,0)+IF(OR($T8="控制達標",$T8="進步達標"),1,0)+IF(OR($AB8="控制達標",$AB8="進步達標"),1,0))&"/"&(IF($K8<>"不適用",1,0)+IF($T8<>"不適用",1,0)+IF($AB8<>"不適用",1,0))) | AR8: =IF($B8="","",AM8+AN8+AO8+AP8) | AS8: =IF($B8="","",250+30+IF(OR(ISNUMBER(SEARCH("DM",$D8)),ISNUMBER(SEARCH("+",$D8))),100,0)+IFERROR(INDEX(相容設定!$F$2:$F$9,MATCH($D8,相容設定!$A$2:$A$9,0)),0)) | AT8: =IF($B8="","",_xlfn.LET(_xlpm.a,--AND($K8<>"",$K8<>"不適用")+--AND($T8<>"",$T8<>"不適用")+--AND($AB8<>"",$AB8<>"不適用"),_xlpm.h,--OR($K8="控制達標",$K8="進步達標",$K8="達標")+--OR($T8="控制達標",$T8="進步達標",$T8="達標")+--OR($AB8="控制達標",$AB8="進步達標",$AB8="達標"),IF(_xlpm.a=0,"",IF(_xlpm.h=_xlpm.a,"🟢",IF(_xlpm.h=0,"🔴","🟡"))))) | AU8: =IF($B8="","",IF($AQ8="0/0","無適用評估項目：依個案狀況常規追蹤",IF($AV8&$AW8="","維持現況並定期追蹤",LEFT($AV8&$AW8,LEN($AV8&$AW8)-1)))) | AV8: =IF($B8="","",IF($K8="未檢驗","HbA1c未檢驗：建議安排檢查；",IF($K8="未達標","HbA1c未達標：建議安排複檢；",""))&IF($T8="未檢驗","LDL未檢驗：建議安排檢查；",IF($T8="未達標","LDL未達標：建議安排複檢；",""))&IF($AB8="未檢驗","UACR未檢驗：建議安排尿液檢查；",IF($AB8="未達標","UACR未達標：建議安排尿液複檢；",""))) | AW8: =IF($B8="","",IF($AL8<>"未達標","",IF(AND($E8<>"不適用",$AF8<1),"HbA1c上半年缺檢：安排檢驗；","")&IF(AND($E8<>"不適用",$AG8<1),"HbA1c下半年缺檢：安排檢驗；","")&IF(AND($M8<>"不適用",$AH8<1),"LDL上半年缺檢：安排檢驗；","")&IF(AND($M8<>"不適用",$AI8<1),"LDL下半年缺檢：安排檢驗；","")&IF(AND($V8<>"不適用",$AJ8<1),"UACR上半年缺檢：安排尿液檢查；","")&IF(AND($V8<>"不適用",$AK8<1),"UACR下半年缺檢：安排尿液檢查；","")&_xlfn.LET(_xlpm.bpNeed,IFERROR(VALUE(SUBSTITUTE($AD8,"次","")),0),IF(AND(_xlpm.bpNeed>0,$AE8<_xlpm.bpNeed),"BP次數不足：尚缺"&(_xlpm.bpNeed-$AE8)&"次；","")))) | AX8: =IF($B8="","",LEFT($B8,6)) | AY8: =IF($C8="","",IF(ISNUMBER($C8),TEXT($C8,"yyyy-mm-dd"),TEXT(DATE(VALUE(LEFT($C8,3))+1911,VALUE(MID($C8,5,2)),VALUE(RIGHT($C8,2))),"yyyy-mm-dd")))
A9: {=IFERROR(IF(INDEX(PatientCriteria[身分證號],ROWS($A$4:A9))="","",ROWS($A$4:A9)),"")} | B9: {=IFERROR(IF(INDEX(PatientCriteria[身分證號],ROWS($A$4:A9))="","",INDEX(PatientCriteria[身分證號],ROWS($A$4:A9))),"")} | C9: {=IF($B9="","",IFERROR(INDEX(PatientCriteria[生日],ROWS($A$4:A9)),""))} | D9: {=IF($B9="","",IFERROR(INDEX(PatientCriteria[疾病組合],ROWS($A$4:A9)),""))} | E9: {=IF($B9="","",IFERROR(INDEX(PatientCriteria[HbA1c達標標準],ROWS($A$4:A9)),""))} | F9: =IF($B9="","",IF($G9="","",IFERROR(SUMIFS(LabData2016[最近一次HbA1c檢查結果(%)],LabData2016[比對身分證前六碼],$AX9,LabData2016[最近一次HbA1c檢查日期],$G9,LabData2016[HbA1c唯一],1),""))) | G9: {=IF($B9="","",IFERROR(_xlfn.AGGREGATE(14,6,LabData2016[最近一次HbA1c檢查日期]/((LabData2016[比對身分證前六碼]=$AX9)*(LabData2016[HbA1c唯一]=1)),1),""))} | H9: =IF($B9="","",IF($I9="","",IFERROR(SUMIFS(LabData2016[最近一次HbA1c檢查結果(%)],LabData2016[比對身分證前六碼],$AX9,LabData2016[最近一次HbA1c檢查日期],$I9,LabData2016[HbA1c唯一],1),""))) | I9: {=IF($B9="","",IFERROR(_xlfn.AGGREGATE(14,6,LabData2016[最近一次HbA1c檢查日期]/((LabData2016[比對身分證前六碼]=$AX9)*(LabData2016[HbA1c唯一]=1)),2),""))} | J9: =IF($B9="","",IF(AND(G9<>"",I9<>""),G9-I9,"")) | K9: =IF($B9="","",IF($E9="不適用","不適用",IF($F9="","未檢驗",IF(AND($AF9+$AG9>=2,$AG9>=1),IF(OR($F9<VALUE(SUBSTITUTE(SUBSTITUTE($E9,"<",""),"%","")),SUMIFS(LabData2016[HbA1c唯一],LabData2016[比對身分證前六碼],$AX9,LabData2016[最近一次HbA1c檢查結果(%)],"<"&VALUE(SUBSTITUTE(SUBSTITUTE($E9,"<",""),"%","")),LabData2016[最近一次HbA1c檢查日期],">="&DATE(YEAR(TODAY()),1,1),LabData2016[最近一次HbA1c檢查日期],"<"&DATE(YEAR(TODAY())+1,1,1))/($AF9+$AG9)>=0.5),"控制達標",IF(ISNUMBER($H9),IF(AND($J9>=84,$F9-$H9<0),"進步達標","未達標"),"未達標")),"未達標")))) | L9: =IF($B9="","",IF($K9="不適用","不適用",IF($K9="未檢驗","無檢驗資料","全年"&($AF9+$AG9)&"次／下半年"&$AG9&"次／"&SUMIFS(LabData2016[HbA1c唯一],LabData2016[比對身分證前六碼],$AX9,LabData2016[最近一次HbA1c檢查結果(%)],"<"&VALUE(SUBSTITUTE(SUBSTITUTE($E9,"<",""),"%","")),LabData2016[最近一次HbA1c檢查日期],">="&DATE(YEAR(TODAY()),1,1),LabData2016[最近一次HbA1c檢查日期],"<"&DATE(YEAR(TODAY())+1,1,1))&"/"&($AF9+$AG9)&"達標"))) | M9: {=IF($B9="","",IFERROR(INDEX(PatientCriteria[LDL達標標準],ROWS($A$4:A9)),""))} | N9: =IF($B9="","",IF($O9="","",IFERROR(SUMIFS(LabData2016[最近一次LDL檢查結果(mg/dL)],LabData2016[比對身分證前六碼],$AX9,LabData2016[最近一次LDL檢查日期],$O9,LabData2016[LDL唯一],1),""))) | O9: {=IF($B9="","",IFERROR(_xlfn.AGGREGATE(14,6,LabData2016[最近一次LDL檢查日期]/((LabData2016[比對身分證前六碼]=$AX9)*(LabData2016[LDL唯一]=1)),1),""))} | P9: =IF($B9="","",IF($Q9="","",IFERROR(SUMIFS(LabData2016[最近一次LDL檢查結果(mg/dL)],LabData2016[比對身分證前六碼],$AX9,LabData2016[最近一次LDL檢查日期],$Q9,LabData2016[LDL唯一],1),""))) | Q9: {=IF($B9="","",IFERROR(_xlfn.AGGREGATE(14,6,LabData2016[最近一次LDL檢查日期]/((LabData2016[比對身分證前六碼]=$AX9)*(LabData2016[LDL唯一]=1)),2),""))} | R9: =IF($B9="","",IF(AND(O9<>"",Q9<>""),O9-Q9,"")) | S9: {=IF($B9="","",IFERROR(_xlfn.AGGREGATE(15,6,LabData2016[最近一次LDL檢查結果(mg/dL)]/((LabData2016[比對身分證前六碼]=$AX9)*(LabData2016[LDL唯一]=1)),1),""))} | T9: =IF($B9="","",IF($M9="不適用","不適用",IF($N9="","未檢驗",IF(OR(AND($D9="DM only",$O9>=DATE(YEAR(TODAY()),1,1),$O9<DATE(YEAR(TODAY())+1,1,1),$N9<VALUE(SUBSTITUTE($M9,"<",""))),AND($AH9>=1,$AI9>=1,OR($N9<VALUE(SUBSTITUTE($M9,"<","")),SUMIFS(LabData2016[LDL唯一],LabData2016[比對身分證前六碼],$AX9,LabData2016[最近一次LDL檢查結果(mg/dL)],"<"&VALUE(SUBSTITUTE($M9,"<","")),LabData2016[最近一次LDL檢查日期],">="&DATE(YEAR(TODAY()),1,1),LabData2016[最近一次LDL檢查日期],"<"&DATE(YEAR(TODAY())+1,1,1))/($AH9+$AI9)>=0.5))),"控制達標",IF(AND($AH9>=1,$AI9>=1,ISNUMBER($P9),$R9>84,$N9-$P9<0),"進步達標","未達標"))))) | U9: =IF($B9="","",IF($T9="不適用","不適用",IF($T9="未檢驗","無檢驗資料","全年"&($AH9+$AI9)&"次／下半年"&$AI9&"次／"&SUMIFS(LabData2016[LDL唯一],LabData2016[比對身分證前六碼],$AX9,LabData2016[最近一次LDL檢查結果(mg/dL)],"<"&VALUE(SUBSTITUTE($M9,"<","")),LabData2016[最近一次LDL檢查日期],">="&DATE(YEAR(TODAY()),1,1),LabData2016[最近一次LDL檢查日期],"<"&DATE(YEAR(TODAY())+1,1,1))&"/"&($AH9+$AI9)&"達標"))) | V9: {=IF($B9="","",IFERROR(INDEX(PatientCriteria[UACR達標標準],ROWS($A$4:A9)),""))} | W9: =IF($B9="","",IF($X9="","",IFERROR(SUMIFS(LabData2016[最近一次UACR檢查結果(mg/gm)],LabData2016[比對身分證前六碼],$AX9,LabData2016[最近一次UACR檢查日期],$X9,LabData2016[UACR唯一],1),""))) | X9: {=IF($B9="","",IFERROR(_xlfn.AGGREGATE(14,6,LabData2016[最近一次UACR檢查日期]/((LabData2016[比對身分證前六碼]=$AX9)*(LabData2016[UACR唯一]=1)),1),""))} | Y9: =IF($B9="","",IF($Z9="","",IFERROR(SUMIFS(LabData2016[最近一次UACR檢查結果(mg/gm)],LabData2016[比對身分證前六碼],$AX9,LabData2016[最近一次UACR檢查日期],$Z9,LabData2016[UACR唯一],1),""))) | Z9: {=IF($B9="","",IFERROR(_xlfn.AGGREGATE(14,6,LabData2016[最近一次UACR檢查日期]/((LabData2016[比對身分證前六碼]=$AX9)*(LabData2016[UACR唯一]=1)),2),""))} | AA9: =IF($B9="","",IF(AND(X9<>"",Z9<>""),X9-Z9,"")) | AB9: =IF($B9="","",IF($V9="不適用","不適用",IF($W9="","未檢驗",IF(AND($AJ9+$AK9>=2,$AK9>=1),IF(OR($W9<30,SUMIFS(LabData2016[UACR唯一],LabData2016[比對身分證前六碼],$AX9,LabData2016[最近一次UACR檢查結果(mg/gm)],"<30",LabData2016[最近一次UACR檢查日期],">="&DATE(YEAR(TODAY()),1,1),LabData2016[最近一次UACR檢查日期],"<"&DATE(YEAR(TODAY())+1,1,1))/($AJ9+$AK9)>=0.5),"控制達標",IF(ISNUMBER($Y9),IF(AND($AA9>=84,$W9-$Y9<0),"進步達標","未達標"),"未達標")),"未達標")))) | AC9: =IF($B9="","",IF($AB9="不適用","不適用",IF($AB9="未檢驗","無檢驗資料","全年"&($AJ9+$AK9)&"次／下半年"&$AK9&"次／"&SUMIFS(LabData2016[UACR唯一],LabData2016[比對身分證前六碼],$AX9,LabData2016[最近一次UACR檢查結果(mg/gm)],"<30",LabData2016[最近一次UACR檢查日期],">="&DATE(YEAR(TODAY()),1,1),LabData2016[最近一次UACR檢查日期],"<"&DATE(YEAR(TODAY())+1,1,1))&"/"&($AJ9+$AK9)&"達標"))) | AD9: {=IF($B9="","",IFERROR(INDEX(PatientCriteria[BP檢驗次數達標標準],ROWS($A$4:A9)),""))} | AE9: {=IF($B9="","",_xlfn.LET(_xlpm.bp,LabData2016[最近一次BP檢查日期],_xlpm.ym,IF(ISNUMBER(_xlpm.bp),TEXT(_xlpm.bp,"yyyy-mm"),LEFT(_xlpm.bp,7)),_xlpm.matched,_xlfn._xlws.FILTER(_xlpm.ym,(LabData2016[比對身分證前六碼]=$AX9)*(LabData2016[比對生日西元]=$AY9)*(_xlpm.ym<>"")*(LEFT(_xlpm.ym,4)=TEXT(YEAR(TODAY()),"0")),""),IF(INDEX(_xlpm.matched,1)="",0,ROWS(_xlfn.UNIQUE(_xlpm.matched)))))} | AF9: =IF($B9="","",SUMIFS(LabData2016[HbA1c唯一],LabData2016[比對身分證前六碼],$AX9,LabData2016[最近一次HbA1c檢查日期],">="&DATE(YEAR(TODAY()),1,1),LabData2016[最近一次HbA1c檢查日期],"<"&DATE(YEAR(TODAY()),7,1))) | AG9: =IF($B9="","",SUMIFS(LabData2016[HbA1c唯一],LabData2016[比對身分證前六碼],$AX9,LabData2016[最近一次HbA1c檢查日期],">="&DATE(YEAR(TODAY()),7,1),LabData2016[最近一次HbA1c檢查日期],"<"&DATE(YEAR(TODAY())+1,1,1))) | AH9: =IF($B9="","",SUMIFS(LabData2016[LDL唯一],LabData2016[比對身分證前六碼],$AX9,LabData2016[最近一次LDL檢查日期],">="&DATE(YEAR(TODAY()),1,1),LabData2016[最近一次LDL檢查日期],"<"&DATE(YEAR(TODAY()),7,1))) | AI9: =IF($B9="","",SUMIFS(LabData2016[LDL唯一],LabData2016[比對身分證前六碼],$AX9,LabData2016[最近一次LDL檢查日期],">="&DATE(YEAR(TODAY()),7,1),LabData2016[最近一次LDL檢查日期],"<"&DATE(YEAR(TODAY())+1,1,1))) | AJ9: =IF($B9="","",SUMIFS(LabData2016[UACR唯一],LabData2016[比對身分證前六碼],$AX9,LabData2016[最近一次UACR檢查日期],">="&DATE(YEAR(TODAY()),1,1),LabData2016[最近一次UACR檢查日期],"<"&DATE(YEAR(TODAY()),7,1))) | AK9: =IF($B9="","",SUMIFS(LabData2016[UACR唯一],LabData2016[比對身分證前六碼],$AX9,LabData2016[最近一次UACR檢查日期],">="&DATE(YEAR(TODAY()),7,1),LabData2016[最近一次UACR檢查日期],"<"&DATE(YEAR(TODAY())+1,1,1))) | AL9: =IF($B9="","",IF(NOT(OR($D9="DM only",$D9="DM+CKD",$D9="DM+ASCVD",$D9="CKD+ASCVD",$D9="DM+CKD+ASCVD")),"不適用",IF(AND(IF(OR($D9="DM only",$D9="DM+CKD",$D9="DM+ASCVD",$D9="DM+CKD+ASCVD"),AND($AF9>=1,$AG9>=1),TRUE),AND($AH9>=1,$AI9>=1),IF(OR($D9="DM+CKD",$D9="CKD+ASCVD",$D9="DM+CKD+ASCVD"),AND($AJ9>=1,$AK9>=1),TRUE),OR($AD9="不適用",$AE9>=3)),"達標","未達標"))) | AM9: =IF($B9="","",250) | AN9: =IF($B9="","",30) | AO9: =IF($B9="","",IF(AND($AL9="達標",OR(ISNUMBER(SEARCH("DM",$D9)),ISNUMBER(SEARCH("+",$D9)))),100,0)) | AP9: {=IF($B9="","",IFERROR(INDEX(相容設定!$B$2:$E$9,MATCH($D9,相容設定!$A$2:$A$9,0),MIN(VALUE(LEFT($AQ9,FIND("/",$AQ9)-1)),3)+1),0))} | AQ9: =IF($B9="","",(IF(OR($K9="控制達標",$K9="進步達標"),1,0)+IF(OR($T9="控制達標",$T9="進步達標"),1,0)+IF(OR($AB9="控制達標",$AB9="進步達標"),1,0))&"/"&(IF($K9<>"不適用",1,0)+IF($T9<>"不適用",1,0)+IF($AB9<>"不適用",1,0))) | AR9: =IF($B9="","",AM9+AN9+AO9+AP9) | AS9: =IF($B9="","",250+30+IF(OR(ISNUMBER(SEARCH("DM",$D9)),ISNUMBER(SEARCH("+",$D9))),100,0)+IFERROR(INDEX(相容設定!$F$2:$F$9,MATCH($D9,相容設定!$A$2:$A$9,0)),0)) | AT9: =IF($B9="","",_xlfn.LET(_xlpm.a,--AND($K9<>"",$K9<>"不適用")+--AND($T9<>"",$T9<>"不適用")+--AND($AB9<>"",$AB9<>"不適用"),_xlpm.h,--OR($K9="控制達標",$K9="進步達標",$K9="達標")+--OR($T9="控制達標",$T9="進步達標",$T9="達標")+--OR($AB9="控制達標",$AB9="進步達標",$AB9="達標"),IF(_xlpm.a=0,"",IF(_xlpm.h=_xlpm.a,"🟢",IF(_xlpm.h=0,"🔴","🟡"))))) | AU9: =IF($B9="","",IF($AQ9="0/0","無適用評估項目：依個案狀況常規追蹤",IF($AV9&$AW9="","維持現況並定期追蹤",LEFT($AV9&$AW9,LEN($AV9&$AW9)-1)))) | AV9: =IF($B9="","",IF($K9="未檢驗","HbA1c未檢驗：建議安排檢查；",IF($K9="未達標","HbA1c未達標：建議安排複檢；",""))&IF($T9="未檢驗","LDL未檢驗：建議安排檢查；",IF($T9="未達標","LDL未達標：建議安排複檢；",""))&IF($AB9="未檢驗","UACR未檢驗：建議安排尿液檢查；",IF($AB9="未達標","UACR未達標：建議安排尿液複檢；",""))) | AW9: =IF($B9="","",IF($AL9<>"未達標","",IF(AND($E9<>"不適用",$AF9<1),"HbA1c上半年缺檢：安排檢驗；","")&IF(AND($E9<>"不適用",$AG9<1),"HbA1c下半年缺檢：安排檢驗；","")&IF(AND($M9<>"不適用",$AH9<1),"LDL上半年缺檢：安排檢驗；","")&IF(AND($M9<>"不適用",$AI9<1),"LDL下半年缺檢：安排檢驗；","")&IF(AND($V9<>"不適用",$AJ9<1),"UACR上半年缺檢：安排尿液檢查；","")&IF(AND($V9<>"不適用",$AK9<1),"UACR下半年缺檢：安排尿液檢查；","")&_xlfn.LET(_xlpm.bpNeed,IFERROR(VALUE(SUBSTITUTE($AD9,"次","")),0),IF(AND(_xlpm.bpNeed>0,$AE9<_xlpm.bpNeed),"BP次數不足：尚缺"&(_xlpm.bpNeed-$AE9)&"次；","")))) | AX9: =IF($B9="","",LEFT($B9,6)) | AY9: =IF($C9="","",IF(ISNUMBER($C9),TEXT($C9,"yyyy-mm-dd"),TEXT(DATE(VALUE(LEFT($C9,3))+1911,VALUE(MID($C9,5,2)),VALUE(RIGHT($C9,2))),"yyyy-mm-dd")))
A10: {=IFERROR(IF(INDEX(PatientCriteria[身分證號],ROWS($A$4:A10))="","",ROWS($A$4:A10)),"")} | B10: {=IFERROR(IF(INDEX(PatientCriteria[身分證號],ROWS($A$4:A10))="","",INDEX(PatientCriteria[身分證號],ROWS($A$4:A10))),"")} | C10: {=IF($B10="","",IFERROR(INDEX(PatientCriteria[生日],ROWS($A$4:A10)),""))} | D10: {=IF($B10="","",IFERROR(INDEX(PatientCriteria[疾病組合],ROWS($A$4:A10)),""))} | E10: {=IF($B10="","",IFERROR(INDEX(PatientCriteria[HbA1c達標標準],ROWS($A$4:A10)),""))} | F10: =IF($B10="","",IF($G10="","",IFERROR(SUMIFS(LabData2016[最近一次HbA1c檢查結果(%)],LabData2016[比對身分證前六碼],$AX10,LabData2016[最近一次HbA1c檢查日期],$G10,LabData2016[HbA1c唯一],1),""))) | G10: {=IF($B10="","",IFERROR(_xlfn.AGGREGATE(14,6,LabData2016[最近一次HbA1c檢查日期]/((LabData2016[比對身分證前六碼]=$AX10)*(LabData2016[HbA1c唯一]=1)),1),""))} | H10: =IF($B10="","",IF($I10="","",IFERROR(SUMIFS(LabData2016[最近一次HbA1c檢查結果(%)],LabData2016[比對身分證前六碼],$AX10,LabData2016[最近一次HbA1c檢查日期],$I10,LabData2016[HbA1c唯一],1),""))) | I10: {=IF($B10="","",IFERROR(_xlfn.AGGREGATE(14,6,LabData2016[最近一次HbA1c檢查日期]/((LabData2016[比對身分證前六碼]=$AX10)*(LabData2016[HbA1c唯一]=1)),2),""))} | J10: =IF($B10="","",IF(AND(G10<>"",I10<>""),G10-I10,"")) | K10: =IF($B10="","",IF($E10="不適用","不適用",IF($F10="","未檢驗",IF(AND($AF10+$AG10>=2,$AG10>=1),IF(OR($F10<VALUE(SUBSTITUTE(SUBSTITUTE($E10,"<",""),"%","")),SUMIFS(LabData2016[HbA1c唯一],LabData2016[比對身分證前六碼],$AX10,LabData2016[最近一次HbA1c檢查結果(%)],"<"&VALUE(SUBSTITUTE(SUBSTITUTE($E10,"<",""),"%","")),LabData2016[最近一次HbA1c檢查日期],">="&DATE(YEAR(TODAY()),1,1),LabData2016[最近一次HbA1c檢查日期],"<"&DATE(YEAR(TODAY())+1,1,1))/($AF10+$AG10)>=0.5),"控制達標",IF(ISNUMBER($H10),IF(AND($J10>=84,$F10-$H10<0),"進步達標","未達標"),"未達標")),"未達標")))) | L10: =IF($B10="","",IF($K10="不適用","不適用",IF($K10="未檢驗","無檢驗資料","全年"&($AF10+$AG10)&"次／下半年"&$AG10&"次／"&SUMIFS(LabData2016[HbA1c唯一],LabData2016[比對身分證前六碼],$AX10,LabData2016[最近一次HbA1c檢查結果(%)],"<"&VALUE(SUBSTITUTE(SUBSTITUTE($E10,"<",""),"%","")),LabData2016[最近一次HbA1c檢查日期],">="&DATE(YEAR(TODAY()),1,1),LabData2016[最近一次HbA1c檢查日期],"<"&DATE(YEAR(TODAY())+1,1,1))&"/"&($AF10+$AG10)&"達標"))) | M10: {=IF($B10="","",IFERROR(INDEX(PatientCriteria[LDL達標標準],ROWS($A$4:A10)),""))} | N10: =IF($B10="","",IF($O10="","",IFERROR(SUMIFS(LabData2016[最近一次LDL檢查結果(mg/dL)],LabData2016[比對身分證前六碼],$AX10,LabData2016[最近一次LDL檢查日期],$O10,LabData2016[LDL唯一],1),""))) | O10: {=IF($B10="","",IFERROR(_xlfn.AGGREGATE(14,6,LabData2016[最近一次LDL檢查日期]/((LabData2016[比對身分證前六碼]=$AX10)*(LabData2016[LDL唯一]=1)),1),""))} | P10: =IF($B10="","",IF($Q10="","",IFERROR(SUMIFS(LabData2016[最近一次LDL檢查結果(mg/dL)],LabData2016[比對身分證前六碼],$AX10,LabData2016[最近一次LDL檢查日期],$Q10,LabData2016[LDL唯一],1),""))) | Q10: {=IF($B10="","",IFERROR(_xlfn.AGGREGATE(14,6,LabData2016[最近一次LDL檢查日期]/((LabData2016[比對身分證前六碼]=$AX10)*(LabData2016[LDL唯一]=1)),2),""))} | R10: =IF($B10="","",IF(AND(O10<>"",Q10<>""),O10-Q10,"")) | S10: {=IF($B10="","",IFERROR(_xlfn.AGGREGATE(15,6,LabData2016[最近一次LDL檢查結果(mg/dL)]/((LabData2016[比對身分證前六碼]=$AX10)*(LabData2016[LDL唯一]=1)),1),""))} | T10: =IF($B10="","",IF($M10="不適用","不適用",IF($N10="","未檢驗",IF(OR(AND($D10="DM only",$O10>=DATE(YEAR(TODAY()),1,1),$O10<DATE(YEAR(TODAY())+1,1,1),$N10<VALUE(SUBSTITUTE($M10,"<",""))),AND($AH10>=1,$AI10>=1,OR($N10<VALUE(SUBSTITUTE($M10,"<","")),SUMIFS(LabData2016[LDL唯一],LabData2016[比對身分證前六碼],$AX10,LabData2016[最近一次LDL檢查結果(mg/dL)],"<"&VALUE(SUBSTITUTE($M10,"<","")),LabData2016[最近一次LDL檢查日期],">="&DATE(YEAR(TODAY()),1,1),LabData2016[最近一次LDL檢查日期],"<"&DATE(YEAR(TODAY())+1,1,1))/($AH10+$AI10)>=0.5))),"控制達標",IF(AND($AH10>=1,$AI10>=1,ISNUMBER($P10),$R10>84,$N10-$P10<0),"進步達標","未達標"))))) | U10: =IF($B10="","",IF($T10="不適用","不適用",IF($T10="未檢驗","無檢驗資料","全年"&($AH10+$AI10)&"次／下半年"&$AI10&"次／"&SUMIFS(LabData2016[LDL唯一],LabData2016[比對身分證前六碼],$AX10,LabData2016[最近一次LDL檢查結果(mg/dL)],"<"&VALUE(SUBSTITUTE($M10,"<","")),LabData2016[最近一次LDL檢查日期],">="&DATE(YEAR(TODAY()),1,1),LabData2016[最近一次LDL檢查日期],"<"&DATE(YEAR(TODAY())+1,1,1))&"/"&($AH10+$AI10)&"達標"))) | V10: {=IF($B10="","",IFERROR(INDEX(PatientCriteria[UACR達標標準],ROWS($A$4:A10)),""))} | W10: =IF($B10="","",IF($X10="","",IFERROR(SUMIFS(LabData2016[最近一次UACR檢查結果(mg/gm)],LabData2016[比對身分證前六碼],$AX10,LabData2016[最近一次UACR檢查日期],$X10,LabData2016[UACR唯一],1),""))) | X10: {=IF($B10="","",IFERROR(_xlfn.AGGREGATE(14,6,LabData2016[最近一次UACR檢查日期]/((LabData2016[比對身分證前六碼]=$AX10)*(LabData2016[UACR唯一]=1)),1),""))} | Y10: =IF($B10="","",IF($Z10="","",IFERROR(SUMIFS(LabData2016[最近一次UACR檢查結果(mg/gm)],LabData2016[比對身分證前六碼],$AX10,LabData2016[最近一次UACR檢查日期],$Z10,LabData2016[UACR唯一],1),""))) | Z10: {=IF($B10="","",IFERROR(_xlfn.AGGREGATE(14,6,LabData2016[最近一次UACR檢查日期]/((LabData2016[比對身分證前六碼]=$AX10)*(LabData2016[UACR唯一]=1)),2),""))} | AA10: =IF($B10="","",IF(AND(X10<>"",Z10<>""),X10-Z10,"")) | AB10: =IF($B10="","",IF($V10="不適用","不適用",IF($W10="","未檢驗",IF(AND($AJ10+$AK10>=2,$AK10>=1),IF(OR($W10<30,SUMIFS(LabData2016[UACR唯一],LabData2016[比對身分證前六碼],$AX10,LabData2016[最近一次UACR檢查結果(mg/gm)],"<30",LabData2016[最近一次UACR檢查日期],">="&DATE(YEAR(TODAY()),1,1),LabData2016[最近一次UACR檢查日期],"<"&DATE(YEAR(TODAY())+1,1,1))/($AJ10+$AK10)>=0.5),"控制達標",IF(ISNUMBER($Y10),IF(AND($AA10>=84,$W10-$Y10<0),"進步達標","未達標"),"未達標")),"未達標")))) | AC10: =IF($B10="","",IF($AB10="不適用","不適用",IF($AB10="未檢驗","無檢驗資料","全年"&($AJ10+$AK10)&"次／下半年"&$AK10&"次／"&SUMIFS(LabData2016[UACR唯一],LabData2016[比對身分證前六碼],$AX10,LabData2016[最近一次UACR檢查結果(mg/gm)],"<30",LabData2016[最近一次UACR檢查日期],">="&DATE(YEAR(TODAY()),1,1),LabData2016[最近一次UACR檢查日期],"<"&DATE(YEAR(TODAY())+1,1,1))&"/"&($AJ10+$AK10)&"達標"))) | AD10: {=IF($B10="","",IFERROR(INDEX(PatientCriteria[BP檢驗次數達標標準],ROWS($A$4:A10)),""))} | AE10: {=IF($B10="","",_xlfn.LET(_xlpm.bp,LabData2016[最近一次BP檢查日期],_xlpm.ym,IF(ISNUMBER(_xlpm.bp),TEXT(_xlpm.bp,"yyyy-mm"),LEFT(_xlpm.bp,7)),_xlpm.matched,_xlfn._xlws.FILTER(_xlpm.ym,(LabData2016[比對身分證前六碼]=$AX10)*(LabData2016[比對生日西元]=$AY10)*(_xlpm.ym<>"")*(LEFT(_xlpm.ym,4)=TEXT(YEAR(TODAY()),"0")),""),IF(INDEX(_xlpm.matched,1)="",0,ROWS(_xlfn.UNIQUE(_xlpm.matched)))))} | AF10: =IF($B10="","",SUMIFS(LabData2016[HbA1c唯一],LabData2016[比對身分證前六碼],$AX10,LabData2016[最近一次HbA1c檢查日期],">="&DATE(YEAR(TODAY()),1,1),LabData2016[最近一次HbA1c檢查日期],"<"&DATE(YEAR(TODAY()),7,1))) | AG10: =IF($B10="","",SUMIFS(LabData2016[HbA1c唯一],LabData2016[比對身分證前六碼],$AX10,LabData2016[最近一次HbA1c檢查日期],">="&DATE(YEAR(TODAY()),7,1),LabData2016[最近一次HbA1c檢查日期],"<"&DATE(YEAR(TODAY())+1,1,1))) | AH10: =IF($B10="","",SUMIFS(LabData2016[LDL唯一],LabData2016[比對身分證前六碼],$AX10,LabData2016[最近一次LDL檢查日期],">="&DATE(YEAR(TODAY()),1,1),LabData2016[最近一次LDL檢查日期],"<"&DATE(YEAR(TODAY()),7,1))) | AI10: =IF($B10="","",SUMIFS(LabData2016[LDL唯一],LabData2016[比對身分證前六碼],$AX10,LabData2016[最近一次LDL檢查日期],">="&DATE(YEAR(TODAY()),7,1),LabData2016[最近一次LDL檢查日期],"<"&DATE(YEAR(TODAY())+1,1,1))) | AJ10: =IF($B10="","",SUMIFS(LabData2016[UACR唯一],LabData2016[比對身分證前六碼],$AX10,LabData2016[最近一次UACR檢查日期],">="&DATE(YEAR(TODAY()),1,1),LabData2016[最近一次UACR檢查日期],"<"&DATE(YEAR(TODAY()),7,1))) | AK10: =IF($B10="","",SUMIFS(LabData2016[UACR唯一],LabData2016[比對身分證前六碼],$AX10,LabData2016[最近一次UACR檢查日期],">="&DATE(YEAR(TODAY()),7,1),LabData2016[最近一次UACR檢查日期],"<"&DATE(YEAR(TODAY())+1,1,1))) | AL10: =IF($B10="","",IF(NOT(OR($D10="DM only",$D10="DM+CKD",$D10="DM+ASCVD",$D10="CKD+ASCVD",$D10="DM+CKD+ASCVD")),"不適用",IF(AND(IF(OR($D10="DM only",$D10="DM+CKD",$D10="DM+ASCVD",$D10="DM+CKD+ASCVD"),AND($AF10>=1,$AG10>=1),TRUE),AND($AH10>=1,$AI10>=1),IF(OR($D10="DM+CKD",$D10="CKD+ASCVD",$D10="DM+CKD+ASCVD"),AND($AJ10>=1,$AK10>=1),TRUE),OR($AD10="不適用",$AE10>=3)),"達標","未達標"))) | AM10: =IF($B10="","",250) | AN10: =IF($B10="","",30) | AO10: =IF($B10="","",IF(AND($AL10="達標",OR(ISNUMBER(SEARCH("DM",$D10)),ISNUMBER(SEARCH("+",$D10)))),100,0)) | AP10: {=IF($B10="","",IFERROR(INDEX(相容設定!$B$2:$E$9,MATCH($D10,相容設定!$A$2:$A$9,0),MIN(VALUE(LEFT($AQ10,FIND("/",$AQ10)-1)),3)+1),0))} | AQ10: =IF($B10="","",(IF(OR($K10="控制達標",$K10="進步達標"),1,0)+IF(OR($T10="控制達標",$T10="進步達標"),1,0)+IF(OR($AB10="控制達標",$AB10="進步達標"),1,0))&"/"&(IF($K10<>"不適用",1,0)+IF($T10<>"不適用",1,0)+IF($AB10<>"不適用",1,0))) | AR10: =IF($B10="","",AM10+AN10+AO10+AP10) | AS10: =IF($B10="","",250+30+IF(OR(ISNUMBER(SEARCH("DM",$D10)),ISNUMBER(SEARCH("+",$D10))),100,0)+IFERROR(INDEX(相容設定!$F$2:$F$9,MATCH($D10,相容設定!$A$2:$A$9,0)),0)) | AT10: =IF($B10="","",_xlfn.LET(_xlpm.a,--AND($K10<>"",$K10<>"不適用")+--AND($T10<>"",$T10<>"不適用")+--AND($AB10<>"",$AB10<>"不適用"),_xlpm.h,--OR($K10="控制達標",$K10="進步達標",$K10="達標")+--OR($T10="控制達標",$T10="進步達標",$T10="達標")+--OR($AB10="控制達標",$AB10="進步達標",$AB10="達標"),IF(_xlpm.a=0,"",IF(_xlpm.h=_xlpm.a,"🟢",IF(_xlpm.h=0,"🔴","🟡"))))) | AU10: =IF($B10="","",IF($AQ10="0/0","無適用評估項目：依個案狀況常規追蹤",IF($AV10&$AW10="","維持現況並定期追蹤",LEFT($AV10&$AW10,LEN($AV10&$AW10)-1)))) | AV10: =IF($B10="","",IF($K10="未檢驗","HbA1c未檢驗：建議安排檢查；",IF($K10="未達標","HbA1c未達標：建議安排複檢；",""))&IF($T10="未檢驗","LDL未檢驗：建議安排檢查；",IF($T10="未達標","LDL未達標：建議安排複檢；",""))&IF($AB10="未檢驗","UACR未檢驗：建議安排尿液檢查；",IF($AB10="未達標","UACR未達標：建議安排尿液複檢；",""))) | AW10: =IF($B10="","",IF($AL10<>"未達標","",IF(AND($E10<>"不適用",$AF10<1),"HbA1c上半年缺檢：安排檢驗；","")&IF(AND($E10<>"不適用",$AG10<1),"HbA1c下半年缺檢：安排檢驗；","")&IF(AND($M10<>"不適用",$AH10<1),"LDL上半年缺檢：安排檢驗；","")&IF(AND($M10<>"不適用",$AI10<1),"LDL下半年缺檢：安排檢驗；","")&IF(AND($V10<>"不適用",$AJ10<1),"UACR上半年缺檢：安排尿液檢查；","")&IF(AND($V10<>"不適用",$AK10<1),"UACR下半年缺檢：安排尿液檢查；","")&_xlfn.LET(_xlpm.bpNeed,IFERROR(VALUE(SUBSTITUTE($AD10,"次","")),0),IF(AND(_xlpm.bpNeed>0,$AE10<_xlpm.bpNeed),"BP次數不足：尚缺"&(_xlpm.bpNeed-$AE10)&"次；","")))) | AX10: =IF($B10="","",LEFT($B10,6)) | AY10: =IF($C10="","",IF(ISNUMBER($C10),TEXT($C10,"yyyy-mm-dd"),TEXT(DATE(VALUE(LEFT($C10,3))+1911,VALUE(MID($C10,5,2)),VALUE(RIGHT($C10,2))),"yyyy-mm-dd")))
A11: {=IFERROR(IF(INDEX(PatientCriteria[身分證號],ROWS($A$4:A11))="","",ROWS($A$4:A11)),"")} | B11: {=IFERROR(IF(INDEX(PatientCriteria[身分證號],ROWS($A$4:A11))="","",INDEX(PatientCriteria[身分證號],ROWS($A$4:A11))),"")} | C11: {=IF($B11="","",IFERROR(INDEX(PatientCriteria[生日],ROWS($A$4:A11)),""))} | D11: {=IF($B11="","",IFERROR(INDEX(PatientCriteria[疾病組合],ROWS($A$4:A11)),""))} | E11: {=IF($B11="","",IFERROR(INDEX(PatientCriteria[HbA1c達標標準],ROWS($A$4:A11)),""))} | F11: =IF($B11="","",IF($G11="","",IFERROR(SUMIFS(LabData2016[最近一次HbA1c檢查結果(%)],LabData2016[比對身分證前六碼],$AX11,LabData2016[最近一次HbA1c檢查日期],$G11,LabData2016[HbA1c唯一],1),""))) | G11: {=IF($B11="","",IFERROR(_xlfn.AGGREGATE(14,6,LabData2016[最近一次HbA1c檢查日期]/((LabData2016[比對身分證前六碼]=$AX11)*(LabData2016[HbA1c唯一]=1)),1),""))} | H11: =IF($B11="","",IF($I11="","",IFERROR(SUMIFS(LabData2016[最近一次HbA1c檢查結果(%)],LabData2016[比對身分證前六碼],$AX11,LabData2016[最近一次HbA1c檢查日期],$I11,LabData2016[HbA1c唯一],1),""))) | I11: {=IF($B11="","",IFERROR(_xlfn.AGGREGATE(14,6,LabData2016[最近一次HbA1c檢查日期]/((LabData2016[比對身分證前六碼]=$AX11)*(LabData2016[HbA1c唯一]=1)),2),""))} | J11: =IF($B11="","",IF(AND(G11<>"",I11<>""),G11-I11,"")) | K11: =IF($B11="","",IF($E11="不適用","不適用",IF($F11="","未檢驗",IF(AND($AF11+$AG11>=2,$AG11>=1),IF(OR($F11<VALUE(SUBSTITUTE(SUBSTITUTE($E11,"<",""),"%","")),SUMIFS(LabData2016[HbA1c唯一],LabData2016[比對身分證前六碼],$AX11,LabData2016[最近一次HbA1c檢查結果(%)],"<"&VALUE(SUBSTITUTE(SUBSTITUTE($E11,"<",""),"%","")),LabData2016[最近一次HbA1c檢查日期],">="&DATE(YEAR(TODAY()),1,1),LabData2016[最近一次HbA1c檢查日期],"<"&DATE(YEAR(TODAY())+1,1,1))/($AF11+$AG11)>=0.5),"控制達標",IF(ISNUMBER($H11),IF(AND($J11>=84,$F11-$H11<0),"進步達標","未達標"),"未達標")),"未達標")))) | L11: =IF($B11="","",IF($K11="不適用","不適用",IF($K11="未檢驗","無檢驗資料","全年"&($AF11+$AG11)&"次／下半年"&$AG11&"次／"&SUMIFS(LabData2016[HbA1c唯一],LabData2016[比對身分證前六碼],$AX11,LabData2016[最近一次HbA1c檢查結果(%)],"<"&VALUE(SUBSTITUTE(SUBSTITUTE($E11,"<",""),"%","")),LabData2016[最近一次HbA1c檢查日期],">="&DATE(YEAR(TODAY()),1,1),LabData2016[最近一次HbA1c檢查日期],"<"&DATE(YEAR(TODAY())+1,1,1))&"/"&($AF11+$AG11)&"達標"))) | M11: {=IF($B11="","",IFERROR(INDEX(PatientCriteria[LDL達標標準],ROWS($A$4:A11)),""))} | N11: =IF($B11="","",IF($O11="","",IFERROR(SUMIFS(LabData2016[最近一次LDL檢查結果(mg/dL)],LabData2016[比對身分證前六碼],$AX11,LabData2016[最近一次LDL檢查日期],$O11,LabData2016[LDL唯一],1),""))) | O11: {=IF($B11="","",IFERROR(_xlfn.AGGREGATE(14,6,LabData2016[最近一次LDL檢查日期]/((LabData2016[比對身分證前六碼]=$AX11)*(LabData2016[LDL唯一]=1)),1),""))} | P11: =IF($B11="","",IF($Q11="","",IFERROR(SUMIFS(LabData2016[最近一次LDL檢查結果(mg/dL)],LabData2016[比對身分證前六碼],$AX11,LabData2016[最近一次LDL檢查日期],$Q11,LabData2016[LDL唯一],1),""))) | Q11: {=IF($B11="","",IFERROR(_xlfn.AGGREGATE(14,6,LabData2016[最近一次LDL檢查日期]/((LabData2016[比對身分證前六碼]=$AX11)*(LabData2016[LDL唯一]=1)),2),""))} | R11: =IF($B11="","",IF(AND(O11<>"",Q11<>""),O11-Q11,"")) | S11: {=IF($B11="","",IFERROR(_xlfn.AGGREGATE(15,6,LabData2016[最近一次LDL檢查結果(mg/dL)]/((LabData2016[比對身分證前六碼]=$AX11)*(LabData2016[LDL唯一]=1)),1),""))} | T11: =IF($B11="","",IF($M11="不適用","不適用",IF($N11="","未檢驗",IF(OR(AND($D11="DM only",$O11>=DATE(YEAR(TODAY()),1,1),$O11<DATE(YEAR(TODAY())+1,1,1),$N11<VALUE(SUBSTITUTE($M11,"<",""))),AND($AH11>=1,$AI11>=1,OR($N11<VALUE(SUBSTITUTE($M11,"<","")),SUMIFS(LabData2016[LDL唯一],LabData2016[比對身分證前六碼],$AX11,LabData2016[最近一次LDL檢查結果(mg/dL)],"<"&VALUE(SUBSTITUTE($M11,"<","")),LabData2016[最近一次LDL檢查日期],">="&DATE(YEAR(TODAY()),1,1),LabData2016[最近一次LDL檢查日期],"<"&DATE(YEAR(TODAY())+1,1,1))/($AH11+$AI11)>=0.5))),"控制達標",IF(AND($AH11>=1,$AI11>=1,ISNUMBER($P11),$R11>84,$N11-$P11<0),"進步達標","未達標"))))) | U11: =IF($B11="","",IF($T11="不適用","不適用",IF($T11="未檢驗","無檢驗資料","全年"&($AH11+$AI11)&"次／下半年"&$AI11&"次／"&SUMIFS(LabData2016[LDL唯一],LabData2016[比對身分證前六碼],$AX11,LabData2016[最近一次LDL檢查結果(mg/dL)],"<"&VALUE(SUBSTITUTE($M11,"<","")),LabData2016[最近一次LDL檢查日期],">="&DATE(YEAR(TODAY()),1,1),LabData2016[最近一次LDL檢查日期],"<"&DATE(YEAR(TODAY())+1,1,1))&"/"&($AH11+$AI11)&"達標"))) | V11: {=IF($B11="","",IFERROR(INDEX(PatientCriteria[UACR達標標準],ROWS($A$4:A11)),""))} | W11: =IF($B11="","",IF($X11="","",IFERROR(SUMIFS(LabData2016[最近一次UACR檢查結果(mg/gm)],LabData2016[比對身分證前六碼],$AX11,LabData2016[最近一次UACR檢查日期],$X11,LabData2016[UACR唯一],1),""))) | X11: {=IF($B11="","",IFERROR(_xlfn.AGGREGATE(14,6,LabData2016[最近一次UACR檢查日期]/((LabData2016[比對身分證前六碼]=$AX11)*(LabData2016[UACR唯一]=1)),1),""))} | Y11: =IF($B11="","",IF($Z11="","",IFERROR(SUMIFS(LabData2016[最近一次UACR檢查結果(mg/gm)],LabData2016[比對身分證前六碼],$AX11,LabData2016[最近一次UACR檢查日期],$Z11,LabData2016[UACR唯一],1),""))) | Z11: {=IF($B11="","",IFERROR(_xlfn.AGGREGATE(14,6,LabData2016[最近一次UACR檢查日期]/((LabData2016[比對身分證前六碼]=$AX11)*(LabData2016[UACR唯一]=1)),2),""))} | AA11: =IF($B11="","",IF(AND(X11<>"",Z11<>""),X11-Z11,"")) | AB11: =IF($B11="","",IF($V11="不適用","不適用",IF($W11="","未檢驗",IF(AND($AJ11+$AK11>=2,$AK11>=1),IF(OR($W11<30,SUMIFS(LabData2016[UACR唯一],LabData2016[比對身分證前六碼],$AX11,LabData2016[最近一次UACR檢查結果(mg/gm)],"<30",LabData2016[最近一次UACR檢查日期],">="&DATE(YEAR(TODAY()),1,1),LabData2016[最近一次UACR檢查日期],"<"&DATE(YEAR(TODAY())+1,1,1))/($AJ11+$AK11)>=0.5),"控制達標",IF(ISNUMBER($Y11),IF(AND($AA11>=84,$W11-$Y11<0),"進步達標","未達標"),"未達標")),"未達標")))) | AC11: =IF($B11="","",IF($AB11="不適用","不適用",IF($AB11="未檢驗","無檢驗資料","全年"&($AJ11+$AK11)&"次／下半年"&$AK11&"次／"&SUMIFS(LabData2016[UACR唯一],LabData2016[比對身分證前六碼],$AX11,LabData2016[最近一次UACR檢查結果(mg/gm)],"<30",LabData2016[最近一次UACR檢查日期],">="&DATE(YEAR(TODAY()),1,1),LabData2016[最近一次UACR檢查日期],"<"&DATE(YEAR(TODAY())+1,1,1))&"/"&($AJ11+$AK11)&"達標"))) | AD11: {=IF($B11="","",IFERROR(INDEX(PatientCriteria[BP檢驗次數達標標準],ROWS($A$4:A11)),""))} | AE11: {=IF($B11="","",_xlfn.LET(_xlpm.bp,LabData2016[最近一次BP檢查日期],_xlpm.ym,IF(ISNUMBER(_xlpm.bp),TEXT(_xlpm.bp,"yyyy-mm"),LEFT(_xlpm.bp,7)),_xlpm.matched,_xlfn._xlws.FILTER(_xlpm.ym,(LabData2016[比對身分證前六碼]=$AX11)*(LabData2016[比對生日西元]=$AY11)*(_xlpm.ym<>"")*(LEFT(_xlpm.ym,4)=TEXT(YEAR(TODAY()),"0")),""),IF(INDEX(_xlpm.matched,1)="",0,ROWS(_xlfn.UNIQUE(_xlpm.matched)))))} | AF11: =IF($B11="","",SUMIFS(LabData2016[HbA1c唯一],LabData2016[比對身分證前六碼],$AX11,LabData2016[最近一次HbA1c檢查日期],">="&DATE(YEAR(TODAY()),1,1),LabData2016[最近一次HbA1c檢查日期],"<"&DATE(YEAR(TODAY()),7,1))) | AG11: =IF($B11="","",SUMIFS(LabData2016[HbA1c唯一],LabData2016[比對身分證前六碼],$AX11,LabData2016[最近一次HbA1c檢查日期],">="&DATE(YEAR(TODAY()),7,1),LabData2016[最近一次HbA1c檢查日期],"<"&DATE(YEAR(TODAY())+1,1,1))) | AH11: =IF($B11="","",SUMIFS(LabData2016[LDL唯一],LabData2016[比對身分證前六碼],$AX11,LabData2016[最近一次LDL檢查日期],">="&DATE(YEAR(TODAY()),1,1),LabData2016[最近一次LDL檢查日期],"<"&DATE(YEAR(TODAY()),7,1))) | AI11: =IF($B11="","",SUMIFS(LabData2016[LDL唯一],LabData2016[比對身分證前六碼],$AX11,LabData2016[最近一次LDL檢查日期],">="&DATE(YEAR(TODAY()),7,1),LabData2016[最近一次LDL檢查日期],"<"&DATE(YEAR(TODAY())+1,1,1))) | AJ11: =IF($B11="","",SUMIFS(LabData2016[UACR唯一],LabData2016[比對身分證前六碼],$AX11,LabData2016[最近一次UACR檢查日期],">="&DATE(YEAR(TODAY()),1,1),LabData2016[最近一次UACR檢查日期],"<"&DATE(YEAR(TODAY()),7,1))) | AK11: =IF($B11="","",SUMIFS(LabData2016[UACR唯一],LabData2016[比對身分證前六碼],$AX11,LabData2016[最近一次UACR檢查日期],">="&DATE(YEAR(TODAY()),7,1),LabData2016[最近一次UACR檢查日期],"<"&DATE(YEAR(TODAY())+1,1,1))) | AL11: =IF($B11="","",IF(NOT(OR($D11="DM only",$D11="DM+CKD",$D11="DM+ASCVD",$D11="CKD+ASCVD",$D11="DM+CKD+ASCVD")),"不適用",IF(AND(IF(OR($D11="DM only",$D11="DM+CKD",$D11="DM+ASCVD",$D11="DM+CKD+ASCVD"),AND($AF11>=1,$AG11>=1),TRUE),AND($AH11>=1,$AI11>=1),IF(OR($D11="DM+CKD",$D11="CKD+ASCVD",$D11="DM+CKD+ASCVD"),AND($AJ11>=1,$AK11>=1),TRUE),OR($AD11="不適用",$AE11>=3)),"達標","未達標"))) | AM11: =IF($B11="","",250) | AN11: =IF($B11="","",30) | AO11: =IF($B11="","",IF(AND($AL11="達標",OR(ISNUMBER(SEARCH("DM",$D11)),ISNUMBER(SEARCH("+",$D11)))),100,0)) | AP11: {=IF($B11="","",IFERROR(INDEX(相容設定!$B$2:$E$9,MATCH($D11,相容設定!$A$2:$A$9,0),MIN(VALUE(LEFT($AQ11,FIND("/",$AQ11)-1)),3)+1),0))} | AQ11: =IF($B11="","",(IF(OR($K11="控制達標",$K11="進步達標"),1,0)+IF(OR($T11="控制達標",$T11="進步達標"),1,0)+IF(OR($AB11="控制達標",$AB11="進步達標"),1,0))&"/"&(IF($K11<>"不適用",1,0)+IF($T11<>"不適用",1,0)+IF($AB11<>"不適用",1,0))) | AR11: =IF($B11="","",AM11+AN11+AO11+AP11) | AS11: =IF($B11="","",250+30+IF(OR(ISNUMBER(SEARCH("DM",$D11)),ISNUMBER(SEARCH("+",$D11))),100,0)+IFERROR(INDEX(相容設定!$F$2:$F$9,MATCH($D11,相容設定!$A$2:$A$9,0)),0)) | AT11: =IF($B11="","",_xlfn.LET(_xlpm.a,--AND($K11<>"",$K11<>"不適用")+--AND($T11<>"",$T11<>"不適用")+--AND($AB11<>"",$AB11<>"不適用"),_xlpm.h,--OR($K11="控制達標",$K11="進步達標",$K11="達標")+--OR($T11="控制達標",$T11="進步達標",$T11="達標")+--OR($AB11="控制達標",$AB11="進步達標",$AB11="達標"),IF(_xlpm.a=0,"",IF(_xlpm.h=_xlpm.a,"🟢",IF(_xlpm.h=0,"🔴","🟡"))))) | AU11: =IF($B11="","",IF($AQ11="0/0","無適用評估項目：依個案狀況常規追蹤",IF($AV11&$AW11="","維持現況並定期追蹤",LEFT($AV11&$AW11,LEN($AV11&$AW11)-1)))) | AV11: =IF($B11="","",IF($K11="未檢驗","HbA1c未檢驗：建議安排檢查；",IF($K11="未達標","HbA1c未達標：建議安排複檢；",""))&IF($T11="未檢驗","LDL未檢驗：建議安排檢查；",IF($T11="未達標","LDL未達標：建議安排複檢；",""))&IF($AB11="未檢驗","UACR未檢驗：建議安排尿液檢查；",IF($AB11="未達標","UACR未達標：建議安排尿液複檢；",""))) | AW11: =IF($B11="","",IF($AL11<>"未達標","",IF(AND($E11<>"不適用",$AF11<1),"HbA1c上半年缺檢：安排檢驗；","")&IF(AND($E11<>"不適用",$AG11<1),"HbA1c下半年缺檢：安排檢驗；","")&IF(AND($M11<>"不適用",$AH11<1),"LDL上半年缺檢：安排檢驗；","")&IF(AND($M11<>"不適用",$AI11<1),"LDL下半年缺檢：安排檢驗；","")&IF(AND($V11<>"不適用",$AJ11<1),"UACR上半年缺檢：安排尿液檢查；","")&IF(AND($V11<>"不適用",$AK11<1),"UACR下半年缺檢：安排尿液檢查；","")&_xlfn.LET(_xlpm.bpNeed,IFERROR(VALUE(SUBSTITUTE($AD11,"次","")),0),IF(AND(_xlpm.bpNeed>0,$AE11<_xlpm.bpNeed),"BP次數不足：尚缺"&(_xlpm.bpNeed-$AE11)&"次；","")))) | AX11: =IF($B11="","",LEFT($B11,6)) | AY11: =IF($C11="","",IF(ISNUMBER($C11),TEXT($C11,"yyyy-mm-dd"),TEXT(DATE(VALUE(LEFT($C11,3))+1911,VALUE(MID($C11,5,2)),VALUE(RIGHT($C11,2))),"yyyy-mm-dd")))
A12: {=IFERROR(IF(INDEX(PatientCriteria[身分證號],ROWS($A$4:A12))="","",ROWS($A$4:A12)),"")} | B12: {=IFERROR(IF(INDEX(PatientCriteria[身分證號],ROWS($A$4:A12))="","",INDEX(PatientCriteria[身分證號],ROWS($A$4:A12))),"")} | C12: {=IF($B12="","",IFERROR(INDEX(PatientCriteria[生日],ROWS($A$4:A12)),""))} | D12: {=IF($B12="","",IFERROR(INDEX(PatientCriteria[疾病組合],ROWS($A$4:A12)),""))} | E12: {=IF($B12="","",IFERROR(INDEX(PatientCriteria[HbA1c達標標準],ROWS($A$4:A12)),""))} | F12: =IF($B12="","",IF($G12="","",IFERROR(SUMIFS(LabData2016[最近一次HbA1c檢查結果(%)],LabData2016[比對身分證前六碼],$AX12,LabData2016[最近一次HbA1c檢查日期],$G12,LabData2016[HbA1c唯一],1),""))) | G12: {=IF($B12="","",IFERROR(_xlfn.AGGREGATE(14,6,LabData2016[最近一次HbA1c檢查日期]/((LabData2016[比對身分證前六碼]=$AX12)*(LabData2016[HbA1c唯一]=1)),1),""))} | H12: =IF($B12="","",IF($I12="","",IFERROR(SUMIFS(LabData2016[最近一次HbA1c檢查結果(%)],LabData2016[比對身分證前六碼],$AX12,LabData2016[最近一次HbA1c檢查日期],$I12,LabData2016[HbA1c唯一],1),""))) | I12: {=IF($B12="","",IFERROR(_xlfn.AGGREGATE(14,6,LabData2016[最近一次HbA1c檢查日期]/((LabData2016[比對身分證前六碼]=$AX12)*(LabData2016[HbA1c唯一]=1)),2),""))} | J12: =IF($B12="","",IF(AND(G12<>"",I12<>""),G12-I12,"")) | K12: =IF($B12="","",IF($E12="不適用","不適用",IF($F12="","未檢驗",IF(AND($AF12+$AG12>=2,$AG12>=1),IF(OR($F12<VALUE(SUBSTITUTE(SUBSTITUTE($E12,"<",""),"%","")),SUMIFS(LabData2016[HbA1c唯一],LabData2016[比對身分證前六碼],$AX12,LabData2016[最近一次HbA1c檢查結果(%)],"<"&VALUE(SUBSTITUTE(SUBSTITUTE($E12,"<",""),"%","")),LabData2016[最近一次HbA1c檢查日期],">="&DATE(YEAR(TODAY()),1,1),LabData2016[最近一次HbA1c檢查日期],"<"&DATE(YEAR(TODAY())+1,1,1))/($AF12+$AG12)>=0.5),"控制達標",IF(ISNUMBER($H12),IF(AND($J12>=84,$F12-$H12<0),"進步達標","未達標"),"未達標")),"未達標")))) | L12: =IF($B12="","",IF($K12="不適用","不適用",IF($K12="未檢驗","無檢驗資料","全年"&($AF12+$AG12)&"次／下半年"&$AG12&"次／"&SUMIFS(LabData2016[HbA1c唯一],LabData2016[比對身分證前六碼],$AX12,LabData2016[最近一次HbA1c檢查結果(%)],"<"&VALUE(SUBSTITUTE(SUBSTITUTE($E12,"<",""),"%","")),LabData2016[最近一次HbA1c檢查日期],">="&DATE(YEAR(TODAY()),1,1),LabData2016[最近一次HbA1c檢查日期],"<"&DATE(YEAR(TODAY())+1,1,1))&"/"&($AF12+$AG12)&"達標"))) | M12: {=IF($B12="","",IFERROR(INDEX(PatientCriteria[LDL達標標準],ROWS($A$4:A12)),""))} | N12: =IF($B12="","",IF($O12="","",IFERROR(SUMIFS(LabData2016[最近一次LDL檢查結果(mg/dL)],LabData2016[比對身分證前六碼],$AX12,LabData2016[最近一次LDL檢查日期],$O12,LabData2016[LDL唯一],1),""))) | O12: {=IF($B12="","",IFERROR(_xlfn.AGGREGATE(14,6,LabData2016[最近一次LDL檢查日期]/((LabData2016[比對身分證前六碼]=$AX12)*(LabData2016[LDL唯一]=1)),1),""))} | P12: =IF($B12="","",IF($Q12="","",IFERROR(SUMIFS(LabData2016[最近一次LDL檢查結果(mg/dL)],LabData2016[比對身分證前六碼],$AX12,LabData2016[最近一次LDL檢查日期],$Q12,LabData2016[LDL唯一],1),""))) | Q12: {=IF($B12="","",IFERROR(_xlfn.AGGREGATE(14,6,LabData2016[最近一次LDL檢查日期]/((LabData2016[比對身分證前六碼]=$AX12)*(LabData2016[LDL唯一]=1)),2),""))} | R12: =IF($B12="","",IF(AND(O12<>"",Q12<>""),O12-Q12,"")) | S12: {=IF($B12="","",IFERROR(_xlfn.AGGREGATE(15,6,LabData2016[最近一次LDL檢查結果(mg/dL)]/((LabData2016[比對身分證前六碼]=$AX12)*(LabData2016[LDL唯一]=1)),1),""))} | T12: =IF($B12="","",IF($M12="不適用","不適用",IF($N12="","未檢驗",IF(OR(AND($D12="DM only",$O12>=DATE(YEAR(TODAY()),1,1),$O12<DATE(YEAR(TODAY())+1,1,1),$N12<VALUE(SUBSTITUTE($M12,"<",""))),AND($AH12>=1,$AI12>=1,OR($N12<VALUE(SUBSTITUTE($M12,"<","")),SUMIFS(LabData2016[LDL唯一],LabData2016[比對身分證前六碼],$AX12,LabData2016[最近一次LDL檢查結果(mg/dL)],"<"&VALUE(SUBSTITUTE($M12,"<","")),LabData2016[最近一次LDL檢查日期],">="&DATE(YEAR(TODAY()),1,1),LabData2016[最近一次LDL檢查日期],"<"&DATE(YEAR(TODAY())+1,1,1))/($AH12+$AI12)>=0.5))),"控制達標",IF(AND($AH12>=1,$AI12>=1,ISNUMBER($P12),$R12>84,$N12-$P12<0),"進步達標","未達標"))))) | U12: =IF($B12="","",IF($T12="不適用","不適用",IF($T12="未檢驗","無檢驗資料","全年"&($AH12+$AI12)&"次／下半年"&$AI12&"次／"&SUMIFS(LabData2016[LDL唯一],LabData2016[比對身分證前六碼],$AX12,LabData2016[最近一次LDL檢查結果(mg/dL)],"<"&VALUE(SUBSTITUTE($M12,"<","")),LabData2016[最近一次LDL檢查日期],">="&DATE(YEAR(TODAY()),1,1),LabData2016[最近一次LDL檢查日期],"<"&DATE(YEAR(TODAY())+1,1,1))&"/"&($AH12+$AI12)&"達標"))) | V12: {=IF($B12="","",IFERROR(INDEX(PatientCriteria[UACR達標標準],ROWS($A$4:A12)),""))} | W12: =IF($B12="","",IF($X12="","",IFERROR(SUMIFS(LabData2016[最近一次UACR檢查結果(mg/gm)],LabData2016[比對身分證前六碼],$AX12,LabData2016[最近一次UACR檢查日期],$X12,LabData2016[UACR唯一],1),""))) | X12: {=IF($B12="","",IFERROR(_xlfn.AGGREGATE(14,6,LabData2016[最近一次UACR檢查日期]/((LabData2016[比對身分證前六碼]=$AX12)*(LabData2016[UACR唯一]=1)),1),""))} | Y12: =IF($B12="","",IF($Z12="","",IFERROR(SUMIFS(LabData2016[最近一次UACR檢查結果(mg/gm)],LabData2016[比對身分證前六碼],$AX12,LabData2016[最近一次UACR檢查日期],$Z12,LabData2016[UACR唯一],1),""))) | Z12: {=IF($B12="","",IFERROR(_xlfn.AGGREGATE(14,6,LabData2016[最近一次UACR檢查日期]/((LabData2016[比對身分證前六碼]=$AX12)*(LabData2016[UACR唯一]=1)),2),""))} | AA12: =IF($B12="","",IF(AND(X12<>"",Z12<>""),X12-Z12,"")) | AB12: =IF($B12="","",IF($V12="不適用","不適用",IF($W12="","未檢驗",IF(AND($AJ12+$AK12>=2,$AK12>=1),IF(OR($W12<30,SUMIFS(LabData2016[UACR唯一],LabData2016[比對身分證前六碼],$AX12,LabData2016[最近一次UACR檢查結果(mg/gm)],"<30",LabData2016[最近一次UACR檢查日期],">="&DATE(YEAR(TODAY()),1,1),LabData2016[最近一次UACR檢查日期],"<"&DATE(YEAR(TODAY())+1,1,1))/($AJ12+$AK12)>=0.5),"控制達標",IF(ISNUMBER($Y12),IF(AND($AA12>=84,$W12-$Y12<0),"進步達標","未達標"),"未達標")),"未達標")))) | AC12: =IF($B12="","",IF($AB12="不適用","不適用",IF($AB12="未檢驗","無檢驗資料","全年"&($AJ12+$AK12)&"次／下半年"&$AK12&"次／"&SUMIFS(LabData2016[UACR唯一],LabData2016[比對身分證前六碼],$AX12,LabData2016[最近一次UACR檢查結果(mg/gm)],"<30",LabData2016[最近一次UACR檢查日期],">="&DATE(YEAR(TODAY()),1,1),LabData2016[最近一次UACR檢查日期],"<"&DATE(YEAR(TODAY())+1,1,1))&"/"&($AJ12+$AK12)&"達標"))) | AD12: {=IF($B12="","",IFERROR(INDEX(PatientCriteria[BP檢驗次數達標標準],ROWS($A$4:A12)),""))} | AE12: {=IF($B12="","",_xlfn.LET(_xlpm.bp,LabData2016[最近一次BP檢查日期],_xlpm.ym,IF(ISNUMBER(_xlpm.bp),TEXT(_xlpm.bp,"yyyy-mm"),LEFT(_xlpm.bp,7)),_xlpm.matched,_xlfn._xlws.FILTER(_xlpm.ym,(LabData2016[比對身分證前六碼]=$AX12)*(LabData2016[比對生日西元]=$AY12)*(_xlpm.ym<>"")*(LEFT(_xlpm.ym,4)=TEXT(YEAR(TODAY()),"0")),""),IF(INDEX(_xlpm.matched,1)="",0,ROWS(_xlfn.UNIQUE(_xlpm.matched)))))} | AF12: =IF($B12="","",SUMIFS(LabData2016[HbA1c唯一],LabData2016[比對身分證前六碼],$AX12,LabData2016[最近一次HbA1c檢查日期],">="&DATE(YEAR(TODAY()),1,1),LabData2016[最近一次HbA1c檢查日期],"<"&DATE(YEAR(TODAY()),7,1))) | AG12: =IF($B12="","",SUMIFS(LabData2016[HbA1c唯一],LabData2016[比對身分證前六碼],$AX12,LabData2016[最近一次HbA1c檢查日期],">="&DATE(YEAR(TODAY()),7,1),LabData2016[最近一次HbA1c檢查日期],"<"&DATE(YEAR(TODAY())+1,1,1))) | AH12: =IF($B12="","",SUMIFS(LabData2016[LDL唯一],LabData2016[比對身分證前六碼],$AX12,LabData2016[最近一次LDL檢查日期],">="&DATE(YEAR(TODAY()),1,1),LabData2016[最近一次LDL檢查日期],"<"&DATE(YEAR(TODAY()),7,1))) | AI12: =IF($B12="","",SUMIFS(LabData2016[LDL唯一],LabData2016[比對身分證前六碼],$AX12,LabData2016[最近一次LDL檢查日期],">="&DATE(YEAR(TODAY()),7,1),LabData2016[最近一次LDL檢查日期],"<"&DATE(YEAR(TODAY())+1,1,1))) | AJ12: =IF($B12="","",SUMIFS(LabData2016[UACR唯一],LabData2016[比對身分證前六碼],$AX12,LabData2016[最近一次UACR檢查日期],">="&DATE(YEAR(TODAY()),1,1),LabData2016[最近一次UACR檢查日期],"<"&DATE(YEAR(TODAY()),7,1))) | AK12: =IF($B12="","",SUMIFS(LabData2016[UACR唯一],LabData2016[比對身分證前六碼],$AX12,LabData2016[最近一次UACR檢查日期],">="&DATE(YEAR(TODAY()),7,1),LabData2016[最近一次UACR檢查日期],"<"&DATE(YEAR(TODAY())+1,1,1))) | AL12: =IF($B12="","",IF(NOT(OR($D12="DM only",$D12="DM+CKD",$D12="DM+ASCVD",$D12="CKD+ASCVD",$D12="DM+CKD+ASCVD")),"不適用",IF(AND(IF(OR($D12="DM only",$D12="DM+CKD",$D12="DM+ASCVD",$D12="DM+CKD+ASCVD"),AND($AF12>=1,$AG12>=1),TRUE),AND($AH12>=1,$AI12>=1),IF(OR($D12="DM+CKD",$D12="CKD+ASCVD",$D12="DM+CKD+ASCVD"),AND($AJ12>=1,$AK12>=1),TRUE),OR($AD12="不適用",$AE12>=3)),"達標","未達標"))) | AM12: =IF($B12="","",250) | AN12: =IF($B12="","",30) | AO12: =IF($B12="","",IF(AND($AL12="達標",OR(ISNUMBER(SEARCH("DM",$D12)),ISNUMBER(SEARCH("+",$D12)))),100,0)) | AP12: {=IF($B12="","",IFERROR(INDEX(相容設定!$B$2:$E$9,MATCH($D12,相容設定!$A$2:$A$9,0),MIN(VALUE(LEFT($AQ12,FIND("/",$AQ12)-1)),3)+1),0))} | AQ12: =IF($B12="","",(IF(OR($K12="控制達標",$K12="進步達標"),1,0)+IF(OR($T12="控制達標",$T12="進步達標"),1,0)+IF(OR($AB12="控制達標",$AB12="進步達標"),1,0))&"/"&(IF($K12<>"不適用",1,0)+IF($T12<>"不適用",1,0)+IF($AB12<>"不適用",1,0))) | AR12: =IF($B12="","",AM12+AN12+AO12+AP12) | AS12: =IF($B12="","",250+30+IF(OR(ISNUMBER(SEARCH("DM",$D12)),ISNUMBER(SEARCH("+",$D12))),100,0)+IFERROR(INDEX(相容設定!$F$2:$F$9,MATCH($D12,相容設定!$A$2:$A$9,0)),0)) | AT12: =IF($B12="","",_xlfn.LET(_xlpm.a,--AND($K12<>"",$K12<>"不適用")+--AND($T12<>"",$T12<>"不適用")+--AND($AB12<>"",$AB12<>"不適用"),_xlpm.h,--OR($K12="控制達標",$K12="進步達標",$K12="達標")+--OR($T12="控制達標",$T12="進步達標",$T12="達標")+--OR($AB12="控制達標",$AB12="進步達標",$AB12="達標"),IF(_xlpm.a=0,"",IF(_xlpm.h=_xlpm.a,"🟢",IF(_xlpm.h=0,"🔴","🟡"))))) | AU12: =IF($B12="","",IF($AQ12="0/0","無適用評估項目：依個案狀況常規追蹤",IF($AV12&$AW12="","維持現況並定期追蹤",LEFT($AV12&$AW12,LEN($AV12&$AW12)-1)))) | AV12: =IF($B12="","",IF($K12="未檢驗","HbA1c未檢驗：建議安排檢查；",IF($K12="未達標","HbA1c未達標：建議安排複檢；",""))&IF($T12="未檢驗","LDL未檢驗：建議安排檢查；",IF($T12="未達標","LDL未達標：建議安排複檢；",""))&IF($AB12="未檢驗","UACR未檢驗：建議安排尿液檢查；",IF($AB12="未達標","UACR未達標：建議安排尿液複檢；",""))) | AW12: =IF($B12="","",IF($AL12<>"未達標","",IF(AND($E12<>"不適用",$AF12<1),"HbA1c上半年缺檢：安排檢驗；","")&IF(AND($E12<>"不適用",$AG12<1),"HbA1c下半年缺檢：安排檢驗；","")&IF(AND($M12<>"不適用",$AH12<1),"LDL上半年缺檢：安排檢驗；","")&IF(AND($M12<>"不適用",$AI12<1),"LDL下半年缺檢：安排檢驗；","")&IF(AND($V12<>"不適用",$AJ12<1),"UACR上半年缺檢：安排尿液檢查；","")&IF(AND($V12<>"不適用",$AK12<1),"UACR下半年缺檢：安排尿液檢查；","")&_xlfn.LET(_xlpm.bpNeed,IFERROR(VALUE(SUBSTITUTE($AD12,"次","")),0),IF(AND(_xlpm.bpNeed>0,$AE12<_xlpm.bpNeed),"BP次數不足：尚缺"&(_xlpm.bpNeed-$AE12)&"次；","")))) | AX12: =IF($B12="","",LEFT($B12,6)) | AY12: =IF($C12="","",IF(ISNUMBER($C12),TEXT($C12,"yyyy-mm-dd"),TEXT(DATE(VALUE(LEFT($C12,3))+1911,VALUE(MID($C12,5,2)),VALUE(RIGHT($C12,2))),"yyyy-mm-dd")))
A13: {=IFERROR(IF(INDEX(PatientCriteria[身分證號],ROWS($A$4:A13))="","",ROWS($A$4:A13)),"")} | B13: {=IFERROR(IF(INDEX(PatientCriteria[身分證號],ROWS($A$4:A13))="","",INDEX(PatientCriteria[身分證號],ROWS($A$4:A13))),"")} | C13: {=IF($B13="","",IFERROR(INDEX(PatientCriteria[生日],ROWS($A$4:A13)),""))} | D13: {=IF($B13="","",IFERROR(INDEX(PatientCriteria[疾病組合],ROWS($A$4:A13)),""))} | E13: {=IF($B13="","",IFERROR(INDEX(PatientCriteria[HbA1c達標標準],ROWS($A$4:A13)),""))} | F13: =IF($B13="","",IF($G13="","",IFERROR(SUMIFS(LabData2016[最近一次HbA1c檢查結果(%)],LabData2016[比對身分證前六碼],$AX13,LabData2016[最近一次HbA1c檢查日期],$G13,LabData2016[HbA1c唯一],1),""))) | G13: {=IF($B13="","",IFERROR(_xlfn.AGGREGATE(14,6,LabData2016[最近一次HbA1c檢查日期]/((LabData2016[比對身分證前六碼]=$AX13)*(LabData2016[HbA1c唯一]=1)),1),""))} | H13: =IF($B13="","",IF($I13="","",IFERROR(SUMIFS(LabData2016[最近一次HbA1c檢查結果(%)],LabData2016[比對身分證前六碼],$AX13,LabData2016[最近一次HbA1c檢查日期],$I13,LabData2016[HbA1c唯一],1),""))) | I13: {=IF($B13="","",IFERROR(_xlfn.AGGREGATE(14,6,LabData2016[最近一次HbA1c檢查日期]/((LabData2016[比對身分證前六碼]=$AX13)*(LabData2016[HbA1c唯一]=1)),2),""))} | J13: =IF($B13="","",IF(AND(G13<>"",I13<>""),G13-I13,"")) | K13: =IF($B13="","",IF($E13="不適用","不適用",IF($F13="","未檢驗",IF(AND($AF13+$AG13>=2,$AG13>=1),IF(OR($F13<VALUE(SUBSTITUTE(SUBSTITUTE($E13,"<",""),"%","")),SUMIFS(LabData2016[HbA1c唯一],LabData2016[比對身分證前六碼],$AX13,LabData2016[最近一次HbA1c檢查結果(%)],"<"&VALUE(SUBSTITUTE(SUBSTITUTE($E13,"<",""),"%","")),LabData2016[最近一次HbA1c檢查日期],">="&DATE(YEAR(TODAY()),1,1),LabData2016[最近一次HbA1c檢查日期],"<"&DATE(YEAR(TODAY())+1,1,1))/($AF13+$AG13)>=0.5),"控制達標",IF(ISNUMBER($H13),IF(AND($J13>=84,$F13-$H13<0),"進步達標","未達標"),"未達標")),"未達標")))) | L13: =IF($B13="","",IF($K13="不適用","不適用",IF($K13="未檢驗","無檢驗資料","全年"&($AF13+$AG13)&"次／下半年"&$AG13&"次／"&SUMIFS(LabData2016[HbA1c唯一],LabData2016[比對身分證前六碼],$AX13,LabData2016[最近一次HbA1c檢查結果(%)],"<"&VALUE(SUBSTITUTE(SUBSTITUTE($E13,"<",""),"%","")),LabData2016[最近一次HbA1c檢查日期],">="&DATE(YEAR(TODAY()),1,1),LabData2016[最近一次HbA1c檢查日期],"<"&DATE(YEAR(TODAY())+1,1,1))&"/"&($AF13+$AG13)&"達標"))) | M13: {=IF($B13="","",IFERROR(INDEX(PatientCriteria[LDL達標標準],ROWS($A$4:A13)),""))} | N13: =IF($B13="","",IF($O13="","",IFERROR(SUMIFS(LabData2016[最近一次LDL檢查結果(mg/dL)],LabData2016[比對身分證前六碼],$AX13,LabData2016[最近一次LDL檢查日期],$O13,LabData2016[LDL唯一],1),""))) | O13: {=IF($B13="","",IFERROR(_xlfn.AGGREGATE(14,6,LabData2016[最近一次LDL檢查日期]/((LabData2016[比對身分證前六碼]=$AX13)*(LabData2016[LDL唯一]=1)),1),""))} | P13: =IF($B13="","",IF($Q13="","",IFERROR(SUMIFS(LabData2016[最近一次LDL檢查結果(mg/dL)],LabData2016[比對身分證前六碼],$AX13,LabData2016[最近一次LDL檢查日期],$Q13,LabData2016[LDL唯一],1),""))) | Q13: {=IF($B13="","",IFERROR(_xlfn.AGGREGATE(14,6,LabData2016[最近一次LDL檢查日期]/((LabData2016[比對身分證前六碼]=$AX13)*(LabData2016[LDL唯一]=1)),2),""))} | R13: =IF($B13="","",IF(AND(O13<>"",Q13<>""),O13-Q13,"")) | S13: {=IF($B13="","",IFERROR(_xlfn.AGGREGATE(15,6,LabData2016[最近一次LDL檢查結果(mg/dL)]/((LabData2016[比對身分證前六碼]=$AX13)*(LabData2016[LDL唯一]=1)),1),""))} | T13: =IF($B13="","",IF($M13="不適用","不適用",IF($N13="","未檢驗",IF(OR(AND($D13="DM only",$O13>=DATE(YEAR(TODAY()),1,1),$O13<DATE(YEAR(TODAY())+1,1,1),$N13<VALUE(SUBSTITUTE($M13,"<",""))),AND($AH13>=1,$AI13>=1,OR($N13<VALUE(SUBSTITUTE($M13,"<","")),SUMIFS(LabData2016[LDL唯一],LabData2016[比對身分證前六碼],$AX13,LabData2016[最近一次LDL檢查結果(mg/dL)],"<"&VALUE(SUBSTITUTE($M13,"<","")),LabData2016[最近一次LDL檢查日期],">="&DATE(YEAR(TODAY()),1,1),LabData2016[最近一次LDL檢查日期],"<"&DATE(YEAR(TODAY())+1,1,1))/($AH13+$AI13)>=0.5))),"控制達標",IF(AND($AH13>=1,$AI13>=1,ISNUMBER($P13),$R13>84,$N13-$P13<0),"進步達標","未達標"))))) | U13: =IF($B13="","",IF($T13="不適用","不適用",IF($T13="未檢驗","無檢驗資料","全年"&($AH13+$AI13)&"次／下半年"&$AI13&"次／"&SUMIFS(LabData2016[LDL唯一],LabData2016[比對身分證前六碼],$AX13,LabData2016[最近一次LDL檢查結果(mg/dL)],"<"&VALUE(SUBSTITUTE($M13,"<","")),LabData2016[最近一次LDL檢查日期],">="&DATE(YEAR(TODAY()),1,1),LabData2016[最近一次LDL檢查日期],"<"&DATE(YEAR(TODAY())+1,1,1))&"/"&($AH13+$AI13)&"達標"))) | V13: {=IF($B13="","",IFERROR(INDEX(PatientCriteria[UACR達標標準],ROWS($A$4:A13)),""))} | W13: =IF($B13="","",IF($X13="","",IFERROR(SUMIFS(LabData2016[最近一次UACR檢查結果(mg/gm)],LabData2016[比對身分證前六碼],$AX13,LabData2016[最近一次UACR檢查日期],$X13,LabData2016[UACR唯一],1),""))) | X13: {=IF($B13="","",IFERROR(_xlfn.AGGREGATE(14,6,LabData2016[最近一次UACR檢查日期]/((LabData2016[比對身分證前六碼]=$AX13)*(LabData2016[UACR唯一]=1)),1),""))} | Y13: =IF($B13="","",IF($Z13="","",IFERROR(SUMIFS(LabData2016[最近一次UACR檢查結果(mg/gm)],LabData2016[比對身分證前六碼],$AX13,LabData2016[最近一次UACR檢查日期],$Z13,LabData2016[UACR唯一],1),""))) | Z13: {=IF($B13="","",IFERROR(_xlfn.AGGREGATE(14,6,LabData2016[最近一次UACR檢查日期]/((LabData2016[比對身分證前六碼]=$AX13)*(LabData2016[UACR唯一]=1)),2),""))} | AA13: =IF($B13="","",IF(AND(X13<>"",Z13<>""),X13-Z13,"")) | AB13: =IF($B13="","",IF($V13="不適用","不適用",IF($W13="","未檢驗",IF(AND($AJ13+$AK13>=2,$AK13>=1),IF(OR($W13<30,SUMIFS(LabData2016[UACR唯一],LabData2016[比對身分證前六碼],$AX13,LabData2016[最近一次UACR檢查結果(mg/gm)],"<30",LabData2016[最近一次UACR檢查日期],">="&DATE(YEAR(TODAY()),1,1),LabData2016[最近一次UACR檢查日期],"<"&DATE(YEAR(TODAY())+1,1,1))/($AJ13+$AK13)>=0.5),"控制達標",IF(ISNUMBER($Y13),IF(AND($AA13>=84,$W13-$Y13<0),"進步達標","未達標"),"未達標")),"未達標")))) | AC13: =IF($B13="","",IF($AB13="不適用","不適用",IF($AB13="未檢驗","無檢驗資料","全年"&($AJ13+$AK13)&"次／下半年"&$AK13&"次／"&SUMIFS(LabData2016[UACR唯一],LabData2016[比對身分證前六碼],$AX13,LabData2016[最近一次UACR檢查結果(mg/gm)],"<30",LabData2016[最近一次UACR檢查日期],">="&DATE(YEAR(TODAY()),1,1),LabData2016[最近一次UACR檢查日期],"<"&DATE(YEAR(TODAY())+1,1,1))&"/"&($AJ13+$AK13)&"達標"))) | AD13: {=IF($B13="","",IFERROR(INDEX(PatientCriteria[BP檢驗次數達標標準],ROWS($A$4:A13)),""))} | AE13: {=IF($B13="","",_xlfn.LET(_xlpm.bp,LabData2016[最近一次BP檢查日期],_xlpm.ym,IF(ISNUMBER(_xlpm.bp),TEXT(_xlpm.bp,"yyyy-mm"),LEFT(_xlpm.bp,7)),_xlpm.matched,_xlfn._xlws.FILTER(_xlpm.ym,(LabData2016[比對身分證前六碼]=$AX13)*(LabData2016[比對生日西元]=$AY13)*(_xlpm.ym<>"")*(LEFT(_xlpm.ym,4)=TEXT(YEAR(TODAY()),"0")),""),IF(INDEX(_xlpm.matched,1)="",0,ROWS(_xlfn.UNIQUE(_xlpm.matched)))))} | AF13: =IF($B13="","",SUMIFS(LabData2016[HbA1c唯一],LabData2016[比對身分證前六碼],$AX13,LabData2016[最近一次HbA1c檢查日期],">="&DATE(YEAR(TODAY()),1,1),LabData2016[最近一次HbA1c檢查日期],"<"&DATE(YEAR(TODAY()),7,1))) | AG13: =IF($B13="","",SUMIFS(LabData2016[HbA1c唯一],LabData2016[比對身分證前六碼],$AX13,LabData2016[最近一次HbA1c檢查日期],">="&DATE(YEAR(TODAY()),7,1),LabData2016[最近一次HbA1c檢查日期],"<"&DATE(YEAR(TODAY())+1,1,1))) | AH13: =IF($B13="","",SUMIFS(LabData2016[LDL唯一],LabData2016[比對身分證前六碼],$AX13,LabData2016[最近一次LDL檢查日期],">="&DATE(YEAR(TODAY()),1,1),LabData2016[最近一次LDL檢查日期],"<"&DATE(YEAR(TODAY()),7,1))) | AI13: =IF($B13="","",SUMIFS(LabData2016[LDL唯一],LabData2016[比對身分證前六碼],$AX13,LabData2016[最近一次LDL檢查日期],">="&DATE(YEAR(TODAY()),7,1),LabData2016[最近一次LDL檢查日期],"<"&DATE(YEAR(TODAY())+1,1,1))) | AJ13: =IF($B13="","",SUMIFS(LabData2016[UACR唯一],LabData2016[比對身分證前六碼],$AX13,LabData2016[最近一次UACR檢查日期],">="&DATE(YEAR(TODAY()),1,1),LabData2016[最近一次UACR檢查日期],"<"&DATE(YEAR(TODAY()),7,1))) | AK13: =IF($B13="","",SUMIFS(LabData2016[UACR唯一],LabData2016[比對身分證前六碼],$AX13,LabData2016[最近一次UACR檢查日期],">="&DATE(YEAR(TODAY()),7,1),LabData2016[最近一次UACR檢查日期],"<"&DATE(YEAR(TODAY())+1,1,1))) | AL13: =IF($B13="","",IF(NOT(OR($D13="DM only",$D13="DM+CKD",$D13="DM+ASCVD",$D13="CKD+ASCVD",$D13="DM+CKD+ASCVD")),"不適用",IF(AND(IF(OR($D13="DM only",$D13="DM+CKD",$D13="DM+ASCVD",$D13="DM+CKD+ASCVD"),AND($AF13>=1,$AG13>=1),TRUE),AND($AH13>=1,$AI13>=1),IF(OR($D13="DM+CKD",$D13="CKD+ASCVD",$D13="DM+CKD+ASCVD"),AND($AJ13>=1,$AK13>=1),TRUE),OR($AD13="不適用",$AE13>=3)),"達標","未達標"))) | AM13: =IF($B13="","",250) | AN13: =IF($B13="","",30) | AO13: =IF($B13="","",IF(AND($AL13="達標",OR(ISNUMBER(SEARCH("DM",$D13)),ISNUMBER(SEARCH("+",$D13)))),100,0)) | AP13: {=IF($B13="","",IFERROR(INDEX(相容設定!$B$2:$E$9,MATCH($D13,相容設定!$A$2:$A$9,0),MIN(VALUE(LEFT($AQ13,FIND("/",$AQ13)-1)),3)+1),0))} | AQ13: =IF($B13="","",(IF(OR($K13="控制達標",$K13="進步達標"),1,0)+IF(OR($T13="控制達標",$T13="進步達標"),1,0)+IF(OR($AB13="控制達標",$AB13="進步達標"),1,0))&"/"&(IF($K13<>"不適用",1,0)+IF($T13<>"不適用",1,0)+IF($AB13<>"不適用",1,0))) | AR13: =IF($B13="","",AM13+AN13+AO13+AP13) | AS13: =IF($B13="","",250+30+IF(OR(ISNUMBER(SEARCH("DM",$D13)),ISNUMBER(SEARCH("+",$D13))),100,0)+IFERROR(INDEX(相容設定!$F$2:$F$9,MATCH($D13,相容設定!$A$2:$A$9,0)),0)) | AT13: =IF($B13="","",_xlfn.LET(_xlpm.a,--AND($K13<>"",$K13<>"不適用")+--AND($T13<>"",$T13<>"不適用")+--AND($AB13<>"",$AB13<>"不適用"),_xlpm.h,--OR($K13="控制達標",$K13="進步達標",$K13="達標")+--OR($T13="控制達標",$T13="進步達標",$T13="達標")+--OR($AB13="控制達標",$AB13="進步達標",$AB13="達標"),IF(_xlpm.a=0,"",IF(_xlpm.h=_xlpm.a,"🟢",IF(_xlpm.h=0,"🔴","🟡"))))) | AU13: =IF($B13="","",IF($AQ13="0/0","無適用評估項目：依個案狀況常規追蹤",IF($AV13&$AW13="","維持現況並定期追蹤",LEFT($AV13&$AW13,LEN($AV13&$AW13)-1)))) | AV13: =IF($B13="","",IF($K13="未檢驗","HbA1c未檢驗：建議安排檢查；",IF($K13="未達標","HbA1c未達標：建議安排複檢；",""))&IF($T13="未檢驗","LDL未檢驗：建議安排檢查；",IF($T13="未達標","LDL未達標：建議安排複檢；",""))&IF($AB13="未檢驗","UACR未檢驗：建議安排尿液檢查；",IF($AB13="未達標","UACR未達標：建議安排尿液複檢；",""))) | AW13: =IF($B13="","",IF($AL13<>"未達標","",IF(AND($E13<>"不適用",$AF13<1),"HbA1c上半年缺檢：安排檢驗；","")&IF(AND($E13<>"不適用",$AG13<1),"HbA1c下半年缺檢：安排檢驗；","")&IF(AND($M13<>"不適用",$AH13<1),"LDL上半年缺檢：安排檢驗；","")&IF(AND($M13<>"不適用",$AI13<1),"LDL下半年缺檢：安排檢驗；","")&IF(AND($V13<>"不適用",$AJ13<1),"UACR上半年缺檢：安排尿液檢查；","")&IF(AND($V13<>"不適用",$AK13<1),"UACR下半年缺檢：安排尿液檢查；","")&_xlfn.LET(_xlpm.bpNeed,IFERROR(VALUE(SUBSTITUTE($AD13,"次","")),0),IF(AND(_xlpm.bpNeed>0,$AE13<_xlpm.bpNeed),"BP次數不足：尚缺"&(_xlpm.bpNeed-$AE13)&"次；","")))) | AX13: =IF($B13="","",LEFT($B13,6)) | AY13: =IF($C13="","",IF(ISNUMBER($C13),TEXT($C13,"yyyy-mm-dd"),TEXT(DATE(VALUE(LEFT($C13,3))+1911,VALUE(MID($C13,5,2)),VALUE(RIGHT($C13,2))),"yyyy-mm-dd")))
A14: {=IFERROR(IF(INDEX(PatientCriteria[身分證號],ROWS($A$4:A14))="","",ROWS($A$4:A14)),"")} | B14: {=IFERROR(IF(INDEX(PatientCriteria[身分證號],ROWS($A$4:A14))="","",INDEX(PatientCriteria[身分證號],ROWS($A$4:A14))),"")} | C14: {=IF($B14="","",IFERROR(INDEX(PatientCriteria[生日],ROWS($A$4:A14)),""))} | D14: {=IF($B14="","",IFERROR(INDEX(PatientCriteria[疾病組合],ROWS($A$4:A14)),""))} | E14: {=IF($B14="","",IFERROR(INDEX(PatientCriteria[HbA1c達標標準],ROWS($A$4:A14)),""))} | F14: =IF($B14="","",IF($G14="","",IFERROR(SUMIFS(LabData2016[最近一次HbA1c檢查結果(%)],LabData2016[比對身分證前六碼],$AX14,LabData2016[最近一次HbA1c檢查日期],$G14,LabData2016[HbA1c唯一],1),""))) | G14: {=IF($B14="","",IFERROR(_xlfn.AGGREGATE(14,6,LabData2016[最近一次HbA1c檢查日期]/((LabData2016[比對身分證前六碼]=$AX14)*(LabData2016[HbA1c唯一]=1)),1),""))} | H14: =IF($B14="","",IF($I14="","",IFERROR(SUMIFS(LabData2016[最近一次HbA1c檢查結果(%)],LabData2016[比對身分證前六碼],$AX14,LabData2016[最近一次HbA1c檢查日期],$I14,LabData2016[HbA1c唯一],1),""))) | I14: {=IF($B14="","",IFERROR(_xlfn.AGGREGATE(14,6,LabData2016[最近一次HbA1c檢查日期]/((LabData2016[比對身分證前六碼]=$AX14)*(LabData2016[HbA1c唯一]=1)),2),""))} | J14: =IF($B14="","",IF(AND(G14<>"",I14<>""),G14-I14,"")) | K14: =IF($B14="","",IF($E14="不適用","不適用",IF($F14="","未檢驗",IF(AND($AF14+$AG14>=2,$AG14>=1),IF(OR($F14<VALUE(SUBSTITUTE(SUBSTITUTE($E14,"<",""),"%","")),SUMIFS(LabData2016[HbA1c唯一],LabData2016[比對身分證前六碼],$AX14,LabData2016[最近一次HbA1c檢查結果(%)],"<"&VALUE(SUBSTITUTE(SUBSTITUTE($E14,"<",""),"%","")),LabData2016[最近一次HbA1c檢查日期],">="&DATE(YEAR(TODAY()),1,1),LabData2016[最近一次HbA1c檢查日期],"<"&DATE(YEAR(TODAY())+1,1,1))/($AF14+$AG14)>=0.5),"控制達標",IF(ISNUMBER($H14),IF(AND($J14>=84,$F14-$H14<0),"進步達標","未達標"),"未達標")),"未達標")))) | L14: =IF($B14="","",IF($K14="不適用","不適用",IF($K14="未檢驗","無檢驗資料","全年"&($AF14+$AG14)&"次／下半年"&$AG14&"次／"&SUMIFS(LabData2016[HbA1c唯一],LabData2016[比對身分證前六碼],$AX14,LabData2016[最近一次HbA1c檢查結果(%)],"<"&VALUE(SUBSTITUTE(SUBSTITUTE($E14,"<",""),"%","")),LabData2016[最近一次HbA1c檢查日期],">="&DATE(YEAR(TODAY()),1,1),LabData2016[最近一次HbA1c檢查日期],"<"&DATE(YEAR(TODAY())+1,1,1))&"/"&($AF14+$AG14)&"達標"))) | M14: {=IF($B14="","",IFERROR(INDEX(PatientCriteria[LDL達標標準],ROWS($A$4:A14)),""))} | N14: =IF($B14="","",IF($O14="","",IFERROR(SUMIFS(LabData2016[最近一次LDL檢查結果(mg/dL)],LabData2016[比對身分證前六碼],$AX14,LabData2016[最近一次LDL檢查日期],$O14,LabData2016[LDL唯一],1),""))) | O14: {=IF($B14="","",IFERROR(_xlfn.AGGREGATE(14,6,LabData2016[最近一次LDL檢查日期]/((LabData2016[比對身分證前六碼]=$AX14)*(LabData2016[LDL唯一]=1)),1),""))} | P14: =IF($B14="","",IF($Q14="","",IFERROR(SUMIFS(LabData2016[最近一次LDL檢查結果(mg/dL)],LabData2016[比對身分證前六碼],$AX14,LabData2016[最近一次LDL檢查日期],$Q14,LabData2016[LDL唯一],1),""))) | Q14: {=IF($B14="","",IFERROR(_xlfn.AGGREGATE(14,6,LabData2016[最近一次LDL檢查日期]/((LabData2016[比對身分證前六碼]=$AX14)*(LabData2016[LDL唯一]=1)),2),""))} | R14: =IF($B14="","",IF(AND(O14<>"",Q14<>""),O14-Q14,"")) | S14: {=IF($B14="","",IFERROR(_xlfn.AGGREGATE(15,6,LabData2016[最近一次LDL檢查結果(mg/dL)]/((LabData2016[比對身分證前六碼]=$AX14)*(LabData2016[LDL唯一]=1)),1),""))} | T14: =IF($B14="","",IF($M14="不適用","不適用",IF($N14="","未檢驗",IF(OR(AND($D14="DM only",$O14>=DATE(YEAR(TODAY()),1,1),$O14<DATE(YEAR(TODAY())+1,1,1),$N14<VALUE(SUBSTITUTE($M14,"<",""))),AND($AH14>=1,$AI14>=1,OR($N14<VALUE(SUBSTITUTE($M14,"<","")),SUMIFS(LabData2016[LDL唯一],LabData2016[比對身分證前六碼],$AX14,LabData2016[最近一次LDL檢查結果(mg/dL)],"<"&VALUE(SUBSTITUTE($M14,"<","")),LabData2016[最近一次LDL檢查日期],">="&DATE(YEAR(TODAY()),1,1),LabData2016[最近一次LDL檢查日期],"<"&DATE(YEAR(TODAY())+1,1,1))/($AH14+$AI14)>=0.5))),"控制達標",IF(AND($AH14>=1,$AI14>=1,ISNUMBER($P14),$R14>84,$N14-$P14<0),"進步達標","未達標"))))) | U14: =IF($B14="","",IF($T14="不適用","不適用",IF($T14="未檢驗","無檢驗資料","全年"&($AH14+$AI14)&"次／下半年"&$AI14&"次／"&SUMIFS(LabData2016[LDL唯一],LabData2016[比對身分證前六碼],$AX14,LabData2016[最近一次LDL檢查結果(mg/dL)],"<"&VALUE(SUBSTITUTE($M14,"<","")),LabData2016[最近一次LDL檢查日期],">="&DATE(YEAR(TODAY()),1,1),LabData2016[最近一次LDL檢查日期],"<"&DATE(YEAR(TODAY())+1,1,1))&"/"&($AH14+$AI14)&"達標"))) | V14: {=IF($B14="","",IFERROR(INDEX(PatientCriteria[UACR達標標準],ROWS($A$4:A14)),""))} | W14: =IF($B14="","",IF($X14="","",IFERROR(SUMIFS(LabData2016[最近一次UACR檢查結果(mg/gm)],LabData2016[比對身分證前六碼],$AX14,LabData2016[最近一次UACR檢查日期],$X14,LabData2016[UACR唯一],1),""))) | X14: {=IF($B14="","",IFERROR(_xlfn.AGGREGATE(14,6,LabData2016[最近一次UACR檢查日期]/((LabData2016[比對身分證前六碼]=$AX14)*(LabData2016[UACR唯一]=1)),1),""))} | Y14: =IF($B14="","",IF($Z14="","",IFERROR(SUMIFS(LabData2016[最近一次UACR檢查結果(mg/gm)],LabData2016[比對身分證前六碼],$AX14,LabData2016[最近一次UACR檢查日期],$Z14,LabData2016[UACR唯一],1),""))) | Z14: {=IF($B14="","",IFERROR(_xlfn.AGGREGATE(14,6,LabData2016[最近一次UACR檢查日期]/((LabData2016[比對身分證前六碼]=$AX14)*(LabData2016[UACR唯一]=1)),2),""))} | AA14: =IF($B14="","",IF(AND(X14<>"",Z14<>""),X14-Z14,"")) | AB14: =IF($B14="","",IF($V14="不適用","不適用",IF($W14="","未檢驗",IF(AND($AJ14+$AK14>=2,$AK14>=1),IF(OR($W14<30,SUMIFS(LabData2016[UACR唯一],LabData2016[比對身分證前六碼],$AX14,LabData2016[最近一次UACR檢查結果(mg/gm)],"<30",LabData2016[最近一次UACR檢查日期],">="&DATE(YEAR(TODAY()),1,1),LabData2016[最近一次UACR檢查日期],"<"&DATE(YEAR(TODAY())+1,1,1))/($AJ14+$AK14)>=0.5),"控制達標",IF(ISNUMBER($Y14),IF(AND($AA14>=84,$W14-$Y14<0),"進步達標","未達標"),"未達標")),"未達標")))) | AC14: =IF($B14="","",IF($AB14="不適用","不適用",IF($AB14="未檢驗","無檢驗資料","全年"&($AJ14+$AK14)&"次／下半年"&$AK14&"次／"&SUMIFS(LabData2016[UACR唯一],LabData2016[比對身分證前六碼],$AX14,LabData2016[最近一次UACR檢查結果(mg/gm)],"<30",LabData2016[最近一次UACR檢查日期],">="&DATE(YEAR(TODAY()),1,1),LabData2016[最近一次UACR檢查日期],"<"&DATE(YEAR(TODAY())+1,1,1))&"/"&($AJ14+$AK14)&"達標"))) | AD14: {=IF($B14="","",IFERROR(INDEX(PatientCriteria[BP檢驗次數達標標準],ROWS($A$4:A14)),""))} | AE14: {=IF($B14="","",_xlfn.LET(_xlpm.bp,LabData2016[最近一次BP檢查日期],_xlpm.ym,IF(ISNUMBER(_xlpm.bp),TEXT(_xlpm.bp,"yyyy-mm"),LEFT(_xlpm.bp,7)),_xlpm.matched,_xlfn._xlws.FILTER(_xlpm.ym,(LabData2016[比對身分證前六碼]=$AX14)*(LabData2016[比對生日西元]=$AY14)*(_xlpm.ym<>"")*(LEFT(_xlpm.ym,4)=TEXT(YEAR(TODAY()),"0")),""),IF(INDEX(_xlpm.matched,1)="",0,ROWS(_xlfn.UNIQUE(_xlpm.matched)))))} | AF14: =IF($B14="","",SUMIFS(LabData2016[HbA1c唯一],LabData2016[比對身分證前六碼],$AX14,LabData2016[最近一次HbA1c檢查日期],">="&DATE(YEAR(TODAY()),1,1),LabData2016[最近一次HbA1c檢查日期],"<"&DATE(YEAR(TODAY()),7,1))) | AG14: =IF($B14="","",SUMIFS(LabData2016[HbA1c唯一],LabData2016[比對身分證前六碼],$AX14,LabData2016[最近一次HbA1c檢查日期],">="&DATE(YEAR(TODAY()),7,1),LabData2016[最近一次HbA1c檢查日期],"<"&DATE(YEAR(TODAY())+1,1,1))) | AH14: =IF($B14="","",SUMIFS(LabData2016[LDL唯一],LabData2016[比對身分證前六碼],$AX14,LabData2016[最近一次LDL檢查日期],">="&DATE(YEAR(TODAY()),1,1),LabData2016[最近一次LDL檢查日期],"<"&DATE(YEAR(TODAY()),7,1))) | AI14: =IF($B14="","",SUMIFS(LabData2016[LDL唯一],LabData2016[比對身分證前六碼],$AX14,LabData2016[最近一次LDL檢查日期],">="&DATE(YEAR(TODAY()),7,1),LabData2016[最近一次LDL檢查日期],"<"&DATE(YEAR(TODAY())+1,1,1))) | AJ14: =IF($B14="","",SUMIFS(LabData2016[UACR唯一],LabData2016[比對身分證前六碼],$AX14,LabData2016[最近一次UACR檢查日期],">="&DATE(YEAR(TODAY()),1,1),LabData2016[最近一次UACR檢查日期],"<"&DATE(YEAR(TODAY()),7,1))) | AK14: =IF($B14="","",SUMIFS(LabData2016[UACR唯一],LabData2016[比對身分證前六碼],$AX14,LabData2016[最近一次UACR檢查日期],">="&DATE(YEAR(TODAY()),7,1),LabData2016[最近一次UACR檢查日期],"<"&DATE(YEAR(TODAY())+1,1,1))) | AL14: =IF($B14="","",IF(NOT(OR($D14="DM only",$D14="DM+CKD",$D14="DM+ASCVD",$D14="CKD+ASCVD",$D14="DM+CKD+ASCVD")),"不適用",IF(AND(IF(OR($D14="DM only",$D14="DM+CKD",$D14="DM+ASCVD",$D14="DM+CKD+ASCVD"),AND($AF14>=1,$AG14>=1),TRUE),AND($AH14>=1,$AI14>=1),IF(OR($D14="DM+CKD",$D14="CKD+ASCVD",$D14="DM+CKD+ASCVD"),AND($AJ14>=1,$AK14>=1),TRUE),OR($AD14="不適用",$AE14>=3)),"達標","未達標"))) | AM14: =IF($B14="","",250) | AN14: =IF($B14="","",30) | AO14: =IF($B14="","",IF(AND($AL14="達標",OR(ISNUMBER(SEARCH("DM",$D14)),ISNUMBER(SEARCH("+",$D14)))),100,0)) | AP14: {=IF($B14="","",IFERROR(INDEX(相容設定!$B$2:$E$9,MATCH($D14,相容設定!$A$2:$A$9,0),MIN(VALUE(LEFT($AQ14,FIND("/",$AQ14)-1)),3)+1),0))} | AQ14: =IF($B14="","",(IF(OR($K14="控制達標",$K14="進步達標"),1,0)+IF(OR($T14="控制達標",$T14="進步達標"),1,0)+IF(OR($AB14="控制達標",$AB14="進步達標"),1,0))&"/"&(IF($K14<>"不適用",1,0)+IF($T14<>"不適用",1,0)+IF($AB14<>"不適用",1,0))) | AR14: =IF($B14="","",AM14+AN14+AO14+AP14) | AS14: =IF($B14="","",250+30+IF(OR(ISNUMBER(SEARCH("DM",$D14)),ISNUMBER(SEARCH("+",$D14))),100,0)+IFERROR(INDEX(相容設定!$F$2:$F$9,MATCH($D14,相容設定!$A$2:$A$9,0)),0)) | AT14: =IF($B14="","",_xlfn.LET(_xlpm.a,--AND($K14<>"",$K14<>"不適用")+--AND($T14<>"",$T14<>"不適用")+--AND($AB14<>"",$AB14<>"不適用"),_xlpm.h,--OR($K14="控制達標",$K14="進步達標",$K14="達標")+--OR($T14="控制達標",$T14="進步達標",$T14="達標")+--OR($AB14="控制達標",$AB14="進步達標",$AB14="達標"),IF(_xlpm.a=0,"",IF(_xlpm.h=_xlpm.a,"🟢",IF(_xlpm.h=0,"🔴","🟡"))))) | AU14: =IF($B14="","",IF($AQ14="0/0","無適用評估項目：依個案狀況常規追蹤",IF($AV14&$AW14="","維持現況並定期追蹤",LEFT($AV14&$AW14,LEN($AV14&$AW14)-1)))) | AV14: =IF($B14="","",IF($K14="未檢驗","HbA1c未檢驗：建議安排檢查；",IF($K14="未達標","HbA1c未達標：建議安排複檢；",""))&IF($T14="未檢驗","LDL未檢驗：建議安排檢查；",IF($T14="未達標","LDL未達標：建議安排複檢；",""))&IF($AB14="未檢驗","UACR未檢驗：建議安排尿液檢查；",IF($AB14="未達標","UACR未達標：建議安排尿液複檢；",""))) | AW14: =IF($B14="","",IF($AL14<>"未達標","",IF(AND($E14<>"不適用",$AF14<1),"HbA1c上半年缺檢：安排檢驗；","")&IF(AND($E14<>"不適用",$AG14<1),"HbA1c下半年缺檢：安排檢驗；","")&IF(AND($M14<>"不適用",$AH14<1),"LDL上半年缺檢：安排檢驗；","")&IF(AND($M14<>"不適用",$AI14<1),"LDL下半年缺檢：安排檢驗；","")&IF(AND($V14<>"不適用",$AJ14<1),"UACR上半年缺檢：安排尿液檢查；","")&IF(AND($V14<>"不適用",$AK14<1),"UACR下半年缺檢：安排尿液檢查；","")&_xlfn.LET(_xlpm.bpNeed,IFERROR(VALUE(SUBSTITUTE($AD14,"次","")),0),IF(AND(_xlpm.bpNeed>0,$AE14<_xlpm.bpNeed),"BP次數不足：尚缺"&(_xlpm.bpNeed-$AE14)&"次；","")))) | AX14: =IF($B14="","",LEFT($B14,6)) | AY14: =IF($C14="","",IF(ISNUMBER($C14),TEXT($C14,"yyyy-mm-dd"),TEXT(DATE(VALUE(LEFT($C14,3))+1911,VALUE(MID($C14,5,2)),VALUE(RIGHT($C14,2))),"yyyy-mm-dd")))
A15: {=IFERROR(IF(INDEX(PatientCriteria[身分證號],ROWS($A$4:A15))="","",ROWS($A$4:A15)),"")} | B15: {=IFERROR(IF(INDEX(PatientCriteria[身分證號],ROWS($A$4:A15))="","",INDEX(PatientCriteria[身分證號],ROWS($A$4:A15))),"")} | C15: {=IF($B15="","",IFERROR(INDEX(PatientCriteria[生日],ROWS($A$4:A15)),""))} | D15: {=IF($B15="","",IFERROR(INDEX(PatientCriteria[疾病組合],ROWS($A$4:A15)),""))} | E15: {=IF($B15="","",IFERROR(INDEX(PatientCriteria[HbA1c達標標準],ROWS($A$4:A15)),""))} | F15: =IF($B15="","",IF($G15="","",IFERROR(SUMIFS(LabData2016[最近一次HbA1c檢查結果(%)],LabData2016[比對身分證前六碼],$AX15,LabData2016[最近一次HbA1c檢查日期],$G15,LabData2016[HbA1c唯一],1),""))) | G15: {=IF($B15="","",IFERROR(_xlfn.AGGREGATE(14,6,LabData2016[最近一次HbA1c檢查日期]/((LabData2016[比對身分證前六碼]=$AX15)*(LabData2016[HbA1c唯一]=1)),1),""))} | H15: =IF($B15="","",IF($I15="","",IFERROR(SUMIFS(LabData2016[最近一次HbA1c檢查結果(%)],LabData2016[比對身分證前六碼],$AX15,LabData2016[最近一次HbA1c檢查日期],$I15,LabData2016[HbA1c唯一],1),""))) | I15: {=IF($B15="","",IFERROR(_xlfn.AGGREGATE(14,6,LabData2016[最近一次HbA1c檢查日期]/((LabData2016[比對身分證前六碼]=$AX15)*(LabData2016[HbA1c唯一]=1)),2),""))} | J15: =IF($B15="","",IF(AND(G15<>"",I15<>""),G15-I15,"")) | K15: =IF($B15="","",IF($E15="不適用","不適用",IF($F15="","未檢驗",IF(AND($AF15+$AG15>=2,$AG15>=1),IF(OR($F15<VALUE(SUBSTITUTE(SUBSTITUTE($E15,"<",""),"%","")),SUMIFS(LabData2016[HbA1c唯一],LabData2016[比對身分證前六碼],$AX15,LabData2016[最近一次HbA1c檢查結果(%)],"<"&VALUE(SUBSTITUTE(SUBSTITUTE($E15,"<",""),"%","")),LabData2016[最近一次HbA1c檢查日期],">="&DATE(YEAR(TODAY()),1,1),LabData2016[最近一次HbA1c檢查日期],"<"&DATE(YEAR(TODAY())+1,1,1))/($AF15+$AG15)>=0.5),"控制達標",IF(ISNUMBER($H15),IF(AND($J15>=84,$F15-$H15<0),"進步達標","未達標"),"未達標")),"未達標")))) | L15: =IF($B15="","",IF($K15="不適用","不適用",IF($K15="未檢驗","無檢驗資料","全年"&($AF15+$AG15)&"次／下半年"&$AG15&"次／"&SUMIFS(LabData2016[HbA1c唯一],LabData2016[比對身分證前六碼],$AX15,LabData2016[最近一次HbA1c檢查結果(%)],"<"&VALUE(SUBSTITUTE(SUBSTITUTE($E15,"<",""),"%","")),LabData2016[最近一次HbA1c檢查日期],">="&DATE(YEAR(TODAY()),1,1),LabData2016[最近一次HbA1c檢查日期],"<"&DATE(YEAR(TODAY())+1,1,1))&"/"&($AF15+$AG15)&"達標"))) | M15: {=IF($B15="","",IFERROR(INDEX(PatientCriteria[LDL達標標準],ROWS($A$4:A15)),""))} | N15: =IF($B15="","",IF($O15="","",IFERROR(SUMIFS(LabData2016[最近一次LDL檢查結果(mg/dL)],LabData2016[比對身分證前六碼],$AX15,LabData2016[最近一次LDL檢查日期],$O15,LabData2016[LDL唯一],1),""))) | O15: {=IF($B15="","",IFERROR(_xlfn.AGGREGATE(14,6,LabData2016[最近一次LDL檢查日期]/((LabData2016[比對身分證前六碼]=$AX15)*(LabData2016[LDL唯一]=1)),1),""))} | P15: =IF($B15="","",IF($Q15="","",IFERROR(SUMIFS(LabData2016[最近一次LDL檢查結果(mg/dL)],LabData2016[比對身分證前六碼],$AX15,LabData2016[最近一次LDL檢查日期],$Q15,LabData2016[LDL唯一],1),""))) | Q15: {=IF($B15="","",IFERROR(_xlfn.AGGREGATE(14,6,LabData2016[最近一次LDL檢查日期]/((LabData2016[比對身分證前六碼]=$AX15)*(LabData2016[LDL唯一]=1)),2),""))} | R15: =IF($B15="","",IF(AND(O15<>"",Q15<>""),O15-Q15,"")) | S15: {=IF($B15="","",IFERROR(_xlfn.AGGREGATE(15,6,LabData2016[最近一次LDL檢查結果(mg/dL)]/((LabData2016[比對身分證前六碼]=$AX15)*(LabData2016[LDL唯一]=1)),1),""))} | T15: =IF($B15="","",IF($M15="不適用","不適用",IF($N15="","未檢驗",IF(OR(AND($D15="DM only",$O15>=DATE(YEAR(TODAY()),1,1),$O15<DATE(YEAR(TODAY())+1,1,1),$N15<VALUE(SUBSTITUTE($M15,"<",""))),AND($AH15>=1,$AI15>=1,OR($N15<VALUE(SUBSTITUTE($M15,"<","")),SUMIFS(LabData2016[LDL唯一],LabData2016[比對身分證前六碼],$AX15,LabData2016[最近一次LDL檢查結果(mg/dL)],"<"&VALUE(SUBSTITUTE($M15,"<","")),LabData2016[最近一次LDL檢查日期],">="&DATE(YEAR(TODAY()),1,1),LabData2016[最近一次LDL檢查日期],"<"&DATE(YEAR(TODAY())+1,1,1))/($AH15+$AI15)>=0.5))),"控制達標",IF(AND($AH15>=1,$AI15>=1,ISNUMBER($P15),$R15>84,$N15-$P15<0),"進步達標","未達標"))))) | U15: =IF($B15="","",IF($T15="不適用","不適用",IF($T15="未檢驗","無檢驗資料","全年"&($AH15+$AI15)&"次／下半年"&$AI15&"次／"&SUMIFS(LabData2016[LDL唯一],LabData2016[比對身分證前六碼],$AX15,LabData2016[最近一次LDL檢查結果(mg/dL)],"<"&VALUE(SUBSTITUTE($M15,"<","")),LabData2016[最近一次LDL檢查日期],">="&DATE(YEAR(TODAY()),1,1),LabData2016[最近一次LDL檢查日期],"<"&DATE(YEAR(TODAY())+1,1,1))&"/"&($AH15+$AI15)&"達標"))) | V15: {=IF($B15="","",IFERROR(INDEX(PatientCriteria[UACR達標標準],ROWS($A$4:A15)),""))} | W15: =IF($B15="","",IF($X15="","",IFERROR(SUMIFS(LabData2016[最近一次UACR檢查結果(mg/gm)],LabData2016[比對身分證前六碼],$AX15,LabData2016[最近一次UACR檢查日期],$X15,LabData2016[UACR唯一],1),""))) | X15: {=IF($B15="","",IFERROR(_xlfn.AGGREGATE(14,6,LabData2016[最近一次UACR檢查日期]/((LabData2016[比對身分證前六碼]=$AX15)*(LabData2016[UACR唯一]=1)),1),""))} | Y15: =IF($B15="","",IF($Z15="","",IFERROR(SUMIFS(LabData2016[最近一次UACR檢查結果(mg/gm)],LabData2016[比對身分證前六碼],$AX15,LabData2016[最近一次UACR檢查日期],$Z15,LabData2016[UACR唯一],1),""))) | Z15: {=IF($B15="","",IFERROR(_xlfn.AGGREGATE(14,6,LabData2016[最近一次UACR檢查日期]/((LabData2016[比對身分證前六碼]=$AX15)*(LabData2016[UACR唯一]=1)),2),""))} | AA15: =IF($B15="","",IF(AND(X15<>"",Z15<>""),X15-Z15,"")) | AB15: =IF($B15="","",IF($V15="不適用","不適用",IF($W15="","未檢驗",IF(AND($AJ15+$AK15>=2,$AK15>=1),IF(OR($W15<30,SUMIFS(LabData2016[UACR唯一],LabData2016[比對身分證前六碼],$AX15,LabData2016[最近一次UACR檢查結果(mg/gm)],"<30",LabData2016[最近一次UACR檢查日期],">="&DATE(YEAR(TODAY()),1,1),LabData2016[最近一次UACR檢查日期],"<"&DATE(YEAR(TODAY())+1,1,1))/($AJ15+$AK15)>=0.5),"控制達標",IF(ISNUMBER($Y15),IF(AND($AA15>=84,$W15-$Y15<0),"進步達標","未達標"),"未達標")),"未達標")))) | AC15: =IF($B15="","",IF($AB15="不適用","不適用",IF($AB15="未檢驗","無檢驗資料","全年"&($AJ15+$AK15)&"次／下半年"&$AK15&"次／"&SUMIFS(LabData2016[UACR唯一],LabData2016[比對身分證前六碼],$AX15,LabData2016[最近一次UACR檢查結果(mg/gm)],"<30",LabData2016[最近一次UACR檢查日期],">="&DATE(YEAR(TODAY()),1,1),LabData2016[最近一次UACR檢查日期],"<"&DATE(YEAR(TODAY())+1,1,1))&"/"&($AJ15+$AK15)&"達標"))) | AD15: {=IF($B15="","",IFERROR(INDEX(PatientCriteria[BP檢驗次數達標標準],ROWS($A$4:A15)),""))} | AE15: {=IF($B15="","",_xlfn.LET(_xlpm.bp,LabData2016[最近一次BP檢查日期],_xlpm.ym,IF(ISNUMBER(_xlpm.bp),TEXT(_xlpm.bp,"yyyy-mm"),LEFT(_xlpm.bp,7)),_xlpm.matched,_xlfn._xlws.FILTER(_xlpm.ym,(LabData2016[比對身分證前六碼]=$AX15)*(LabData2016[比對生日西元]=$AY15)*(_xlpm.ym<>"")*(LEFT(_xlpm.ym,4)=TEXT(YEAR(TODAY()),"0")),""),IF(INDEX(_xlpm.matched,1)="",0,ROWS(_xlfn.UNIQUE(_xlpm.matched)))))} | AF15: =IF($B15="","",SUMIFS(LabData2016[HbA1c唯一],LabData2016[比對身分證前六碼],$AX15,LabData2016[最近一次HbA1c檢查日期],">="&DATE(YEAR(TODAY()),1,1),LabData2016[最近一次HbA1c檢查日期],"<"&DATE(YEAR(TODAY()),7,1))) | AG15: =IF($B15="","",SUMIFS(LabData2016[HbA1c唯一],LabData2016[比對身分證前六碼],$AX15,LabData2016[最近一次HbA1c檢查日期],">="&DATE(YEAR(TODAY()),7,1),LabData2016[最近一次HbA1c檢查日期],"<"&DATE(YEAR(TODAY())+1,1,1))) | AH15: =IF($B15="","",SUMIFS(LabData2016[LDL唯一],LabData2016[比對身分證前六碼],$AX15,LabData2016[最近一次LDL檢查日期],">="&DATE(YEAR(TODAY()),1,1),LabData2016[最近一次LDL檢查日期],"<"&DATE(YEAR(TODAY()),7,1))) | AI15: =IF($B15="","",SUMIFS(LabData2016[LDL唯一],LabData2016[比對身分證前六碼],$AX15,LabData2016[最近一次LDL檢查日期],">="&DATE(YEAR(TODAY()),7,1),LabData2016[最近一次LDL檢查日期],"<"&DATE(YEAR(TODAY())+1,1,1))) | AJ15: =IF($B15="","",SUMIFS(LabData2016[UACR唯一],LabData2016[比對身分證前六碼],$AX15,LabData2016[最近一次UACR檢查日期],">="&DATE(YEAR(TODAY()),1,1),LabData2016[最近一次UACR檢查日期],"<"&DATE(YEAR(TODAY()),7,1))) | AK15: =IF($B15="","",SUMIFS(LabData2016[UACR唯一],LabData2016[比對身分證前六碼],$AX15,LabData2016[最近一次UACR檢查日期],">="&DATE(YEAR(TODAY()),7,1),LabData2016[最近一次UACR檢查日期],"<"&DATE(YEAR(TODAY())+1,1,1))) | AL15: =IF($B15="","",IF(NOT(OR($D15="DM only",$D15="DM+CKD",$D15="DM+ASCVD",$D15="CKD+ASCVD",$D15="DM+CKD+ASCVD")),"不適用",IF(AND(IF(OR($D15="DM only",$D15="DM+CKD",$D15="DM+ASCVD",$D15="DM+CKD+ASCVD"),AND($AF15>=1,$AG15>=1),TRUE),AND($AH15>=1,$AI15>=1),IF(OR($D15="DM+CKD",$D15="CKD+ASCVD",$D15="DM+CKD+ASCVD"),AND($AJ15>=1,$AK15>=1),TRUE),OR($AD15="不適用",$AE15>=3)),"達標","未達標"))) | AM15: =IF($B15="","",250) | AN15: =IF($B15="","",30) | AO15: =IF($B15="","",IF(AND($AL15="達標",OR(ISNUMBER(SEARCH("DM",$D15)),ISNUMBER(SEARCH("+",$D15)))),100,0)) | AP15: {=IF($B15="","",IFERROR(INDEX(相容設定!$B$2:$E$9,MATCH($D15,相容設定!$A$2:$A$9,0),MIN(VALUE(LEFT($AQ15,FIND("/",$AQ15)-1)),3)+1),0))} | AQ15: =IF($B15="","",(IF(OR($K15="控制達標",$K15="進步達標"),1,0)+IF(OR($T15="控制達標",$T15="進步達標"),1,0)+IF(OR($AB15="控制達標",$AB15="進步達標"),1,0))&"/"&(IF($K15<>"不適用",1,0)+IF($T15<>"不適用",1,0)+IF($AB15<>"不適用",1,0))) | AR15: =IF($B15="","",AM15+AN15+AO15+AP15) | AS15: =IF($B15="","",250+30+IF(OR(ISNUMBER(SEARCH("DM",$D15)),ISNUMBER(SEARCH("+",$D15))),100,0)+IFERROR(INDEX(相容設定!$F$2:$F$9,MATCH($D15,相容設定!$A$2:$A$9,0)),0)) | AT15: =IF($B15="","",_xlfn.LET(_xlpm.a,--AND($K15<>"",$K15<>"不適用")+--AND($T15<>"",$T15<>"不適用")+--AND($AB15<>"",$AB15<>"不適用"),_xlpm.h,--OR($K15="控制達標",$K15="進步達標",$K15="達標")+--OR($T15="控制達標",$T15="進步達標",$T15="達標")+--OR($AB15="控制達標",$AB15="進步達標",$AB15="達標"),IF(_xlpm.a=0,"",IF(_xlpm.h=_xlpm.a,"🟢",IF(_xlpm.h=0,"🔴","🟡"))))) | AU15: =IF($B15="","",IF($AQ15="0/0","無適用評估項目：依個案狀況常規追蹤",IF($AV15&$AW15="","維持現況並定期追蹤",LEFT($AV15&$AW15,LEN($AV15&$AW15)-1)))) | AV15: =IF($B15="","",IF($K15="未檢驗","HbA1c未檢驗：建議安排檢查；",IF($K15="未達標","HbA1c未達標：建議安排複檢；",""))&IF($T15="未檢驗","LDL未檢驗：建議安排檢查；",IF($T15="未達標","LDL未達標：建議安排複檢；",""))&IF($AB15="未檢驗","UACR未檢驗：建議安排尿液檢查；",IF($AB15="未達標","UACR未達標：建議安排尿液複檢；",""))) | AW15: =IF($B15="","",IF($AL15<>"未達標","",IF(AND($E15<>"不適用",$AF15<1),"HbA1c上半年缺檢：安排檢驗；","")&IF(AND($E15<>"不適用",$AG15<1),"HbA1c下半年缺檢：安排檢驗；","")&IF(AND($M15<>"不適用",$AH15<1),"LDL上半年缺檢：安排檢驗；","")&IF(AND($M15<>"不適用",$AI15<1),"LDL下半年缺檢：安排檢驗；","")&IF(AND($V15<>"不適用",$AJ15<1),"UACR上半年缺檢：安排尿液檢查；","")&IF(AND($V15<>"不適用",$AK15<1),"UACR下半年缺檢：安排尿液檢查；","")&_xlfn.LET(_xlpm.bpNeed,IFERROR(VALUE(SUBSTITUTE($AD15,"次","")),0),IF(AND(_xlpm.bpNeed>0,$AE15<_xlpm.bpNeed),"BP次數不足：尚缺"&(_xlpm.bpNeed-$AE15)&"次；","")))) | AX15: =IF($B15="","",LEFT($B15,6)) | AY15: =IF($C15="","",IF(ISNUMBER($C15),TEXT($C15,"yyyy-mm-dd"),TEXT(DATE(VALUE(LEFT($C15,3))+1911,VALUE(MID($C15,5,2)),VALUE(RIGHT($C15,2))),"yyyy-mm-dd")))
A16: {=IFERROR(IF(INDEX(PatientCriteria[身分證號],ROWS($A$4:A16))="","",ROWS($A$4:A16)),"")} | B16: {=IFERROR(IF(INDEX(PatientCriteria[身分證號],ROWS($A$4:A16))="","",INDEX(PatientCriteria[身分證號],ROWS($A$4:A16))),"")} | C16: {=IF($B16="","",IFERROR(INDEX(PatientCriteria[生日],ROWS($A$4:A16)),""))} | D16: {=IF($B16="","",IFERROR(INDEX(PatientCriteria[疾病組合],ROWS($A$4:A16)),""))} | E16: {=IF($B16="","",IFERROR(INDEX(PatientCriteria[HbA1c達標標準],ROWS($A$4:A16)),""))} | F16: =IF($B16="","",IF($G16="","",IFERROR(SUMIFS(LabData2016[最近一次HbA1c檢查結果(%)],LabData2016[比對身分證前六碼],$AX16,LabData2016[最近一次HbA1c檢查日期],$G16,LabData2016[HbA1c唯一],1),""))) | G16: {=IF($B16="","",IFERROR(_xlfn.AGGREGATE(14,6,LabData2016[最近一次HbA1c檢查日期]/((LabData2016[比對身分證前六碼]=$AX16)*(LabData2016[HbA1c唯一]=1)),1),""))} | H16: =IF($B16="","",IF($I16="","",IFERROR(SUMIFS(LabData2016[最近一次HbA1c檢查結果(%)],LabData2016[比對身分證前六碼],$AX16,LabData2016[最近一次HbA1c檢查日期],$I16,LabData2016[HbA1c唯一],1),""))) | I16: {=IF($B16="","",IFERROR(_xlfn.AGGREGATE(14,6,LabData2016[最近一次HbA1c檢查日期]/((LabData2016[比對身分證前六碼]=$AX16)*(LabData2016[HbA1c唯一]=1)),2),""))} | J16: =IF($B16="","",IF(AND(G16<>"",I16<>""),G16-I16,"")) | K16: =IF($B16="","",IF($E16="不適用","不適用",IF($F16="","未檢驗",IF(AND($AF16+$AG16>=2,$AG16>=1),IF(OR($F16<VALUE(SUBSTITUTE(SUBSTITUTE($E16,"<",""),"%","")),SUMIFS(LabData2016[HbA1c唯一],LabData2016[比對身分證前六碼],$AX16,LabData2016[最近一次HbA1c檢查結果(%)],"<"&VALUE(SUBSTITUTE(SUBSTITUTE($E16,"<",""),"%","")),LabData2016[最近一次HbA1c檢查日期],">="&DATE(YEAR(TODAY()),1,1),LabData2016[最近一次HbA1c檢查日期],"<"&DATE(YEAR(TODAY())+1,1,1))/($AF16+$AG16)>=0.5),"控制達標",IF(ISNUMBER($H16),IF(AND($J16>=84,$F16-$H16<0),"進步達標","未達標"),"未達標")),"未達標")))) | L16: =IF($B16="","",IF($K16="不適用","不適用",IF($K16="未檢驗","無檢驗資料","全年"&($AF16+$AG16)&"次／下半年"&$AG16&"次／"&SUMIFS(LabData2016[HbA1c唯一],LabData2016[比對身分證前六碼],$AX16,LabData2016[最近一次HbA1c檢查結果(%)],"<"&VALUE(SUBSTITUTE(SUBSTITUTE($E16,"<",""),"%","")),LabData2016[最近一次HbA1c檢查日期],">="&DATE(YEAR(TODAY()),1,1),LabData2016[最近一次HbA1c檢查日期],"<"&DATE(YEAR(TODAY())+1,1,1))&"/"&($AF16+$AG16)&"達標"))) | M16: {=IF($B16="","",IFERROR(INDEX(PatientCriteria[LDL達標標準],ROWS($A$4:A16)),""))} | N16: =IF($B16="","",IF($O16="","",IFERROR(SUMIFS(LabData2016[最近一次LDL檢查結果(mg/dL)],LabData2016[比對身分證前六碼],$AX16,LabData2016[最近一次LDL檢查日期],$O16,LabData2016[LDL唯一],1),""))) | O16: {=IF($B16="","",IFERROR(_xlfn.AGGREGATE(14,6,LabData2016[最近一次LDL檢查日期]/((LabData2016[比對身分證前六碼]=$AX16)*(LabData2016[LDL唯一]=1)),1),""))} | P16: =IF($B16="","",IF($Q16="","",IFERROR(SUMIFS(LabData2016[最近一次LDL檢查結果(mg/dL)],LabData2016[比對身分證前六碼],$AX16,LabData2016[最近一次LDL檢查日期],$Q16,LabData2016[LDL唯一],1),""))) | Q16: {=IF($B16="","",IFERROR(_xlfn.AGGREGATE(14,6,LabData2016[最近一次LDL檢查日期]/((LabData2016[比對身分證前六碼]=$AX16)*(LabData2016[LDL唯一]=1)),2),""))} | R16: =IF($B16="","",IF(AND(O16<>"",Q16<>""),O16-Q16,"")) | S16: {=IF($B16="","",IFERROR(_xlfn.AGGREGATE(15,6,LabData2016[最近一次LDL檢查結果(mg/dL)]/((LabData2016[比對身分證前六碼]=$AX16)*(LabData2016[LDL唯一]=1)),1),""))} | T16: =IF($B16="","",IF($M16="不適用","不適用",IF($N16="","未檢驗",IF(OR(AND($D16="DM only",$O16>=DATE(YEAR(TODAY()),1,1),$O16<DATE(YEAR(TODAY())+1,1,1),$N16<VALUE(SUBSTITUTE($M16,"<",""))),AND($AH16>=1,$AI16>=1,OR($N16<VALUE(SUBSTITUTE($M16,"<","")),SUMIFS(LabData2016[LDL唯一],LabData2016[比對身分證前六碼],$AX16,LabData2016[最近一次LDL檢查結果(mg/dL)],"<"&VALUE(SUBSTITUTE($M16,"<","")),LabData2016[最近一次LDL檢查日期],">="&DATE(YEAR(TODAY()),1,1),LabData2016[最近一次LDL檢查日期],"<"&DATE(YEAR(TODAY())+1,1,1))/($AH16+$AI16)>=0.5))),"控制達標",IF(AND($AH16>=1,$AI16>=1,ISNUMBER($P16),$R16>84,$N16-$P16<0),"進步達標","未達標"))))) | U16: =IF($B16="","",IF($T16="不適用","不適用",IF($T16="未檢驗","無檢驗資料","全年"&($AH16+$AI16)&"次／下半年"&$AI16&"次／"&SUMIFS(LabData2016[LDL唯一],LabData2016[比對身分證前六碼],$AX16,LabData2016[最近一次LDL檢查結果(mg/dL)],"<"&VALUE(SUBSTITUTE($M16,"<","")),LabData2016[最近一次LDL檢查日期],">="&DATE(YEAR(TODAY()),1,1),LabData2016[最近一次LDL檢查日期],"<"&DATE(YEAR(TODAY())+1,1,1))&"/"&($AH16+$AI16)&"達標"))) | V16: {=IF($B16="","",IFERROR(INDEX(PatientCriteria[UACR達標標準],ROWS($A$4:A16)),""))} | W16: =IF($B16="","",IF($X16="","",IFERROR(SUMIFS(LabData2016[最近一次UACR檢查結果(mg/gm)],LabData2016[比對身分證前六碼],$AX16,LabData2016[最近一次UACR檢查日期],$X16,LabData2016[UACR唯一],1),""))) | X16: {=IF($B16="","",IFERROR(_xlfn.AGGREGATE(14,6,LabData2016[最近一次UACR檢查日期]/((LabData2016[比對身分證前六碼]=$AX16)*(LabData2016[UACR唯一]=1)),1),""))} | Y16: =IF($B16="","",IF($Z16="","",IFERROR(SUMIFS(LabData2016[最近一次UACR檢查結果(mg/gm)],LabData2016[比對身分證前六碼],$AX16,LabData2016[最近一次UACR檢查日期],$Z16,LabData2016[UACR唯一],1),""))) | Z16: {=IF($B16="","",IFERROR(_xlfn.AGGREGATE(14,6,LabData2016[最近一次UACR檢查日期]/((LabData2016[比對身分證前六碼]=$AX16)*(LabData2016[UACR唯一]=1)),2),""))} | AA16: =IF($B16="","",IF(AND(X16<>"",Z16<>""),X16-Z16,"")) | AB16: =IF($B16="","",IF($V16="不適用","不適用",IF($W16="","未檢驗",IF(AND($AJ16+$AK16>=2,$AK16>=1),IF(OR($W16<30,SUMIFS(LabData2016[UACR唯一],LabData2016[比對身分證前六碼],$AX16,LabData2016[最近一次UACR檢查結果(mg/gm)],"<30",LabData2016[最近一次UACR檢查日期],">="&DATE(YEAR(TODAY()),1,1),LabData2016[最近一次UACR檢查日期],"<"&DATE(YEAR(TODAY())+1,1,1))/($AJ16+$AK16)>=0.5),"控制達標",IF(ISNUMBER($Y16),IF(AND($AA16>=84,$W16-$Y16<0),"進步達標","未達標"),"未達標")),"未達標")))) | AC16: =IF($B16="","",IF($AB16="不適用","不適用",IF($AB16="未檢驗","無檢驗資料","全年"&($AJ16+$AK16)&"次／下半年"&$AK16&"次／"&SUMIFS(LabData2016[UACR唯一],LabData2016[比對身分證前六碼],$AX16,LabData2016[最近一次UACR檢查結果(mg/gm)],"<30",LabData2016[最近一次UACR檢查日期],">="&DATE(YEAR(TODAY()),1,1),LabData2016[最近一次UACR檢查日期],"<"&DATE(YEAR(TODAY())+1,1,1))&"/"&($AJ16+$AK16)&"達標"))) | AD16: {=IF($B16="","",IFERROR(INDEX(PatientCriteria[BP檢驗次數達標標準],ROWS($A$4:A16)),""))} | AE16: {=IF($B16="","",_xlfn.LET(_xlpm.bp,LabData2016[最近一次BP檢查日期],_xlpm.ym,IF(ISNUMBER(_xlpm.bp),TEXT(_xlpm.bp,"yyyy-mm"),LEFT(_xlpm.bp,7)),_xlpm.matched,_xlfn._xlws.FILTER(_xlpm.ym,(LabData2016[比對身分證前六碼]=$AX16)*(LabData2016[比對生日西元]=$AY16)*(_xlpm.ym<>"")*(LEFT(_xlpm.ym,4)=TEXT(YEAR(TODAY()),"0")),""),IF(INDEX(_xlpm.matched,1)="",0,ROWS(_xlfn.UNIQUE(_xlpm.matched)))))} | AF16: =IF($B16="","",SUMIFS(LabData2016[HbA1c唯一],LabData2016[比對身分證前六碼],$AX16,LabData2016[最近一次HbA1c檢查日期],">="&DATE(YEAR(TODAY()),1,1),LabData2016[最近一次HbA1c檢查日期],"<"&DATE(YEAR(TODAY()),7,1))) | AG16: =IF($B16="","",SUMIFS(LabData2016[HbA1c唯一],LabData2016[比對身分證前六碼],$AX16,LabData2016[最近一次HbA1c檢查日期],">="&DATE(YEAR(TODAY()),7,1),LabData2016[最近一次HbA1c檢查日期],"<"&DATE(YEAR(TODAY())+1,1,1))) | AH16: =IF($B16="","",SUMIFS(LabData2016[LDL唯一],LabData2016[比對身分證前六碼],$AX16,LabData2016[最近一次LDL檢查日期],">="&DATE(YEAR(TODAY()),1,1),LabData2016[最近一次LDL檢查日期],"<"&DATE(YEAR(TODAY()),7,1))) | AI16: =IF($B16="","",SUMIFS(LabData2016[LDL唯一],LabData2016[比對身分證前六碼],$AX16,LabData2016[最近一次LDL檢查日期],">="&DATE(YEAR(TODAY()),7,1),LabData2016[最近一次LDL檢查日期],"<"&DATE(YEAR(TODAY())+1,1,1))) | AJ16: =IF($B16="","",SUMIFS(LabData2016[UACR唯一],LabData2016[比對身分證前六碼],$AX16,LabData2016[最近一次UACR檢查日期],">="&DATE(YEAR(TODAY()),1,1),LabData2016[最近一次UACR檢查日期],"<"&DATE(YEAR(TODAY()),7,1))) | AK16: =IF($B16="","",SUMIFS(LabData2016[UACR唯一],LabData2016[比對身分證前六碼],$AX16,LabData2016[最近一次UACR檢查日期],">="&DATE(YEAR(TODAY()),7,1),LabData2016[最近一次UACR檢查日期],"<"&DATE(YEAR(TODAY())+1,1,1))) | AL16: =IF($B16="","",IF(NOT(OR($D16="DM only",$D16="DM+CKD",$D16="DM+ASCVD",$D16="CKD+ASCVD",$D16="DM+CKD+ASCVD")),"不適用",IF(AND(IF(OR($D16="DM only",$D16="DM+CKD",$D16="DM+ASCVD",$D16="DM+CKD+ASCVD"),AND($AF16>=1,$AG16>=1),TRUE),AND($AH16>=1,$AI16>=1),IF(OR($D16="DM+CKD",$D16="CKD+ASCVD",$D16="DM+CKD+ASCVD"),AND($AJ16>=1,$AK16>=1),TRUE),OR($AD16="不適用",$AE16>=3)),"達標","未達標"))) | AM16: =IF($B16="","",250) | AN16: =IF($B16="","",30) | AO16: =IF($B16="","",IF(AND($AL16="達標",OR(ISNUMBER(SEARCH("DM",$D16)),ISNUMBER(SEARCH("+",$D16)))),100,0)) | AP16: {=IF($B16="","",IFERROR(INDEX(相容設定!$B$2:$E$9,MATCH($D16,相容設定!$A$2:$A$9,0),MIN(VALUE(LEFT($AQ16,FIND("/",$AQ16)-1)),3)+1),0))} | AQ16: =IF($B16="","",(IF(OR($K16="控制達標",$K16="進步達標"),1,0)+IF(OR($T16="控制達標",$T16="進步達標"),1,0)+IF(OR($AB16="控制達標",$AB16="進步達標"),1,0))&"/"&(IF($K16<>"不適用",1,0)+IF($T16<>"不適用",1,0)+IF($AB16<>"不適用",1,0))) | AR16: =IF($B16="","",AM16+AN16+AO16+AP16) | AS16: =IF($B16="","",250+30+IF(OR(ISNUMBER(SEARCH("DM",$D16)),ISNUMBER(SEARCH("+",$D16))),100,0)+IFERROR(INDEX(相容設定!$F$2:$F$9,MATCH($D16,相容設定!$A$2:$A$9,0)),0)) | AT16: =IF($B16="","",_xlfn.LET(_xlpm.a,--AND($K16<>"",$K16<>"不適用")+--AND($T16<>"",$T16<>"不適用")+--AND($AB16<>"",$AB16<>"不適用"),_xlpm.h,--OR($K16="控制達標",$K16="進步達標",$K16="達標")+--OR($T16="控制達標",$T16="進步達標",$T16="達標")+--OR($AB16="控制達標",$AB16="進步達標",$AB16="達標"),IF(_xlpm.a=0,"",IF(_xlpm.h=_xlpm.a,"🟢",IF(_xlpm.h=0,"🔴","🟡"))))) | AU16: =IF($B16="","",IF($AQ16="0/0","無適用評估項目：依個案狀況常規追蹤",IF($AV16&$AW16="","維持現況並定期追蹤",LEFT($AV16&$AW16,LEN($AV16&$AW16)-1)))) | AV16: =IF($B16="","",IF($K16="未檢驗","HbA1c未檢驗：建議安排檢查；",IF($K16="未達標","HbA1c未達標：建議安排複檢；",""))&IF($T16="未檢驗","LDL未檢驗：建議安排檢查；",IF($T16="未達標","LDL未達標：建議安排複檢；",""))&IF($AB16="未檢驗","UACR未檢驗：建議安排尿液檢查；",IF($AB16="未達標","UACR未達標：建議安排尿液複檢；",""))) | AW16: =IF($B16="","",IF($AL16<>"未達標","",IF(AND($E16<>"不適用",$AF16<1),"HbA1c上半年缺檢：安排檢驗；","")&IF(AND($E16<>"不適用",$AG16<1),"HbA1c下半年缺檢：安排檢驗；","")&IF(AND($M16<>"不適用",$AH16<1),"LDL上半年缺檢：安排檢驗；","")&IF(AND($M16<>"不適用",$AI16<1),"LDL下半年缺檢：安排檢驗；","")&IF(AND($V16<>"不適用",$AJ16<1),"UACR上半年缺檢：安排尿液檢查；","")&IF(AND($V16<>"不適用",$AK16<1),"UACR下半年缺檢：安排尿液檢查；","")&_xlfn.LET(_xlpm.bpNeed,IFERROR(VALUE(SUBSTITUTE($AD16,"次","")),0),IF(AND(_xlpm.bpNeed>0,$AE16<_xlpm.bpNeed),"BP次數不足：尚缺"&(_xlpm.bpNeed-$AE16)&"次；","")))) | AX16: =IF($B16="","",LEFT($B16,6)) | AY16: =IF($C16="","",IF(ISNUMBER($C16),TEXT($C16,"yyyy-mm-dd"),TEXT(DATE(VALUE(LEFT($C16,3))+1911,VALUE(MID($C16,5,2)),VALUE(RIGHT($C16,2))),"yyyy-mm-dd")))
... A189: {=IFERROR(IF(INDEX(PatientCriteria[身分證號],ROWS($A$4:A189))="","",ROWS($A$4:A189)),"")} | B189: {=IFERROR(IF(INDEX(PatientCriteria[身分證號],ROWS($A$4:A189))="","",INDEX(PatientCriteria[身分證號],ROWS($A$4:A189))),"")} | C189: {=IF($B189="","",IFERROR(INDEX(PatientCriteria[生日],ROWS($A$4:A189)),""))} | D189: {=IF($B189="","",IFERROR(INDEX(PatientCriteria[疾病組合],ROWS($A$4:A189)),""))} | E189: {=IF($B189="","",IFERROR(INDEX(PatientCriteria[HbA1c達標標準],ROWS($A$4:A189)),""))} | F189: =IF($B189="","",IF($G189="","",IFERROR(SUMIFS(LabData2016[最近一次HbA1c檢查結果(%)],LabData2016[比對身分證前六碼],$AX189,LabData2016[最近一次HbA1c檢查日期],$G189,LabData2016[HbA1c唯一],1),""))) | G189: {=IF($B189="","",IFERROR(_xlfn.AGGREGATE(14,6,LabData2016[最近一次HbA1c檢查日期]/((LabData2016[比對身分證前六碼]=$AX189)*(LabData2016[HbA1c唯一]=1)),1),""))} | H189: =IF($B189="","",IF($I189="","",IFERROR(SUMIFS(LabData2016[最近一次HbA1c檢查結果(%)],LabData2016[比對身分證前六碼],$AX189,LabData2016[最近一次HbA1c檢查日期],$I189,LabData2016[HbA1c唯一],1),""))) | I189: {=IF($B189="","",IFERROR(_xlfn.AGGREGATE(14,6,LabData2016[最近一次HbA1c檢查日期]/((LabData2016[比對身分證前六碼]=$AX189)*(LabData2016[HbA1c唯一]=1)),2),""))} | J189: =IF($B189="","",IF(AND(G189<>"",I189<>""),G189-I189,"")) | K189: =IF($B189="","",IF($E189="不適用","不適用",IF($F189="","未檢驗",IF(AND($AF189+$AG189>=2,$AG189>=1),IF(OR($F189<VALUE(SUBSTITUTE(SUBSTITUTE($E189,"<",""),"%","")),SUMIFS(LabData2016[HbA1c唯一],LabData2016[比對身分證前六碼],$AX189,LabData2016[最近一次HbA1c檢查結果(%)],"<"&VALUE(SUBSTITUTE(SUBSTITUTE($E189,"<",""),"%","")),LabData2016[最近一次HbA1c檢查日期],">="&DATE(YEAR(TODAY()),1,1),LabData2016[最近一次HbA1c檢查日期],"<"&DATE(YEAR(TODAY())+1,1,1))/($AF189+$AG189)>=0.5),"控制達標",IF(ISNUMBER($H189),IF(AND($J189>=84,$F189-$H189<0),"進步達標","未達標"),"未達標")),"未達標")))) | L189: =IF($B189="","",IF($K189="不適用","不適用",IF($K189="未檢驗","無檢驗資料","全年"&($AF189+$AG189)&"次／下半年"&$AG189&"次／"&SUMIFS(LabData2016[HbA1c唯一],LabData2016[比對身分證前六碼],$AX189,LabData2016[最近一次HbA1c檢查結果(%)],"<"&VALUE(SUBSTITUTE(SUBSTITUTE($E189,"<",""),"%","")),LabData2016[最近一次HbA1c檢查日期],">="&DATE(YEAR(TODAY()),1,1),LabData2016[最近一次HbA1c檢查日期],"<"&DATE(YEAR(TODAY())+1,1,1))&"/"&($AF189+$AG189)&"達標"))) | M189: {=IF($B189="","",IFERROR(INDEX(PatientCriteria[LDL達標標準],ROWS($A$4:A189)),""))} | N189: =IF($B189="","",IF($O189="","",IFERROR(SUMIFS(LabData2016[最近一次LDL檢查結果(mg/dL)],LabData2016[比對身分證前六碼],$AX189,LabData2016[最近一次LDL檢查日期],$O189,LabData2016[LDL唯一],1),""))) | O189: {=IF($B189="","",IFERROR(_xlfn.AGGREGATE(14,6,LabData2016[最近一次LDL檢查日期]/((LabData2016[比對身分證前六碼]=$AX189)*(LabData2016[LDL唯一]=1)),1),""))} | P189: =IF($B189="","",IF($Q189="","",IFERROR(SUMIFS(LabData2016[最近一次LDL檢查結果(mg/dL)],LabData2016[比對身分證前六碼],$AX189,LabData2016[最近一次LDL檢查日期],$Q189,LabData2016[LDL唯一],1),""))) | Q189: {=IF($B189="","",IFERROR(_xlfn.AGGREGATE(14,6,LabData2016[最近一次LDL檢查日期]/((LabData2016[比對身分證前六碼]=$AX189)*(LabData2016[LDL唯一]=1)),2),""))} | R189: =IF($B189="","",IF(AND(O189<>"",Q189<>""),O189-Q189,"")) | S189: {=IF($B189="","",IFERROR(_xlfn.AGGREGATE(15,6,LabData2016[最近一次LDL檢查結果(mg/dL)]/((LabData2016[比對身分證前六碼]=$AX189)*(LabData2016[LDL唯一]=1)),1),""))} | T189: =IF($B189="","",IF($M189="不適用","不適用",IF($N189="","未檢驗",IF(OR(AND($D189="DM only",$O189>=DATE(YEAR(TODAY()),1,1),$O189<DATE(YEAR(TODAY())+1,1,1),$N189<VALUE(SUBSTITUTE($M189,"<",""))),AND($AH189>=1,$AI189>=1,OR($N189<VALUE(SUBSTITUTE($M189,"<","")),SUMIFS(LabData2016[LDL唯一],LabData2016[比對身分證前六碼],$AX189,LabData2016[最近一次LDL檢查結果(mg/dL)],"<"&VALUE(SUBSTITUTE($M189,"<","")),LabData2016[最近一次LDL檢查日期],">="&DATE(YEAR(TODAY()),1,1),LabData2016[最近一次LDL檢查日期],"<"&DATE(YEAR(TODAY())+1,1,1))/($AH189+$AI189)>=0.5))),"控制達標",IF(AND($AH189>=1,$AI189>=1,ISNUMBER($P189),$R189>84,$N189-$P189<0),"進步達標","未達標"))))) | U189: =IF($B189="","",IF($T189="不適用","不適用",IF($T189="未檢驗","無檢驗資料","全年"&($AH189+$AI189)&"次／下半年"&$AI189&"次／"&SUMIFS(LabData2016[LDL唯一],LabData2016[比對身分證前六碼],$AX189,LabData2016[最近一次LDL檢查結果(mg/dL)],"<"&VALUE(SUBSTITUTE($M189,"<","")),LabData2016[最近一次LDL檢查日期],">="&DATE(YEAR(TODAY()),1,1),LabData2016[最近一次LDL檢查日期],"<"&DATE(YEAR(TODAY())+1,1,1))&"/"&($AH189+$AI189)&"達標"))) | V189: {=IF($B189="","",IFERROR(INDEX(PatientCriteria[UACR達標標準],ROWS($A$4:A189)),""))} | W189: =IF($B189="","",IF($X189="","",IFERROR(SUMIFS(LabData2016[最近一次UACR檢查結果(mg/gm)],LabData2016[比對身分證前六碼],$AX189,LabData2016[最近一次UACR檢查日期],$X189,LabData2016[UACR唯一],1),""))) | X189: {=IF($B189="","",IFERROR(_xlfn.AGGREGATE(14,6,LabData2016[最近一次UACR檢查日期]/((LabData2016[比對身分證前六碼]=$AX189)*(LabData2016[UACR唯一]=1)),1),""))} | Y189: =IF($B189="","",IF($Z189="","",IFERROR(SUMIFS(LabData2016[最近一次UACR檢查結果(mg/gm)],LabData2016[比對身分證前六碼],$AX189,LabData2016[最近一次UACR檢查日期],$Z189,LabData2016[UACR唯一],1),""))) | Z189: {=IF($B189="","",IFERROR(_xlfn.AGGREGATE(14,6,LabData2016[最近一次UACR檢查日期]/((LabData2016[比對身分證前六碼]=$AX189)*(LabData2016[UACR唯一]=1)),2),""))} | AA189: =IF($B189="","",IF(AND(X189<>"",Z189<>""),X189-Z189,"")) | AB189: =IF($B189="","",IF($V189="不適用","不適用",IF($W189="","未檢驗",IF(AND($AJ189+$AK189>=2,$AK189>=1),IF(OR($W189<30,SUMIFS(LabData2016[UACR唯一],LabData2016[比對身分證前六碼],$AX189,LabData2016[最近一次UACR檢查結果(mg/gm)],"<30",LabData2016[最近一次UACR檢查日期],">="&DATE(YEAR(TODAY()),1,1),LabData2016[最近一次UACR檢查日期],"<"&DATE(YEAR(TODAY())+1,1,1))/($AJ189+$AK189)>=0.5),"控制達標",IF(ISNUMBER($Y189),IF(AND($AA189>=84,$W189-$Y189<0),"進步達標","未達標"),"未達標")),"未達標")))) | AC189: =IF($B189="","",IF($AB189="不適用","不適用",IF($AB189="未檢驗","無檢驗資料","全年"&($AJ189+$AK189)&"次／下半年"&$AK189&"次／"&SUMIFS(LabData2016[UACR唯一],LabData2016[比對身分證前六碼],$AX189,LabData2016[最近一次UACR檢查結果(mg/gm)],"<30",LabData2016[最近一次UACR檢查日期],">="&DATE(YEAR(TODAY()),1,1),LabData2016[最近一次UACR檢查日期],"<"&DATE(YEAR(TODAY())+1,1,1))&"/"&($AJ189+$AK189)&"達標"))) | AD189: {=IF($B189="","",IFERROR(INDEX(PatientCriteria[BP檢驗次數達標標準],ROWS($A$4:A189)),""))} | AE189: {=IF($B189="","",_xlfn.LET(_xlpm.bp,LabData2016[最近一次BP檢查日期],_xlpm.ym,IF(ISNUMBER(_xlpm.bp),TEXT(_xlpm.bp,"yyyy-mm"),LEFT(_xlpm.bp,7)),_xlpm.matched,_xlfn._xlws.FILTER(_xlpm.ym,(LabData2016[比對身分證前六碼]=$AX189)*(LabData2016[比對生日西元]=$AY189)*(_xlpm.ym<>"")*(LEFT(_xlpm.ym,4)=TEXT(YEAR(TODAY()),"0")),""),IF(INDEX(_xlpm.matched,1)="",0,ROWS(_xlfn.UNIQUE(_xlpm.matched)))))} | AF189: =IF($B189="","",SUMIFS(LabData2016[HbA1c唯一],LabData2016[比對身分證前六碼],$AX189,LabData2016[最近一次HbA1c檢查日期],">="&DATE(YEAR(TODAY()),1,1),LabData2016[最近一次HbA1c檢查日期],"<"&DATE(YEAR(TODAY()),7,1))) | AG189: =IF($B189="","",SUMIFS(LabData2016[HbA1c唯一],LabData2016[比對身分證前六碼],$AX189,LabData2016[最近一次HbA1c檢查日期],">="&DATE(YEAR(TODAY()),7,1),LabData2016[最近一次HbA1c檢查日期],"<"&DATE(YEAR(TODAY())+1,1,1))) | AH189: =IF($B189="","",SUMIFS(LabData2016[LDL唯一],LabData2016[比對身分證前六碼],$AX189,LabData2016[最近一次LDL檢查日期],">="&DATE(YEAR(TODAY()),1,1),LabData2016[最近一次LDL檢查日期],"<"&DATE(YEAR(TODAY()),7,1))) | AI189: =IF($B189="","",SUMIFS(LabData2016[LDL唯一],LabData2016[比對身分證前六碼],$AX189,LabData2016[最近一次LDL檢查日期],">="&DATE(YEAR(TODAY()),7,1),LabData2016[最近一次LDL檢查日期],"<"&DATE(YEAR(TODAY())+1,1,1))) | AJ189: =IF($B189="","",SUMIFS(LabData2016[UACR唯一],LabData2016[比對身分證前六碼],$AX189,LabData2016[最近一次UACR檢查日期],">="&DATE(YEAR(TODAY()),1,1),LabData2016[最近一次UACR檢查日期],"<"&DATE(YEAR(TODAY()),7,1))) | AK189: =IF($B189="","",SUMIFS(LabData2016[UACR唯一],LabData2016[比對身分證前六碼],$AX189,LabData2016[最近一次UACR檢查日期],">="&DATE(YEAR(TODAY()),7,1),LabData2016[最近一次UACR檢查日期],"<"&DATE(YEAR(TODAY())+1,1,1))) | AL189: =IF($B189="","",IF(NOT(OR($D189="DM only",$D189="DM+CKD",$D189="DM+ASCVD",$D189="CKD+ASCVD",$D189="DM+CKD+ASCVD")),"不適用",IF(AND(IF(OR($D189="DM only",$D189="DM+CKD",$D189="DM+ASCVD",$D189="DM+CKD+ASCVD"),AND($AF189>=1,$AG189>=1),TRUE),AND($AH189>=1,$AI189>=1),IF(OR($D189="DM+CKD",$D189="CKD+ASCVD",$D189="DM+CKD+ASCVD"),AND($AJ189>=1,$AK189>=1),TRUE),OR($AD189="不適用",$AE189>=3)),"達標","未達標"))) | AM189: =IF($B189="","",250) | AN189: =IF($B189="","",30) | AO189: =IF($B189="","",IF(AND($AL189="達標",OR(ISNUMBER(SEARCH("DM",$D189)),ISNUMBER(SEARCH("+",$D189)))),100,0)) | AP189: {=IF($B189="","",IFERROR(INDEX(相容設定!$B$2:$E$9,MATCH($D189,相容設定!$A$2:$A$9,0),MIN(VALUE(LEFT($AQ189,FIND("/",$AQ189)-1)),3)+1),0))} | AQ189: =IF($B189="","",(IF(OR($K189="控制達標",$K189="進步達標"),1,0)+IF(OR($T189="控制達標",$T189="進步達標"),1,0)+IF(OR($AB189="控制達標",$AB189="進步達標"),1,0))&"/"&(IF($K189<>"不適用",1,0)+IF($T189<>"不適用",1,0)+IF($AB189<>"不適用",1,0))) | AR189: =IF($B189="","",AM189+AN189+AO189+AP189) | AS189: =IF($B189="","",250+30+IF(OR(ISNUMBER(SEARCH("DM",$D189)),ISNUMBER(SEARCH("+",$D189))),100,0)+IFERROR(INDEX(相容設定!$F$2:$F$9,MATCH($D189,相容設定!$A$2:$A$9,0)),0)) | AT189: =IF($B189="","",_xlfn.LET(_xlpm.a,--AND($K189<>"",$K189<>"不適用")+--AND($T189<>"",$T189<>"不適用")+--AND($AB189<>"",$AB189<>"不適用"),_xlpm.h,--OR($K189="控制達標",$K189="進步達標",$K189="達標")+--OR($T189="控制達標",$T189="進步達標",$T189="達標")+--OR($AB189="控制達標",$AB189="進步達標",$AB189="達標"),IF(_xlpm.a=0,"",IF(_xlpm.h=_xlpm.a,"🟢",IF(_xlpm.h=0,"🔴","🟡"))))) | AU189: =IF($B189="","",IF($AQ189="0/0","無適用評估項目：依個案狀況常規追蹤",IF($AV189&$AW189="","維持現況並定期追蹤",LEFT($AV189&$AW189,LEN($AV189&$AW189)-1)))) | AV189: =IF($B189="","",IF($K189="未檢驗","HbA1c未檢驗：建議安排檢查；",IF($K189="未達標","HbA1c未達標：建議安排複檢；",""))&IF($T189="未檢驗","LDL未檢驗：建議安排檢查；",IF($T189="未達標","LDL未達標：建議安排複檢；",""))&IF($AB189="未檢驗","UACR未檢驗：建議安排尿液檢查；",IF($AB189="未達標","UACR未達標：建議安排尿液複檢；",""))) | AW189: =IF($B189="","",IF($AL189<>"未達標","",IF(AND($E189<>"不適用",$AF189<1),"HbA1c上半年缺檢：安排檢驗；","")&IF(AND($E189<>"不適用",$AG189<1),"HbA1c下半年缺檢：安排檢驗；","")&IF(AND($M189<>"不適用",$AH189<1),"LDL上半年缺檢：安排檢驗；","")&IF(AND($M189<>"不適用",$AI189<1),"LDL下半年缺檢：安排檢驗；","")&IF(AND($V189<>"不適用",$AJ189<1),"UACR上半年缺檢：安排尿液檢查；","")&IF(AND($V189<>"不適用",$AK189<1),"UACR下半年缺檢：安排尿液檢查；","")&_xlfn.LET(_xlpm.bpNeed,IFERROR(VALUE(SUBSTITUTE($AD189,"次","")),0),IF(AND(_xlpm.bpNeed>0,$AE189<_xlpm.bpNeed),"BP次數不足：尚缺"&(_xlpm.bpNeed-$AE189)&"次；","")))) | AX189: =IF($B189="","",LEFT($B189,6)) | AY189: =IF($C189="","",IF(ISNUMBER($C189),TEXT($C189,"yyyy-mm-dd"),TEXT(DATE(VALUE(LEFT($C189,3))+1911,VALUE(MID($C189,5,2)),VALUE(RIGHT($C189,2))),"yyyy-mm-dd")))
A190: {=IFERROR(IF(INDEX(PatientCriteria[身分證號],ROWS($A$4:A190))="","",ROWS($A$4:A190)),"")} | B190: {=IFERROR(IF(INDEX(PatientCriteria[身分證號],ROWS($A$4:A190))="","",INDEX(PatientCriteria[身分證號],ROWS($A$4:A190))),"")} | C190: {=IF($B190="","",IFERROR(INDEX(PatientCriteria[生日],ROWS($A$4:A190)),""))} | D190: {=IF($B190="","",IFERROR(INDEX(PatientCriteria[疾病組合],ROWS($A$4:A190)),""))} | E190: {=IF($B190="","",IFERROR(INDEX(PatientCriteria[HbA1c達標標準],ROWS($A$4:A190)),""))} | F190: =IF($B190="","",IF($G190="","",IFERROR(SUMIFS(LabData2016[最近一次HbA1c檢查結果(%)],LabData2016[比對身分證前六碼],$AX190,LabData2016[最近一次HbA1c檢查日期],$G190,LabData2016[HbA1c唯一],1),""))) | G190: {=IF($B190="","",IFERROR(_xlfn.AGGREGATE(14,6,LabData2016[最近一次HbA1c檢查日期]/((LabData2016[比對身分證前六碼]=$AX190)*(LabData2016[HbA1c唯一]=1)),1),""))} | H190: =IF($B190="","",IF($I190="","",IFERROR(SUMIFS(LabData2016[最近一次HbA1c檢查結果(%)],LabData2016[比對身分證前六碼],$AX190,LabData2016[最近一次HbA1c檢查日期],$I190,LabData2016[HbA1c唯一],1),""))) | I190: {=IF($B190="","",IFERROR(_xlfn.AGGREGATE(14,6,LabData2016[最近一次HbA1c檢查日期]/((LabData2016[比對身分證前六碼]=$AX190)*(LabData2016[HbA1c唯一]=1)),2),""))} | J190: =IF($B190="","",IF(AND(G190<>"",I190<>""),G190-I190,"")) | K190: =IF($B190="","",IF($E190="不適用","不適用",IF($F190="","未檢驗",IF(AND($AF190+$AG190>=2,$AG190>=1),IF(OR($F190<VALUE(SUBSTITUTE(SUBSTITUTE($E190,"<",""),"%","")),SUMIFS(LabData2016[HbA1c唯一],LabData2016[比對身分證前六碼],$AX190,LabData2016[最近一次HbA1c檢查結果(%)],"<"&VALUE(SUBSTITUTE(SUBSTITUTE($E190,"<",""),"%","")),LabData2016[最近一次HbA1c檢查日期],">="&DATE(YEAR(TODAY()),1,1),LabData2016[最近一次HbA1c檢查日期],"<"&DATE(YEAR(TODAY())+1,1,1))/($AF190+$AG190)>=0.5),"控制達標",IF(ISNUMBER($H190),IF(AND($J190>=84,$F190-$H190<0),"進步達標","未達標"),"未達標")),"未達標")))) | L190: =IF($B190="","",IF($K190="不適用","不適用",IF($K190="未檢驗","無檢驗資料","全年"&($AF190+$AG190)&"次／下半年"&$AG190&"次／"&SUMIFS(LabData2016[HbA1c唯一],LabData2016[比對身分證前六碼],$AX190,LabData2016[最近一次HbA1c檢查結果(%)],"<"&VALUE(SUBSTITUTE(SUBSTITUTE($E190,"<",""),"%","")),LabData2016[最近一次HbA1c檢查日期],">="&DATE(YEAR(TODAY()),1,1),LabData2016[最近一次HbA1c檢查日期],"<"&DATE(YEAR(TODAY())+1,1,1))&"/"&($AF190+$AG190)&"達標"))) | M190: {=IF($B190="","",IFERROR(INDEX(PatientCriteria[LDL達標標準],ROWS($A$4:A190)),""))} | N190: =IF($B190="","",IF($O190="","",IFERROR(SUMIFS(LabData2016[最近一次LDL檢查結果(mg/dL)],LabData2016[比對身分證前六碼],$AX190,LabData2016[最近一次LDL檢查日期],$O190,LabData2016[LDL唯一],1),""))) | O190: {=IF($B190="","",IFERROR(_xlfn.AGGREGATE(14,6,LabData2016[最近一次LDL檢查日期]/((LabData2016[比對身分證前六碼]=$AX190)*(LabData2016[LDL唯一]=1)),1),""))} | P190: =IF($B190="","",IF($Q190="","",IFERROR(SUMIFS(LabData2016[最近一次LDL檢查結果(mg/dL)],LabData2016[比對身分證前六碼],$AX190,LabData2016[最近一次LDL檢查日期],$Q190,LabData2016[LDL唯一],1),""))) | Q190: {=IF($B190="","",IFERROR(_xlfn.AGGREGATE(14,6,LabData2016[最近一次LDL檢查日期]/((LabData2016[比對身分證前六碼]=$AX190)*(LabData2016[LDL唯一]=1)),2),""))} | R190: =IF($B190="","",IF(AND(O190<>"",Q190<>""),O190-Q190,"")) | S190: {=IF($B190="","",IFERROR(_xlfn.AGGREGATE(15,6,LabData2016[最近一次LDL檢查結果(mg/dL)]/((LabData2016[比對身分證前六碼]=$AX190)*(LabData2016[LDL唯一]=1)),1),""))} | T190: =IF($B190="","",IF($M190="不適用","不適用",IF($N190="","未檢驗",IF(OR(AND($D190="DM only",$O190>=DATE(YEAR(TODAY()),1,1),$O190<DATE(YEAR(TODAY())+1,1,1),$N190<VALUE(SUBSTITUTE($M190,"<",""))),AND($AH190>=1,$AI190>=1,OR($N190<VALUE(SUBSTITUTE($M190,"<","")),SUMIFS(LabData2016[LDL唯一],LabData2016[比對身分證前六碼],$AX190,LabData2016[最近一次LDL檢查結果(mg/dL)],"<"&VALUE(SUBSTITUTE($M190,"<","")),LabData2016[最近一次LDL檢查日期],">="&DATE(YEAR(TODAY()),1,1),LabData2016[最近一次LDL檢查日期],"<"&DATE(YEAR(TODAY())+1,1,1))/($AH190+$AI190)>=0.5))),"控制達標",IF(AND($AH190>=1,$AI190>=1,ISNUMBER($P190),$R190>84,$N190-$P190<0),"進步達標","未達標"))))) | U190: =IF($B190="","",IF($T190="不適用","不適用",IF($T190="未檢驗","無檢驗資料","全年"&($AH190+$AI190)&"次／下半年"&$AI190&"次／"&SUMIFS(LabData2016[LDL唯一],LabData2016[比對身分證前六碼],$AX190,LabData2016[最近一次LDL檢查結果(mg/dL)],"<"&VALUE(SUBSTITUTE($M190,"<","")),LabData2016[最近一次LDL檢查日期],">="&DATE(YEAR(TODAY()),1,1),LabData2016[最近一次LDL檢查日期],"<"&DATE(YEAR(TODAY())+1,1,1))&"/"&($AH190+$AI190)&"達標"))) | V190: {=IF($B190="","",IFERROR(INDEX(PatientCriteria[UACR達標標準],ROWS($A$4:A190)),""))} | W190: =IF($B190="","",IF($X190="","",IFERROR(SUMIFS(LabData2016[最近一次UACR檢查結果(mg/gm)],LabData2016[比對身分證前六碼],$AX190,LabData2016[最近一次UACR檢查日期],$X190,LabData2016[UACR唯一],1),""))) | X190: {=IF($B190="","",IFERROR(_xlfn.AGGREGATE(14,6,LabData2016[最近一次UACR檢查日期]/((LabData2016[比對身分證前六碼]=$AX190)*(LabData2016[UACR唯一]=1)),1),""))} | Y190: =IF($B190="","",IF($Z190="","",IFERROR(SUMIFS(LabData2016[最近一次UACR檢查結果(mg/gm)],LabData2016[比對身分證前六碼],$AX190,LabData2016[最近一次UACR檢查日期],$Z190,LabData2016[UACR唯一],1),""))) | Z190: {=IF($B190="","",IFERROR(_xlfn.AGGREGATE(14,6,LabData2016[最近一次UACR檢查日期]/((LabData2016[比對身分證前六碼]=$AX190)*(LabData2016[UACR唯一]=1)),2),""))} | AA190: =IF($B190="","",IF(AND(X190<>"",Z190<>""),X190-Z190,"")) | AB190: =IF($B190="","",IF($V190="不適用","不適用",IF($W190="","未檢驗",IF(AND($AJ190+$AK190>=2,$AK190>=1),IF(OR($W190<30,SUMIFS(LabData2016[UACR唯一],LabData2016[比對身分證前六碼],$AX190,LabData2016[最近一次UACR檢查結果(mg/gm)],"<30",LabData2016[最近一次UACR檢查日期],">="&DATE(YEAR(TODAY()),1,1),LabData2016[最近一次UACR檢查日期],"<"&DATE(YEAR(TODAY())+1,1,1))/($AJ190+$AK190)>=0.5),"控制達標",IF(ISNUMBER($Y190),IF(AND($AA190>=84,$W190-$Y190<0),"進步達標","未達標"),"未達標")),"未達標")))) | AC190: =IF($B190="","",IF($AB190="不適用","不適用",IF($AB190="未檢驗","無檢驗資料","全年"&($AJ190+$AK190)&"次／下半年"&$AK190&"次／"&SUMIFS(LabData2016[UACR唯一],LabData2016[比對身分證前六碼],$AX190,LabData2016[最近一次UACR檢查結果(mg/gm)],"<30",LabData2016[最近一次UACR檢查日期],">="&DATE(YEAR(TODAY()),1,1),LabData2016[最近一次UACR檢查日期],"<"&DATE(YEAR(TODAY())+1,1,1))&"/"&($AJ190+$AK190)&"達標"))) | AD190: {=IF($B190="","",IFERROR(INDEX(PatientCriteria[BP檢驗次數達標標準],ROWS($A$4:A190)),""))} | AE190: {=IF($B190="","",_xlfn.LET(_xlpm.bp,LabData2016[最近一次BP檢查日期],_xlpm.ym,IF(ISNUMBER(_xlpm.bp),TEXT(_xlpm.bp,"yyyy-mm"),LEFT(_xlpm.bp,7)),_xlpm.matched,_xlfn._xlws.FILTER(_xlpm.ym,(LabData2016[比對身分證前六碼]=$AX190)*(LabData2016[比對生日西元]=$AY190)*(_xlpm.ym<>"")*(LEFT(_xlpm.ym,4)=TEXT(YEAR(TODAY()),"0")),""),IF(INDEX(_xlpm.matched,1)="",0,ROWS(_xlfn.UNIQUE(_xlpm.matched)))))} | AF190: =IF($B190="","",SUMIFS(LabData2016[HbA1c唯一],LabData2016[比對身分證前六碼],$AX190,LabData2016[最近一次HbA1c檢查日期],">="&DATE(YEAR(TODAY()),1,1),LabData2016[最近一次HbA1c檢查日期],"<"&DATE(YEAR(TODAY()),7,1))) | AG190: =IF($B190="","",SUMIFS(LabData2016[HbA1c唯一],LabData2016[比對身分證前六碼],$AX190,LabData2016[最近一次HbA1c檢查日期],">="&DATE(YEAR(TODAY()),7,1),LabData2016[最近一次HbA1c檢查日期],"<"&DATE(YEAR(TODAY())+1,1,1))) | AH190: =IF($B190="","",SUMIFS(LabData2016[LDL唯一],LabData2016[比對身分證前六碼],$AX190,LabData2016[最近一次LDL檢查日期],">="&DATE(YEAR(TODAY()),1,1),LabData2016[最近一次LDL檢查日期],"<"&DATE(YEAR(TODAY()),7,1))) | AI190: =IF($B190="","",SUMIFS(LabData2016[LDL唯一],LabData2016[比對身分證前六碼],$AX190,LabData2016[最近一次LDL檢查日期],">="&DATE(YEAR(TODAY()),7,1),LabData2016[最近一次LDL檢查日期],"<"&DATE(YEAR(TODAY())+1,1,1))) | AJ190: =IF($B190="","",SUMIFS(LabData2016[UACR唯一],LabData2016[比對身分證前六碼],$AX190,LabData2016[最近一次UACR檢查日期],">="&DATE(YEAR(TODAY()),1,1),LabData2016[最近一次UACR檢查日期],"<"&DATE(YEAR(TODAY()),7,1))) | AK190: =IF($B190="","",SUMIFS(LabData2016[UACR唯一],LabData2016[比對身分證前六碼],$AX190,LabData2016[最近一次UACR檢查日期],">="&DATE(YEAR(TODAY()),7,1),LabData2016[最近一次UACR檢查日期],"<"&DATE(YEAR(TODAY())+1,1,1))) | AL190: =IF($B190="","",IF(NOT(OR($D190="DM only",$D190="DM+CKD",$D190="DM+ASCVD",$D190="CKD+ASCVD",$D190="DM+CKD+ASCVD")),"不適用",IF(AND(IF(OR($D190="DM only",$D190="DM+CKD",$D190="DM+ASCVD",$D190="DM+CKD+ASCVD"),AND($AF190>=1,$AG190>=1),TRUE),AND($AH190>=1,$AI190>=1),IF(OR($D190="DM+CKD",$D190="CKD+ASCVD",$D190="DM+CKD+ASCVD"),AND($AJ190>=1,$AK190>=1),TRUE),OR($AD190="不適用",$AE190>=3)),"達標","未達標"))) | AM190: =IF($B190="","",250) | AN190: =IF($B190="","",30) | AO190: =IF($B190="","",IF(AND($AL190="達標",OR(ISNUMBER(SEARCH("DM",$D190)),ISNUMBER(SEARCH("+",$D190)))),100,0)) | AP190: {=IF($B190="","",IFERROR(INDEX(相容設定!$B$2:$E$9,MATCH($D190,相容設定!$A$2:$A$9,0),MIN(VALUE(LEFT($AQ190,FIND("/",$AQ190)-1)),3)+1),0))} | AQ190: =IF($B190="","",(IF(OR($K190="控制達標",$K190="進步達標"),1,0)+IF(OR($T190="控制達標",$T190="進步達標"),1,0)+IF(OR($AB190="控制達標",$AB190="進步達標"),1,0))&"/"&(IF($K190<>"不適用",1,0)+IF($T190<>"不適用",1,0)+IF($AB190<>"不適用",1,0))) | AR190: =IF($B190="","",AM190+AN190+AO190+AP190) | AS190: =IF($B190="","",250+30+IF(OR(ISNUMBER(SEARCH("DM",$D190)),ISNUMBER(SEARCH("+",$D190))),100,0)+IFERROR(INDEX(相容設定!$F$2:$F$9,MATCH($D190,相容設定!$A$2:$A$9,0)),0)) | AT190: =IF($B190="","",_xlfn.LET(_xlpm.a,--AND($K190<>"",$K190<>"不適用")+--AND($T190<>"",$T190<>"不適用")+--AND($AB190<>"",$AB190<>"不適用"),_xlpm.h,--OR($K190="控制達標",$K190="進步達標",$K190="達標")+--OR($T190="控制達標",$T190="進步達標",$T190="達標")+--OR($AB190="控制達標",$AB190="進步達標",$AB190="達標"),IF(_xlpm.a=0,"",IF(_xlpm.h=_xlpm.a,"🟢",IF(_xlpm.h=0,"🔴","🟡"))))) | AU190: =IF($B190="","",IF($AQ190="0/0","無適用評估項目：依個案狀況常規追蹤",IF($AV190&$AW190="","維持現況並定期追蹤",LEFT($AV190&$AW190,LEN($AV190&$AW190)-1)))) | AW190: =IF($B190="","",IF($AL190<>"未達標","",IF(AND($E190<>"不適用",$AF190<1),"HbA1c上半年缺檢：安排檢驗；","")&IF(AND($E190<>"不適用",$AG190<1),"HbA1c下半年缺檢：安排檢驗；","")&IF(AND($M190<>"不適用",$AH190<1),"LDL上半年缺檢：安排檢驗；","")&IF(AND($M190<>"不適用",$AI190<1),"LDL下半年缺檢：安排檢驗；","")&IF(AND($V190<>"不適用",$AJ190<1),"UACR上半年缺檢：安排尿液檢查；","")&IF(AND($V190<>"不適用",$AK190<1),"UACR下半年缺檢：安排尿液檢查；","")&_xlfn.LET(_xlpm.bpNeed,IFERROR(VALUE(SUBSTITUTE($AD190,"次","")),0),IF(AND(_xlpm.bpNeed>0,$AE190<_xlpm.bpNeed),"BP次數不足：尚缺"&(_xlpm.bpNeed-$AE190)&"次；",""))))
